BEGIN:VCALENDAR
VERSION:2.0
PRODID:-//Thames Yacht Club - ECPv6.15.17//NONSGML v1.0//EN
CALSCALE:GREGORIAN
METHOD:PUBLISH
X-ORIGINAL-URL:https://thamesyc.org
X-WR-CALDESC:Events for Thames Yacht Club
REFRESH-INTERVAL;VALUE=DURATION:PT1H
X-Robots-Tag:noindex
X-PUBLISHED-TTL:PT1H
BEGIN:VTIMEZONE
TZID:America/New_York
BEGIN:DAYLIGHT
TZOFFSETFROM:-0500
TZOFFSETTO:-0400
TZNAME:EDT
DTSTART:20150308T070000
END:DAYLIGHT
BEGIN:STANDARD
TZOFFSETFROM:-0400
TZOFFSETTO:-0500
TZNAME:EST
DTSTART:20151101T060000
END:STANDARD
BEGIN:DAYLIGHT
TZOFFSETFROM:-0500
TZOFFSETTO:-0400
TZNAME:EDT
DTSTART:20160313T070000
END:DAYLIGHT
BEGIN:STANDARD
TZOFFSETFROM:-0400
TZOFFSETTO:-0500
TZNAME:EST
DTSTART:20161106T060000
END:STANDARD
BEGIN:DAYLIGHT
TZOFFSETFROM:-0500
TZOFFSETTO:-0400
TZNAME:EDT
DTSTART:20170312T070000
END:DAYLIGHT
BEGIN:STANDARD
TZOFFSETFROM:-0400
TZOFFSETTO:-0500
TZNAME:EST
DTSTART:20171105T060000
END:STANDARD
BEGIN:DAYLIGHT
TZOFFSETFROM:-0500
TZOFFSETTO:-0400
TZNAME:EDT
DTSTART:20180311T070000
END:DAYLIGHT
BEGIN:STANDARD
TZOFFSETFROM:-0400
TZOFFSETTO:-0500
TZNAME:EST
DTSTART:20181104T060000
END:STANDARD
BEGIN:DAYLIGHT
TZOFFSETFROM:-0500
TZOFFSETTO:-0400
TZNAME:EDT
DTSTART:20190310T070000
END:DAYLIGHT
BEGIN:STANDARD
TZOFFSETFROM:-0400
TZOFFSETTO:-0500
TZNAME:EST
DTSTART:20191103T060000
END:STANDARD
END:VTIMEZONE
BEGIN:VEVENT
DTSTART;TZID=America/New_York:20181028T160000
DTEND;TZID=America/New_York:20181028T200000
DTSTAMP:20260424T095018
CREATED:20180828T133617Z
LAST-MODIFIED:20180828T133617Z
UID:10034259-1540742400-1540756800@thamesyc.org
SUMMARY:85th Anniversary Celebration
DESCRIPTION:
URL:https://thamesyc.org/event/85th-anniversary-celebration/
LOCATION:Thames Yacht Club\, 396 Pequot Avenue\, New London\, CT\, 06320\, United States
CATEGORIES:Club Wide Event
GEO:41.3308391;-72.0946565
X-APPLE-STRUCTURED-LOCATION;VALUE=URI;X-ADDRESS=Thames Yacht Club 396 Pequot Avenue New London CT 06320 United States;X-APPLE-RADIUS=500;X-TITLE=396 Pequot Avenue:geo:-72.0946565,41.3308391
END:VEVENT
BEGIN:VEVENT
DTSTART;TZID=America/New_York:20180929T190000
DTEND;TZID=America/New_York:20180929T210000
DTSTAMP:20260424T095018
CREATED:20180831T135230Z
LAST-MODIFIED:20180831T135230Z
UID:10034260-1538247600-1538254800@thamesyc.org
SUMMARY:Movies Above the Beach - Father Goose
DESCRIPTION:
URL:https://thamesyc.org/event/movies-above-the-beach-father-goose/
LOCATION:Thames Yacht Club\, 396 Pequot Avenue\, New London\, CT\, 06320\, United States
CATEGORIES:Club Wide Event
GEO:41.3308391;-72.0946565
X-APPLE-STRUCTURED-LOCATION;VALUE=URI;X-ADDRESS=Thames Yacht Club 396 Pequot Avenue New London CT 06320 United States;X-APPLE-RADIUS=500;X-TITLE=396 Pequot Avenue:geo:-72.0946565,41.3308391
END:VEVENT
BEGIN:VEVENT
DTSTART;TZID=America/New_York:20180917T120000
DTEND;TZID=America/New_York:20180917T180000
DTSTAMP:20260424T095018
CREATED:20180917T123645Z
LAST-MODIFIED:20180917T123645Z
UID:10034263-1537185600-1537207200@thamesyc.org
SUMMARY:TYC Launch Schedule
DESCRIPTION:The TYC Launch is available on Channel 71. \n  \n 
URL:https://thamesyc.org/event/tyc-launch-schedule-150/
LOCATION:Thames Yacht Club\, 396 Pequot Avenue\, New London\, CT\, 06320\, United States
CATEGORIES:TYC Launch Schedule
GEO:41.3308391;-72.0946565
X-APPLE-STRUCTURED-LOCATION;VALUE=URI;X-ADDRESS=Thames Yacht Club 396 Pequot Avenue New London CT 06320 United States;X-APPLE-RADIUS=500;X-TITLE=396 Pequot Avenue:geo:-72.0946565,41.3308391
END:VEVENT
BEGIN:VEVENT
DTSTART;TZID=America/New_York:20180907T193000
DTEND;TZID=America/New_York:20180907T213000
DTSTAMP:20260424T095018
CREATED:20180903T040146Z
LAST-MODIFIED:20180903T040146Z
UID:10034261-1536348600-1536355800@thamesyc.org
SUMMARY:Movie Night on the Beach - The Finest Hours
DESCRIPTION:
URL:https://thamesyc.org/event/movie-night-on-the-beach-the-finest-hours/
LOCATION:Thames Yacht Club\, 396 Pequot Avenue\, New London\, CT\, 06320\, United States
CATEGORIES:Club Wide Event
GEO:41.3308391;-72.0946565
X-APPLE-STRUCTURED-LOCATION;VALUE=URI;X-ADDRESS=Thames Yacht Club 396 Pequot Avenue New London CT 06320 United States;X-APPLE-RADIUS=500;X-TITLE=396 Pequot Avenue:geo:-72.0946565,41.3308391
END:VEVENT
BEGIN:VEVENT
DTSTART;TZID=America/New_York:20160604T170000
DTEND;TZID=America/New_York:20160604T220000
DTSTAMP:20260424T095018
CREATED:20160523T200905Z
LAST-MODIFIED:20160523T200905Z
UID:10033752-1465059600-1465077600@thamesyc.org
SUMMARY:Private Party
DESCRIPTION:2nd Floor of Club for Private Party.
URL:https://thamesyc.org/event/private-party-2/
LOCATION:Thames Yacht Club\, 396 Pequot Avenue\, New London\, CT\, 06320\, United States
CATEGORIES:Facility Rental
GEO:41.3308391;-72.0946565
X-APPLE-STRUCTURED-LOCATION;VALUE=URI;X-ADDRESS=Thames Yacht Club 396 Pequot Avenue New London CT 06320 United States;X-APPLE-RADIUS=500;X-TITLE=396 Pequot Avenue:geo:-72.0946565,41.3308391
END:VEVENT
BEGIN:VEVENT
DTSTART;TZID=America/New_York:20160523T170000
DTEND;TZID=America/New_York:20160523T220000
DTSTAMP:20260424T095018
CREATED:20160523T200347Z
LAST-MODIFIED:20160523T200347Z
UID:10033750-1464022800-1464040800@thamesyc.org
SUMMARY:Private Party
DESCRIPTION:2nd Floor of the Club.
URL:https://thamesyc.org/event/private-party/
LOCATION:Thames Yacht Club\, 396 Pequot Avenue\, New London\, CT\, 06320\, United States
CATEGORIES:Facility Rental
GEO:41.3308391;-72.0946565
X-APPLE-STRUCTURED-LOCATION;VALUE=URI;X-ADDRESS=Thames Yacht Club 396 Pequot Avenue New London CT 06320 United States;X-APPLE-RADIUS=500;X-TITLE=396 Pequot Avenue:geo:-72.0946565,41.3308391
END:VEVENT
END:VCALENDAR