BEGIN:VCALENDAR
VERSION:2.0
PRODID:-//Thames Yacht Club - ECPv6.15.17//NONSGML v1.0//EN
CALSCALE:GREGORIAN
METHOD:PUBLISH
X-WR-CALNAME:Thames Yacht Club
X-ORIGINAL-URL:https://thamesyc.org
X-WR-CALDESC:Events for Thames Yacht Club
REFRESH-INTERVAL;VALUE=DURATION:PT1H
X-Robots-Tag:noindex
X-PUBLISHED-TTL:PT1H
BEGIN:VTIMEZONE
TZID:America/New_York
BEGIN:DAYLIGHT
TZOFFSETFROM:-0500
TZOFFSETTO:-0400
TZNAME:EDT
DTSTART:20170312T070000
END:DAYLIGHT
BEGIN:STANDARD
TZOFFSETFROM:-0400
TZOFFSETTO:-0500
TZNAME:EST
DTSTART:20171105T060000
END:STANDARD
BEGIN:DAYLIGHT
TZOFFSETFROM:-0500
TZOFFSETTO:-0400
TZNAME:EDT
DTSTART:20180311T070000
END:DAYLIGHT
BEGIN:STANDARD
TZOFFSETFROM:-0400
TZOFFSETTO:-0500
TZNAME:EST
DTSTART:20181104T060000
END:STANDARD
BEGIN:DAYLIGHT
TZOFFSETFROM:-0500
TZOFFSETTO:-0400
TZNAME:EDT
DTSTART:20190310T070000
END:DAYLIGHT
BEGIN:STANDARD
TZOFFSETFROM:-0400
TZOFFSETTO:-0500
TZNAME:EST
DTSTART:20191103T060000
END:STANDARD
BEGIN:DAYLIGHT
TZOFFSETFROM:-0500
TZOFFSETTO:-0400
TZNAME:EDT
DTSTART:20200308T070000
END:DAYLIGHT
BEGIN:STANDARD
TZOFFSETFROM:-0400
TZOFFSETTO:-0500
TZNAME:EST
DTSTART:20201101T060000
END:STANDARD
BEGIN:DAYLIGHT
TZOFFSETFROM:-0500
TZOFFSETTO:-0400
TZNAME:EDT
DTSTART:20210314T070000
END:DAYLIGHT
BEGIN:STANDARD
TZOFFSETFROM:-0400
TZOFFSETTO:-0500
TZNAME:EST
DTSTART:20211107T060000
END:STANDARD
BEGIN:DAYLIGHT
TZOFFSETFROM:-0500
TZOFFSETTO:-0400
TZNAME:EDT
DTSTART:20220313T070000
END:DAYLIGHT
BEGIN:STANDARD
TZOFFSETFROM:-0400
TZOFFSETTO:-0500
TZNAME:EST
DTSTART:20221106T060000
END:STANDARD
END:VTIMEZONE
BEGIN:VEVENT
DTSTART;TZID=America/New_York:20210508T110000
DTEND;TZID=America/New_York:20210508T140000
DTSTAMP:20260424T014755
CREATED:20210505T171906Z
LAST-MODIFIED:20210505T171906Z
UID:10034555-1620471600-1620482400@thamesyc.org
SUMMARY:Queen Merry Cleanup Day
DESCRIPTION:Bring shovels\, ice scrapers and snow shovels to clean the mussels and growth off the bottom of the Queen Merry.
URL:https://thamesyc.org/event/queen-merry-cleanup-day/
LOCATION:Fort Trumbull Marina\, 93 Trumbull St\, New London\, CT\, 06320\, United States
CATEGORIES:Club Wide Event
END:VEVENT
BEGIN:VEVENT
DTSTART;TZID=America/New_York:20190401T170000
DTEND;TZID=America/New_York:20190401T210000
DTSTAMP:20260424T014755
CREATED:20190402T020526Z
LAST-MODIFIED:20190402T020526Z
UID:10034316-1554138000-1554152400@thamesyc.org
SUMMARY:TYC Hospice Regatta
DESCRIPTION:Click here for all of the details!
URL:https://thamesyc.org/event/tyc-hospice-regatta/
LOCATION:Thames Yacht Club\, 396 Pequot Avenue\, New London\, CT\, 06320\, United States
CATEGORIES:Racing
GEO:41.3308391;-72.0946565
X-APPLE-STRUCTURED-LOCATION;VALUE=URI;X-ADDRESS=Thames Yacht Club 396 Pequot Avenue New London CT 06320 United States;X-APPLE-RADIUS=500;X-TITLE=396 Pequot Avenue:geo:-72.0946565,41.3308391
END:VEVENT
BEGIN:VEVENT
DTSTART;TZID=America/New_York:20181028T133000
DTEND;TZID=America/New_York:20181028T170000
DTSTAMP:20260424T014755
CREATED:20180410T235216Z
LAST-MODIFIED:20180410T235216Z
UID:10034190-1540733400-1540746000@thamesyc.org
SUMMARY:The Chowder Series
DESCRIPTION:First warning at 1330.  For more information please click here.
URL:https://thamesyc.org/event/the-chowder-series-2/2018-10-28/
LOCATION:Thames Yacht Club\, 396 Pequot Avenue\, New London\, CT\, 06320\, United States
CATEGORIES:Racing
GEO:41.3308391;-72.0946565
X-APPLE-STRUCTURED-LOCATION;VALUE=URI;X-ADDRESS=Thames Yacht Club 396 Pequot Avenue New London CT 06320 United States;X-APPLE-RADIUS=500;X-TITLE=396 Pequot Avenue:geo:-72.0946565,41.3308391
END:VEVENT
BEGIN:VEVENT
DTSTART;TZID=America/New_York:20181021T133000
DTEND;TZID=America/New_York:20181021T170000
DTSTAMP:20260424T014755
CREATED:20180410T235216Z
LAST-MODIFIED:20180410T235216Z
UID:10034189-1540128600-1540141200@thamesyc.org
SUMMARY:The Chowder Series
DESCRIPTION:First warning at 1330.  For more information please click here.
URL:https://thamesyc.org/event/the-chowder-series-2/2018-10-21/
LOCATION:Thames Yacht Club\, 396 Pequot Avenue\, New London\, CT\, 06320\, United States
CATEGORIES:Racing
GEO:41.3308391;-72.0946565
X-APPLE-STRUCTURED-LOCATION;VALUE=URI;X-ADDRESS=Thames Yacht Club 396 Pequot Avenue New London CT 06320 United States;X-APPLE-RADIUS=500;X-TITLE=396 Pequot Avenue:geo:-72.0946565,41.3308391
END:VEVENT
BEGIN:VEVENT
DTSTART;TZID=America/New_York:20181014T133000
DTEND;TZID=America/New_York:20181014T170000
DTSTAMP:20260424T014755
CREATED:20180410T235216Z
LAST-MODIFIED:20180410T235216Z
UID:10034188-1539523800-1539536400@thamesyc.org
SUMMARY:The Chowder Series
DESCRIPTION:First warning at 1330.  For more information please click here.
URL:https://thamesyc.org/event/the-chowder-series-2/2018-10-14/
LOCATION:Thames Yacht Club\, 396 Pequot Avenue\, New London\, CT\, 06320\, United States
CATEGORIES:Racing
GEO:41.3308391;-72.0946565
X-APPLE-STRUCTURED-LOCATION;VALUE=URI;X-ADDRESS=Thames Yacht Club 396 Pequot Avenue New London CT 06320 United States;X-APPLE-RADIUS=500;X-TITLE=396 Pequot Avenue:geo:-72.0946565,41.3308391
END:VEVENT
BEGIN:VEVENT
DTSTART;TZID=America/New_York:20181007T133000
DTEND;TZID=America/New_York:20181007T170000
DTSTAMP:20260424T014755
CREATED:20180410T235216Z
LAST-MODIFIED:20180410T235216Z
UID:10034187-1538919000-1538931600@thamesyc.org
SUMMARY:The Chowder Series
DESCRIPTION:First warning at 1330.  For more information please click here.
URL:https://thamesyc.org/event/the-chowder-series-2/2018-10-07/
LOCATION:Thames Yacht Club\, 396 Pequot Avenue\, New London\, CT\, 06320\, United States
CATEGORIES:Racing
GEO:41.3308391;-72.0946565
X-APPLE-STRUCTURED-LOCATION;VALUE=URI;X-ADDRESS=Thames Yacht Club 396 Pequot Avenue New London CT 06320 United States;X-APPLE-RADIUS=500;X-TITLE=396 Pequot Avenue:geo:-72.0946565,41.3308391
END:VEVENT
BEGIN:VEVENT
DTSTART;TZID=America/New_York:20180930T133000
DTEND;TZID=America/New_York:20180930T170000
DTSTAMP:20260424T014755
CREATED:20180410T235216Z
LAST-MODIFIED:20180410T235216Z
UID:10034186-1538314200-1538326800@thamesyc.org
SUMMARY:The Chowder Series
DESCRIPTION:First warning at 1330.  For more information please click here.
URL:https://thamesyc.org/event/the-chowder-series-2/2018-09-30/
LOCATION:Thames Yacht Club\, 396 Pequot Avenue\, New London\, CT\, 06320\, United States
CATEGORIES:Racing
GEO:41.3308391;-72.0946565
X-APPLE-STRUCTURED-LOCATION;VALUE=URI;X-ADDRESS=Thames Yacht Club 396 Pequot Avenue New London CT 06320 United States;X-APPLE-RADIUS=500;X-TITLE=396 Pequot Avenue:geo:-72.0946565,41.3308391
END:VEVENT
BEGIN:VEVENT
DTSTART;TZID=America/New_York:20180923T133000
DTEND;TZID=America/New_York:20180923T170000
DTSTAMP:20260424T014755
CREATED:20180410T235216Z
LAST-MODIFIED:20180410T235216Z
UID:10034185-1537709400-1537722000@thamesyc.org
SUMMARY:The Chowder Series
DESCRIPTION:First warning at 1330.  For more information please click here.
URL:https://thamesyc.org/event/the-chowder-series-2/2018-09-23/
LOCATION:Thames Yacht Club\, 396 Pequot Avenue\, New London\, CT\, 06320\, United States
CATEGORIES:Racing
GEO:41.3308391;-72.0946565
X-APPLE-STRUCTURED-LOCATION;VALUE=URI;X-ADDRESS=Thames Yacht Club 396 Pequot Avenue New London CT 06320 United States;X-APPLE-RADIUS=500;X-TITLE=396 Pequot Avenue:geo:-72.0946565,41.3308391
END:VEVENT
BEGIN:VEVENT
DTSTART;TZID=America/New_York:20180909T105500
DTEND;TZID=America/New_York:20180909T170000
DTSTAMP:20260424T014755
CREATED:20180410T235952Z
LAST-MODIFIED:20180410T235952Z
UID:10034191-1536490500-1536512400@thamesyc.org
SUMMARY:Commodore's Trophy Race
DESCRIPTION:First warning 1055. Please click here for more information.
URL:https://thamesyc.org/event/commodores-trophy-race-3/
LOCATION:Thames Yacht Club\, 396 Pequot Avenue\, New London\, CT\, 06320\, United States
CATEGORIES:Racing
GEO:41.3308391;-72.0946565
X-APPLE-STRUCTURED-LOCATION;VALUE=URI;X-ADDRESS=Thames Yacht Club 396 Pequot Avenue New London CT 06320 United States;X-APPLE-RADIUS=500;X-TITLE=396 Pequot Avenue:geo:-72.0946565,41.3308391
END:VEVENT
BEGIN:VEVENT
DTSTART;TZID=America/New_York:20180905T180000
DTEND;TZID=America/New_York:20180905T210000
DTSTAMP:20260424T014755
CREATED:20180410T142837Z
LAST-MODIFIED:20180410T142837Z
UID:10034159-1536170400-1536181200@thamesyc.org
SUMMARY:Keel Boat Wednesday Night Racing Summer Series
DESCRIPTION:First warning at 1810. For more information please click here.
URL:https://thamesyc.org/event/keel-boat-wednesday-night-racing-summer-series/2018-09-05/
LOCATION:Thames Yacht Club\, 396 Pequot Avenue\, New London\, CT\, 06320\, United States
CATEGORIES:Racing
GEO:41.3308391;-72.0946565
X-APPLE-STRUCTURED-LOCATION;VALUE=URI;X-ADDRESS=Thames Yacht Club 396 Pequot Avenue New London CT 06320 United States;X-APPLE-RADIUS=500;X-TITLE=396 Pequot Avenue:geo:-72.0946565,41.3308391
END:VEVENT
BEGIN:VEVENT
DTSTART;TZID=America/New_York:20180830T180000
DTEND;TZID=America/New_York:20180830T210000
DTSTAMP:20260424T014755
CREATED:20180410T153000Z
LAST-MODIFIED:20180410T153000Z
UID:10034183-1535652000-1535662800@thamesyc.org
SUMMARY:Force 5 Thursday Night Summer Series
DESCRIPTION:
URL:https://thamesyc.org/event/force-5-thursday-night-summer-series/2018-08-30/
LOCATION:Thames Yacht Club\, 396 Pequot Avenue\, New London\, CT\, 06320\, United States
CATEGORIES:Racing
GEO:41.3308391;-72.0946565
X-APPLE-STRUCTURED-LOCATION;VALUE=URI;X-ADDRESS=Thames Yacht Club 396 Pequot Avenue New London CT 06320 United States;X-APPLE-RADIUS=500;X-TITLE=396 Pequot Avenue:geo:-72.0946565,41.3308391
END:VEVENT
BEGIN:VEVENT
DTSTART;TZID=America/New_York:20180829T180000
DTEND;TZID=America/New_York:20180829T210000
DTSTAMP:20260424T014755
CREATED:20180410T142837Z
LAST-MODIFIED:20180410T142837Z
UID:10034158-1535565600-1535576400@thamesyc.org
SUMMARY:Keel Boat Wednesday Night Racing Summer Series
DESCRIPTION:First warning at 1810. For more information please click here.
URL:https://thamesyc.org/event/keel-boat-wednesday-night-racing-summer-series/2018-08-29/
LOCATION:Thames Yacht Club\, 396 Pequot Avenue\, New London\, CT\, 06320\, United States
CATEGORIES:Racing
GEO:41.3308391;-72.0946565
X-APPLE-STRUCTURED-LOCATION;VALUE=URI;X-ADDRESS=Thames Yacht Club 396 Pequot Avenue New London CT 06320 United States;X-APPLE-RADIUS=500;X-TITLE=396 Pequot Avenue:geo:-72.0946565,41.3308391
END:VEVENT
BEGIN:VEVENT
DTSTART;TZID=America/New_York:20180823T180000
DTEND;TZID=America/New_York:20180823T210000
DTSTAMP:20260424T014755
CREATED:20180410T153000Z
LAST-MODIFIED:20180410T153000Z
UID:10034182-1535047200-1535058000@thamesyc.org
SUMMARY:Force 5 Thursday Night Summer Series
DESCRIPTION:
URL:https://thamesyc.org/event/force-5-thursday-night-summer-series/2018-08-23/
LOCATION:Thames Yacht Club\, 396 Pequot Avenue\, New London\, CT\, 06320\, United States
CATEGORIES:Racing
GEO:41.3308391;-72.0946565
X-APPLE-STRUCTURED-LOCATION;VALUE=URI;X-ADDRESS=Thames Yacht Club 396 Pequot Avenue New London CT 06320 United States;X-APPLE-RADIUS=500;X-TITLE=396 Pequot Avenue:geo:-72.0946565,41.3308391
END:VEVENT
BEGIN:VEVENT
DTSTART;TZID=America/New_York:20180822T180000
DTEND;TZID=America/New_York:20180822T210000
DTSTAMP:20260424T014755
CREATED:20180410T142837Z
LAST-MODIFIED:20180410T142837Z
UID:10034157-1534960800-1534971600@thamesyc.org
SUMMARY:Keel Boat Wednesday Night Racing Summer Series
DESCRIPTION:First warning at 1810. For more information please click here.
URL:https://thamesyc.org/event/keel-boat-wednesday-night-racing-summer-series/2018-08-22/
LOCATION:Thames Yacht Club\, 396 Pequot Avenue\, New London\, CT\, 06320\, United States
CATEGORIES:Racing
GEO:41.3308391;-72.0946565
X-APPLE-STRUCTURED-LOCATION;VALUE=URI;X-ADDRESS=Thames Yacht Club 396 Pequot Avenue New London CT 06320 United States;X-APPLE-RADIUS=500;X-TITLE=396 Pequot Avenue:geo:-72.0946565,41.3308391
END:VEVENT
BEGIN:VEVENT
DTSTART;TZID=America/New_York:20180816T180000
DTEND;TZID=America/New_York:20180816T210000
DTSTAMP:20260424T014755
CREATED:20180410T153000Z
LAST-MODIFIED:20180410T153000Z
UID:10034181-1534442400-1534453200@thamesyc.org
SUMMARY:Force 5 Thursday Night Summer Series
DESCRIPTION:
URL:https://thamesyc.org/event/force-5-thursday-night-summer-series/2018-08-16/
LOCATION:Thames Yacht Club\, 396 Pequot Avenue\, New London\, CT\, 06320\, United States
CATEGORIES:Racing
GEO:41.3308391;-72.0946565
X-APPLE-STRUCTURED-LOCATION;VALUE=URI;X-ADDRESS=Thames Yacht Club 396 Pequot Avenue New London CT 06320 United States;X-APPLE-RADIUS=500;X-TITLE=396 Pequot Avenue:geo:-72.0946565,41.3308391
END:VEVENT
BEGIN:VEVENT
DTSTART;TZID=America/New_York:20180815T180000
DTEND;TZID=America/New_York:20180815T210000
DTSTAMP:20260424T014755
CREATED:20180410T142837Z
LAST-MODIFIED:20180410T142837Z
UID:10034156-1534356000-1534366800@thamesyc.org
SUMMARY:Keel Boat Wednesday Night Racing Summer Series
DESCRIPTION:First warning at 1810. For more information please click here.
URL:https://thamesyc.org/event/keel-boat-wednesday-night-racing-summer-series/2018-08-15/
LOCATION:Thames Yacht Club\, 396 Pequot Avenue\, New London\, CT\, 06320\, United States
CATEGORIES:Racing
GEO:41.3308391;-72.0946565
X-APPLE-STRUCTURED-LOCATION;VALUE=URI;X-ADDRESS=Thames Yacht Club 396 Pequot Avenue New London CT 06320 United States;X-APPLE-RADIUS=500;X-TITLE=396 Pequot Avenue:geo:-72.0946565,41.3308391
END:VEVENT
BEGIN:VEVENT
DTSTART;TZID=America/New_York:20180809T180000
DTEND;TZID=America/New_York:20180809T210000
DTSTAMP:20260424T014755
CREATED:20180410T153000Z
LAST-MODIFIED:20180410T153000Z
UID:10034180-1533837600-1533848400@thamesyc.org
SUMMARY:Force 5 Thursday Night Summer Series
DESCRIPTION:
URL:https://thamesyc.org/event/force-5-thursday-night-summer-series/2018-08-09/
LOCATION:Thames Yacht Club\, 396 Pequot Avenue\, New London\, CT\, 06320\, United States
CATEGORIES:Racing
GEO:41.3308391;-72.0946565
X-APPLE-STRUCTURED-LOCATION;VALUE=URI;X-ADDRESS=Thames Yacht Club 396 Pequot Avenue New London CT 06320 United States;X-APPLE-RADIUS=500;X-TITLE=396 Pequot Avenue:geo:-72.0946565,41.3308391
END:VEVENT
BEGIN:VEVENT
DTSTART;TZID=America/New_York:20180808T180000
DTEND;TZID=America/New_York:20180808T210000
DTSTAMP:20260424T014755
CREATED:20180410T142837Z
LAST-MODIFIED:20180410T142837Z
UID:10034155-1533751200-1533762000@thamesyc.org
SUMMARY:Keel Boat Wednesday Night Racing Summer Series
DESCRIPTION:First warning at 1810. For more information please click here.
URL:https://thamesyc.org/event/keel-boat-wednesday-night-racing-summer-series/2018-08-08/
LOCATION:Thames Yacht Club\, 396 Pequot Avenue\, New London\, CT\, 06320\, United States
CATEGORIES:Racing
GEO:41.3308391;-72.0946565
X-APPLE-STRUCTURED-LOCATION;VALUE=URI;X-ADDRESS=Thames Yacht Club 396 Pequot Avenue New London CT 06320 United States;X-APPLE-RADIUS=500;X-TITLE=396 Pequot Avenue:geo:-72.0946565,41.3308391
END:VEVENT
BEGIN:VEVENT
DTSTART;TZID=America/New_York:20180802T180000
DTEND;TZID=America/New_York:20180802T210000
DTSTAMP:20260424T014755
CREATED:20180410T153000Z
LAST-MODIFIED:20180410T153000Z
UID:10034179-1533232800-1533243600@thamesyc.org
SUMMARY:Force 5 Thursday Night Summer Series
DESCRIPTION:
URL:https://thamesyc.org/event/force-5-thursday-night-summer-series/2018-08-02/
LOCATION:Thames Yacht Club\, 396 Pequot Avenue\, New London\, CT\, 06320\, United States
CATEGORIES:Racing
GEO:41.3308391;-72.0946565
X-APPLE-STRUCTURED-LOCATION;VALUE=URI;X-ADDRESS=Thames Yacht Club 396 Pequot Avenue New London CT 06320 United States;X-APPLE-RADIUS=500;X-TITLE=396 Pequot Avenue:geo:-72.0946565,41.3308391
END:VEVENT
BEGIN:VEVENT
DTSTART;TZID=America/New_York:20180801T180000
DTEND;TZID=America/New_York:20180801T210000
DTSTAMP:20260424T014755
CREATED:20180410T142837Z
LAST-MODIFIED:20180410T142837Z
UID:10034154-1533146400-1533157200@thamesyc.org
SUMMARY:Keel Boat Wednesday Night Racing Summer Series
DESCRIPTION:First warning at 1810. For more information please click here.
URL:https://thamesyc.org/event/keel-boat-wednesday-night-racing-summer-series/2018-08-01/
LOCATION:Thames Yacht Club\, 396 Pequot Avenue\, New London\, CT\, 06320\, United States
CATEGORIES:Racing
GEO:41.3308391;-72.0946565
X-APPLE-STRUCTURED-LOCATION;VALUE=URI;X-ADDRESS=Thames Yacht Club 396 Pequot Avenue New London CT 06320 United States;X-APPLE-RADIUS=500;X-TITLE=396 Pequot Avenue:geo:-72.0946565,41.3308391
END:VEVENT
BEGIN:VEVENT
DTSTART;TZID=America/New_York:20180726T180000
DTEND;TZID=America/New_York:20180726T210000
DTSTAMP:20260424T014755
CREATED:20180410T153000Z
LAST-MODIFIED:20180410T153000Z
UID:10034178-1532628000-1532638800@thamesyc.org
SUMMARY:Force 5 Thursday Night Summer Series
DESCRIPTION:
URL:https://thamesyc.org/event/force-5-thursday-night-summer-series/2018-07-26/
LOCATION:Thames Yacht Club\, 396 Pequot Avenue\, New London\, CT\, 06320\, United States
CATEGORIES:Racing
GEO:41.3308391;-72.0946565
X-APPLE-STRUCTURED-LOCATION;VALUE=URI;X-ADDRESS=Thames Yacht Club 396 Pequot Avenue New London CT 06320 United States;X-APPLE-RADIUS=500;X-TITLE=396 Pequot Avenue:geo:-72.0946565,41.3308391
END:VEVENT
BEGIN:VEVENT
DTSTART;TZID=America/New_York:20180725T180000
DTEND;TZID=America/New_York:20180725T210000
DTSTAMP:20260424T014755
CREATED:20180410T142837Z
LAST-MODIFIED:20180410T142837Z
UID:10034153-1532541600-1532552400@thamesyc.org
SUMMARY:Keel Boat Wednesday Night Racing Summer Series
DESCRIPTION:First warning at 1810. For more information please click here.
URL:https://thamesyc.org/event/keel-boat-wednesday-night-racing-summer-series/2018-07-25/
LOCATION:Thames Yacht Club\, 396 Pequot Avenue\, New London\, CT\, 06320\, United States
CATEGORIES:Racing
GEO:41.3308391;-72.0946565
X-APPLE-STRUCTURED-LOCATION;VALUE=URI;X-ADDRESS=Thames Yacht Club 396 Pequot Avenue New London CT 06320 United States;X-APPLE-RADIUS=500;X-TITLE=396 Pequot Avenue:geo:-72.0946565,41.3308391
END:VEVENT
BEGIN:VEVENT
DTSTART;TZID=America/New_York:20180719T180000
DTEND;TZID=America/New_York:20180719T210000
DTSTAMP:20260424T014755
CREATED:20180410T143657Z
LAST-MODIFIED:20180410T143657Z
UID:10034177-1532023200-1532034000@thamesyc.org
SUMMARY:Force 5 Thursday Night Spring Series
DESCRIPTION:First Warning at 1810. For more information please click here.
URL:https://thamesyc.org/event/force-5-thursday-night-spring-series/2018-07-19/
LOCATION:Thames Yacht Club\, 396 Pequot Avenue\, New London\, CT\, 06320\, United States
CATEGORIES:Racing
GEO:41.3308391;-72.0946565
X-APPLE-STRUCTURED-LOCATION;VALUE=URI;X-ADDRESS=Thames Yacht Club 396 Pequot Avenue New London CT 06320 United States;X-APPLE-RADIUS=500;X-TITLE=396 Pequot Avenue:geo:-72.0946565,41.3308391
END:VEVENT
BEGIN:VEVENT
DTSTART;TZID=America/New_York:20180718T180000
DTEND;TZID=America/New_York:20180718T210000
DTSTAMP:20260424T014755
CREATED:20180410T142338Z
LAST-MODIFIED:20180410T142338Z
UID:10034152-1531936800-1531947600@thamesyc.org
SUMMARY:Keel Boat Wednesday Night Racing Spring Series
DESCRIPTION:First warning 1810! For more information please click here. \n 
URL:https://thamesyc.org/event/keel-boat-wednesday-night-racing-spring-series/2018-07-18/
LOCATION:Thames Yacht Club\, 396 Pequot Avenue\, New London\, CT\, 06320\, United States
CATEGORIES:Racing
GEO:41.3308391;-72.0946565
X-APPLE-STRUCTURED-LOCATION;VALUE=URI;X-ADDRESS=Thames Yacht Club 396 Pequot Avenue New London CT 06320 United States;X-APPLE-RADIUS=500;X-TITLE=396 Pequot Avenue:geo:-72.0946565,41.3308391
END:VEVENT
BEGIN:VEVENT
DTSTART;TZID=America/New_York:20180712T180000
DTEND;TZID=America/New_York:20180712T210000
DTSTAMP:20260424T014755
CREATED:20180410T143657Z
LAST-MODIFIED:20180410T143657Z
UID:10034176-1531418400-1531429200@thamesyc.org
SUMMARY:Force 5 Thursday Night Spring Series
DESCRIPTION:First Warning at 1810. For more information please click here.
URL:https://thamesyc.org/event/force-5-thursday-night-spring-series/2018-07-12/
LOCATION:Thames Yacht Club\, 396 Pequot Avenue\, New London\, CT\, 06320\, United States
CATEGORIES:Racing
GEO:41.3308391;-72.0946565
X-APPLE-STRUCTURED-LOCATION;VALUE=URI;X-ADDRESS=Thames Yacht Club 396 Pequot Avenue New London CT 06320 United States;X-APPLE-RADIUS=500;X-TITLE=396 Pequot Avenue:geo:-72.0946565,41.3308391
END:VEVENT
BEGIN:VEVENT
DTSTART;TZID=America/New_York:20180711T180000
DTEND;TZID=America/New_York:20180711T210000
DTSTAMP:20260424T014755
CREATED:20180410T142338Z
LAST-MODIFIED:20180410T142338Z
UID:10034151-1531332000-1531342800@thamesyc.org
SUMMARY:Keel Boat Wednesday Night Racing Spring Series
DESCRIPTION:First warning 1810! For more information please click here. \n 
URL:https://thamesyc.org/event/keel-boat-wednesday-night-racing-spring-series/2018-07-11/
LOCATION:Thames Yacht Club\, 396 Pequot Avenue\, New London\, CT\, 06320\, United States
CATEGORIES:Racing
GEO:41.3308391;-72.0946565
X-APPLE-STRUCTURED-LOCATION;VALUE=URI;X-ADDRESS=Thames Yacht Club 396 Pequot Avenue New London CT 06320 United States;X-APPLE-RADIUS=500;X-TITLE=396 Pequot Avenue:geo:-72.0946565,41.3308391
END:VEVENT
BEGIN:VEVENT
DTSTART;TZID=America/New_York:20180705T180000
DTEND;TZID=America/New_York:20180705T210000
DTSTAMP:20260424T014755
CREATED:20180410T143657Z
LAST-MODIFIED:20180410T143657Z
UID:10034175-1530813600-1530824400@thamesyc.org
SUMMARY:Force 5 Thursday Night Spring Series
DESCRIPTION:First Warning at 1810. For more information please click here.
URL:https://thamesyc.org/event/force-5-thursday-night-spring-series/2018-07-05/
LOCATION:Thames Yacht Club\, 396 Pequot Avenue\, New London\, CT\, 06320\, United States
CATEGORIES:Racing
GEO:41.3308391;-72.0946565
X-APPLE-STRUCTURED-LOCATION;VALUE=URI;X-ADDRESS=Thames Yacht Club 396 Pequot Avenue New London CT 06320 United States;X-APPLE-RADIUS=500;X-TITLE=396 Pequot Avenue:geo:-72.0946565,41.3308391
END:VEVENT
BEGIN:VEVENT
DTSTART;TZID=America/New_York:20180704T180000
DTEND;TZID=America/New_York:20180704T210000
DTSTAMP:20260424T014755
CREATED:20180410T142338Z
LAST-MODIFIED:20180410T142338Z
UID:10034150-1530727200-1530738000@thamesyc.org
SUMMARY:Keel Boat Wednesday Night Racing Spring Series
DESCRIPTION:First warning 1810! For more information please click here. \n 
URL:https://thamesyc.org/event/keel-boat-wednesday-night-racing-spring-series/2018-07-04/
LOCATION:Thames Yacht Club\, 396 Pequot Avenue\, New London\, CT\, 06320\, United States
CATEGORIES:Racing
GEO:41.3308391;-72.0946565
X-APPLE-STRUCTURED-LOCATION;VALUE=URI;X-ADDRESS=Thames Yacht Club 396 Pequot Avenue New London CT 06320 United States;X-APPLE-RADIUS=500;X-TITLE=396 Pequot Avenue:geo:-72.0946565,41.3308391
END:VEVENT
BEGIN:VEVENT
DTSTART;TZID=America/New_York:20180704T100000
DTEND;TZID=America/New_York:20180704T170000
DTSTAMP:20260424T014755
CREATED:20180410T202908Z
LAST-MODIFIED:20180410T202908Z
UID:10034184-1530698400-1530723600@thamesyc.org
SUMMARY:Bradbury Memorial Long Distance Race
DESCRIPTION:  \nFirst warning at 10:30 am. For more information please click here.
URL:https://thamesyc.org/event/bradbury-memorial-long-distance-race/
LOCATION:Thames Yacht Club\, 396 Pequot Avenue\, New London\, CT\, 06320\, United States
CATEGORIES:Racing
GEO:41.3308391;-72.0946565
X-APPLE-STRUCTURED-LOCATION;VALUE=URI;X-ADDRESS=Thames Yacht Club 396 Pequot Avenue New London CT 06320 United States;X-APPLE-RADIUS=500;X-TITLE=396 Pequot Avenue:geo:-72.0946565,41.3308391
END:VEVENT
BEGIN:VEVENT
DTSTART;TZID=America/New_York:20180630T100000
DTEND;TZID=America/New_York:20180630T170000
DTSTAMP:20260424T014755
CREATED:20180410T235639Z
LAST-MODIFIED:20180410T235639Z
UID:10034121-1530352800-1530378000@thamesyc.org
SUMMARY:Calvin K. Brouwer Memorial Regatta
DESCRIPTION:For more information please click here.
URL:https://thamesyc.org/event/calvin-k-brouwer-memorial-regatta-2/
LOCATION:Thames Yacht Club\, 396 Pequot Avenue\, New London\, CT\, 06320\, United States
CATEGORIES:Racing
GEO:41.3308391;-72.0946565
X-APPLE-STRUCTURED-LOCATION;VALUE=URI;X-ADDRESS=Thames Yacht Club 396 Pequot Avenue New London CT 06320 United States;X-APPLE-RADIUS=500;X-TITLE=396 Pequot Avenue:geo:-72.0946565,41.3308391
END:VEVENT
END:VCALENDAR