BEGIN:VCALENDAR
VERSION:2.0
PRODID:-//Thames Yacht Club - ECPv6.15.17//NONSGML v1.0//EN
CALSCALE:GREGORIAN
METHOD:PUBLISH
X-WR-CALNAME:Thames Yacht Club
X-ORIGINAL-URL:https://thamesyc.org
X-WR-CALDESC:Events for Thames Yacht Club
REFRESH-INTERVAL;VALUE=DURATION:PT1H
X-Robots-Tag:noindex
X-PUBLISHED-TTL:PT1H
BEGIN:VTIMEZONE
TZID:America/New_York
BEGIN:DAYLIGHT
TZOFFSETFROM:-0500
TZOFFSETTO:-0400
TZNAME:EDT
DTSTART:20160313T070000
END:DAYLIGHT
BEGIN:STANDARD
TZOFFSETFROM:-0400
TZOFFSETTO:-0500
TZNAME:EST
DTSTART:20161106T060000
END:STANDARD
BEGIN:DAYLIGHT
TZOFFSETFROM:-0500
TZOFFSETTO:-0400
TZNAME:EDT
DTSTART:20170312T070000
END:DAYLIGHT
BEGIN:STANDARD
TZOFFSETFROM:-0400
TZOFFSETTO:-0500
TZNAME:EST
DTSTART:20171105T060000
END:STANDARD
BEGIN:DAYLIGHT
TZOFFSETFROM:-0500
TZOFFSETTO:-0400
TZNAME:EDT
DTSTART:20180311T070000
END:DAYLIGHT
BEGIN:STANDARD
TZOFFSETFROM:-0400
TZOFFSETTO:-0500
TZNAME:EST
DTSTART:20181104T060000
END:STANDARD
BEGIN:DAYLIGHT
TZOFFSETFROM:-0500
TZOFFSETTO:-0400
TZNAME:EDT
DTSTART:20190310T070000
END:DAYLIGHT
BEGIN:STANDARD
TZOFFSETFROM:-0400
TZOFFSETTO:-0500
TZNAME:EST
DTSTART:20191103T060000
END:STANDARD
BEGIN:DAYLIGHT
TZOFFSETFROM:-0500
TZOFFSETTO:-0400
TZNAME:EDT
DTSTART:20200308T070000
END:DAYLIGHT
BEGIN:STANDARD
TZOFFSETFROM:-0400
TZOFFSETTO:-0500
TZNAME:EST
DTSTART:20201101T060000
END:STANDARD
BEGIN:DAYLIGHT
TZOFFSETFROM:-0500
TZOFFSETTO:-0400
TZNAME:EDT
DTSTART:20210314T070000
END:DAYLIGHT
BEGIN:STANDARD
TZOFFSETFROM:-0400
TZOFFSETTO:-0500
TZNAME:EST
DTSTART:20211107T060000
END:STANDARD
BEGIN:DAYLIGHT
TZOFFSETFROM:-0500
TZOFFSETTO:-0400
TZNAME:EDT
DTSTART:20220313T070000
END:DAYLIGHT
BEGIN:STANDARD
TZOFFSETFROM:-0400
TZOFFSETTO:-0500
TZNAME:EST
DTSTART:20221106T060000
END:STANDARD
END:VTIMEZONE
BEGIN:VEVENT
DTSTART;TZID=America/New_York:20211003T100000
DTEND;TZID=America/New_York:20211003T180000
DTSTAMP:20260424T021546
CREATED:20211001T032912Z
LAST-MODIFIED:20211001T032912Z
UID:10034609-1633255200-1633284000@thamesyc.org
SUMMARY:Lauch Schedule
DESCRIPTION:The TYC Launch can be raised on VHF 71.
URL:https://thamesyc.org/event/lauch-schedule/2021-10-03/
LOCATION:Thames Yacht Club\, 396 Pequot Avenue\, New London\, CT\, 06320\, United States
CATEGORIES:TYC Launch Schedule
GEO:41.3308391;-72.0946565
X-APPLE-STRUCTURED-LOCATION;VALUE=URI;X-ADDRESS=Thames Yacht Club 396 Pequot Avenue New London CT 06320 United States;X-APPLE-RADIUS=500;X-TITLE=396 Pequot Avenue:geo:-72.0946565,41.3308391
END:VEVENT
BEGIN:VEVENT
DTSTART;TZID=America/New_York:20211002T100000
DTEND;TZID=America/New_York:20211002T180000
DTSTAMP:20260424T021546
CREATED:20211001T032912Z
LAST-MODIFIED:20211001T032912Z
UID:10034608-1633168800-1633197600@thamesyc.org
SUMMARY:Lauch Schedule
DESCRIPTION:The TYC Launch can be raised on VHF 71.
URL:https://thamesyc.org/event/lauch-schedule/2021-10-02/
LOCATION:Thames Yacht Club\, 396 Pequot Avenue\, New London\, CT\, 06320\, United States
CATEGORIES:TYC Launch Schedule
GEO:41.3308391;-72.0946565
X-APPLE-STRUCTURED-LOCATION;VALUE=URI;X-ADDRESS=Thames Yacht Club 396 Pequot Avenue New London CT 06320 United States;X-APPLE-RADIUS=500;X-TITLE=396 Pequot Avenue:geo:-72.0946565,41.3308391
END:VEVENT
BEGIN:VEVENT
DTSTART;TZID=America/New_York:20211001T100000
DTEND;TZID=America/New_York:20211001T180000
DTSTAMP:20260424T021546
CREATED:20211001T032912Z
LAST-MODIFIED:20211001T032912Z
UID:10034607-1633082400-1633111200@thamesyc.org
SUMMARY:Lauch Schedule
DESCRIPTION:The TYC Launch can be raised on VHF 71.
URL:https://thamesyc.org/event/lauch-schedule/2021-10-01/
LOCATION:Thames Yacht Club\, 396 Pequot Avenue\, New London\, CT\, 06320\, United States
CATEGORIES:TYC Launch Schedule
GEO:41.3308391;-72.0946565
X-APPLE-STRUCTURED-LOCATION;VALUE=URI;X-ADDRESS=Thames Yacht Club 396 Pequot Avenue New London CT 06320 United States;X-APPLE-RADIUS=500;X-TITLE=396 Pequot Avenue:geo:-72.0946565,41.3308391
END:VEVENT
BEGIN:VEVENT
DTSTART;TZID=America/New_York:20210926T090000
DTEND;TZID=America/New_York:20210926T190000
DTSTAMP:20260424T021546
CREATED:20210907T234434Z
LAST-MODIFIED:20210907T234434Z
UID:10034606-1632646800-1632682800@thamesyc.org
SUMMARY:Launch Schedule
DESCRIPTION:The TYC Launch is available on VHF Channel 71.
URL:https://thamesyc.org/event/launch-schedule-8/2021-09-26/
LOCATION:Thames Yacht Club\, 396 Pequot Avenue\, New London\, CT\, 06320\, United States
CATEGORIES:TYC Launch Schedule
GEO:41.3308391;-72.0946565
X-APPLE-STRUCTURED-LOCATION;VALUE=URI;X-ADDRESS=Thames Yacht Club 396 Pequot Avenue New London CT 06320 United States;X-APPLE-RADIUS=500;X-TITLE=396 Pequot Avenue:geo:-72.0946565,41.3308391
END:VEVENT
BEGIN:VEVENT
DTSTART;TZID=America/New_York:20210925T090000
DTEND;TZID=America/New_York:20210925T190000
DTSTAMP:20260424T021546
CREATED:20210907T234434Z
LAST-MODIFIED:20210907T234434Z
UID:10034605-1632560400-1632596400@thamesyc.org
SUMMARY:Launch Schedule
DESCRIPTION:The TYC Launch is available on VHF Channel 71.
URL:https://thamesyc.org/event/launch-schedule-8/2021-09-25/
LOCATION:Thames Yacht Club\, 396 Pequot Avenue\, New London\, CT\, 06320\, United States
CATEGORIES:TYC Launch Schedule
GEO:41.3308391;-72.0946565
X-APPLE-STRUCTURED-LOCATION;VALUE=URI;X-ADDRESS=Thames Yacht Club 396 Pequot Avenue New London CT 06320 United States;X-APPLE-RADIUS=500;X-TITLE=396 Pequot Avenue:geo:-72.0946565,41.3308391
END:VEVENT
BEGIN:VEVENT
DTSTART;TZID=America/New_York:20210924T100000
DTEND;TZID=America/New_York:20210924T180000
DTSTAMP:20260424T021546
CREATED:20210907T234218Z
LAST-MODIFIED:20210907T234218Z
UID:10034604-1632477600-1632506400@thamesyc.org
SUMMARY:Launch Schedule
DESCRIPTION:The TYC Launch is available on VHF Channel 71.
URL:https://thamesyc.org/event/launch-schedule-7/2021-09-24/
LOCATION:Thames Yacht Club\, 396 Pequot Avenue\, New London\, CT\, 06320\, United States
CATEGORIES:TYC Launch Schedule
GEO:41.3308391;-72.0946565
X-APPLE-STRUCTURED-LOCATION;VALUE=URI;X-ADDRESS=Thames Yacht Club 396 Pequot Avenue New London CT 06320 United States;X-APPLE-RADIUS=500;X-TITLE=396 Pequot Avenue:geo:-72.0946565,41.3308391
END:VEVENT
BEGIN:VEVENT
DTSTART;TZID=America/New_York:20210923T100000
DTEND;TZID=America/New_York:20210923T180000
DTSTAMP:20260424T021546
CREATED:20210907T234218Z
LAST-MODIFIED:20210907T234218Z
UID:10034603-1632391200-1632420000@thamesyc.org
SUMMARY:Launch Schedule
DESCRIPTION:The TYC Launch is available on VHF Channel 71.
URL:https://thamesyc.org/event/launch-schedule-7/2021-09-23/
LOCATION:Thames Yacht Club\, 396 Pequot Avenue\, New London\, CT\, 06320\, United States
CATEGORIES:TYC Launch Schedule
GEO:41.3308391;-72.0946565
X-APPLE-STRUCTURED-LOCATION;VALUE=URI;X-ADDRESS=Thames Yacht Club 396 Pequot Avenue New London CT 06320 United States;X-APPLE-RADIUS=500;X-TITLE=396 Pequot Avenue:geo:-72.0946565,41.3308391
END:VEVENT
BEGIN:VEVENT
DTSTART;TZID=America/New_York:20210917T100000
DTEND;TZID=America/New_York:20210917T180000
DTSTAMP:20260424T021546
CREATED:20210907T233550Z
LAST-MODIFIED:20210907T233550Z
UID:10034600-1631872800-1631901600@thamesyc.org
SUMMARY:Launch Schedule
DESCRIPTION:The TYC Launch is available on VHF Channel 71.
URL:https://thamesyc.org/event/launch-schedule-5/2021-09-17/
LOCATION:Thames Yacht Club\, 396 Pequot Avenue\, New London\, CT\, 06320\, United States
CATEGORIES:TYC Launch Schedule
GEO:41.3308391;-72.0946565
X-APPLE-STRUCTURED-LOCATION;VALUE=URI;X-ADDRESS=Thames Yacht Club 396 Pequot Avenue New London CT 06320 United States;X-APPLE-RADIUS=500;X-TITLE=396 Pequot Avenue:geo:-72.0946565,41.3308391
END:VEVENT
BEGIN:VEVENT
DTSTART;TZID=America/New_York:20210916T100000
DTEND;TZID=America/New_York:20210916T180000
DTSTAMP:20260424T021546
CREATED:20210907T233550Z
LAST-MODIFIED:20210907T233550Z
UID:10034599-1631786400-1631815200@thamesyc.org
SUMMARY:Launch Schedule
DESCRIPTION:The TYC Launch is available on VHF Channel 71.
URL:https://thamesyc.org/event/launch-schedule-5/2021-09-16/
LOCATION:Thames Yacht Club\, 396 Pequot Avenue\, New London\, CT\, 06320\, United States
CATEGORIES:TYC Launch Schedule
GEO:41.3308391;-72.0946565
X-APPLE-STRUCTURED-LOCATION;VALUE=URI;X-ADDRESS=Thames Yacht Club 396 Pequot Avenue New London CT 06320 United States;X-APPLE-RADIUS=500;X-TITLE=396 Pequot Avenue:geo:-72.0946565,41.3308391
END:VEVENT
BEGIN:VEVENT
DTSTART;TZID=America/New_York:20210912T090000
DTEND;TZID=America/New_York:20210912T190000
DTSTAMP:20260424T021546
CREATED:20210907T233132Z
LAST-MODIFIED:20210907T233249Z
UID:10034598-1631437200-1631473200@thamesyc.org
SUMMARY:Launch Schedule
DESCRIPTION:The TYC Launch is available on VHF Channel 71.
URL:https://thamesyc.org/event/launch-schedule-4/2021-09-12/
LOCATION:Thames Yacht Club\, 396 Pequot Avenue\, New London\, CT\, 06320\, United States
CATEGORIES:TYC Launch Schedule
GEO:41.3308391;-72.0946565
X-APPLE-STRUCTURED-LOCATION;VALUE=URI;X-ADDRESS=Thames Yacht Club 396 Pequot Avenue New London CT 06320 United States;X-APPLE-RADIUS=500;X-TITLE=396 Pequot Avenue:geo:-72.0946565,41.3308391
END:VEVENT
BEGIN:VEVENT
DTSTART;TZID=America/New_York:20210911T090000
DTEND;TZID=America/New_York:20210911T190000
DTSTAMP:20260424T021546
CREATED:20210907T233132Z
LAST-MODIFIED:20210907T233249Z
UID:10034597-1631350800-1631386800@thamesyc.org
SUMMARY:Launch Schedule
DESCRIPTION:The TYC Launch is available on VHF Channel 71.
URL:https://thamesyc.org/event/launch-schedule-4/2021-09-11/
LOCATION:Thames Yacht Club\, 396 Pequot Avenue\, New London\, CT\, 06320\, United States
CATEGORIES:TYC Launch Schedule
GEO:41.3308391;-72.0946565
X-APPLE-STRUCTURED-LOCATION;VALUE=URI;X-ADDRESS=Thames Yacht Club 396 Pequot Avenue New London CT 06320 United States;X-APPLE-RADIUS=500;X-TITLE=396 Pequot Avenue:geo:-72.0946565,41.3308391
END:VEVENT
BEGIN:VEVENT
DTSTART;TZID=America/New_York:20210908T100000
DTEND;TZID=America/New_York:20210908T210000
DTSTAMP:20260424T021546
CREATED:20210907T232616Z
LAST-MODIFIED:20210907T232616Z
UID:10034594-1631095200-1631134800@thamesyc.org
SUMMARY:Launch Schedule
DESCRIPTION:The TYC Launch is available on VHF Channel 71.
URL:https://thamesyc.org/event/launch-schedule-2/
LOCATION:Thames Yacht Club\, 396 Pequot Avenue\, New London\, CT\, 06320\, United States
CATEGORIES:TYC Launch Schedule
GEO:41.3308391;-72.0946565
X-APPLE-STRUCTURED-LOCATION;VALUE=URI;X-ADDRESS=Thames Yacht Club 396 Pequot Avenue New London CT 06320 United States;X-APPLE-RADIUS=500;X-TITLE=396 Pequot Avenue:geo:-72.0946565,41.3308391
END:VEVENT
BEGIN:VEVENT
DTSTART;TZID=America/New_York:20210907T100000
DTEND;TZID=America/New_York:20210907T180000
DTSTAMP:20260424T021546
CREATED:20210907T232259Z
LAST-MODIFIED:20210907T232259Z
UID:10034593-1631008800-1631037600@thamesyc.org
SUMMARY:Launch Schedule
DESCRIPTION:TYC Launch is can be hailed on VHF Channel 71.
URL:https://thamesyc.org/event/launch-schedule/
LOCATION:Thames Yacht Club\, 396 Pequot Avenue\, New London\, CT\, 06320\, United States
CATEGORIES:TYC Launch Schedule
GEO:41.3308391;-72.0946565
X-APPLE-STRUCTURED-LOCATION;VALUE=URI;X-ADDRESS=Thames Yacht Club 396 Pequot Avenue New London CT 06320 United States;X-APPLE-RADIUS=500;X-TITLE=396 Pequot Avenue:geo:-72.0946565,41.3308391
END:VEVENT
BEGIN:VEVENT
DTSTART;TZID=America/New_York:20190927T120000
DTEND;TZID=America/New_York:20190927T180000
DTSTAMP:20260424T021546
CREATED:20190309T045743Z
LAST-MODIFIED:20190309T045743Z
UID:10034300-1569585600-1569607200@thamesyc.org
SUMMARY:TYC Launch Schedule
DESCRIPTION:The TYC Launch can be hailed via VHF on channel 71.
URL:https://thamesyc.org/event/tyc-launch-schedule-158/
LOCATION:Thames Yacht Club\, 396 Pequot Avenue\, New London\, CT\, 06320\, United States
CATEGORIES:TYC Launch Schedule
GEO:41.3308391;-72.0946565
X-APPLE-STRUCTURED-LOCATION;VALUE=URI;X-ADDRESS=Thames Yacht Club 396 Pequot Avenue New London CT 06320 United States;X-APPLE-RADIUS=500;X-TITLE=396 Pequot Avenue:geo:-72.0946565,41.3308391
END:VEVENT
BEGIN:VEVENT
DTSTART;TZID=America/New_York:20190920T120000
DTEND;TZID=America/New_York:20190920T180000
DTSTAMP:20260424T021546
CREATED:20190309T045424Z
LAST-MODIFIED:20190309T045424Z
UID:10034299-1568980800-1569002400@thamesyc.org
SUMMARY:TYC Launch Schedule
DESCRIPTION:The TYC Launch can be hailed via VHF on channel 71.
URL:https://thamesyc.org/event/tyc-launch-schedule-157/
LOCATION:Thames Yacht Club\, 396 Pequot Avenue\, New London\, CT\, 06320\, United States
CATEGORIES:TYC Launch Schedule
GEO:41.3308391;-72.0946565
X-APPLE-STRUCTURED-LOCATION;VALUE=URI;X-ADDRESS=Thames Yacht Club 396 Pequot Avenue New London CT 06320 United States;X-APPLE-RADIUS=500;X-TITLE=396 Pequot Avenue:geo:-72.0946565,41.3308391
END:VEVENT
BEGIN:VEVENT
DTSTART;TZID=America/New_York:20190919T100000
DTEND;TZID=America/New_York:20190919T190000
DTSTAMP:20260424T021546
CREATED:20190309T045245Z
LAST-MODIFIED:20190309T045245Z
UID:10034298-1568887200-1568919600@thamesyc.org
SUMMARY:TYC Launch Schedule
DESCRIPTION:The TYC Launch can be hailed via VHF on channel 71.
URL:https://thamesyc.org/event/tyc-launch-schedule-156/
LOCATION:Thames Yacht Club\, 396 Pequot Avenue\, New London\, CT\, 06320\, United States
CATEGORIES:TYC Launch Schedule
GEO:41.3308391;-72.0946565
X-APPLE-STRUCTURED-LOCATION;VALUE=URI;X-ADDRESS=Thames Yacht Club 396 Pequot Avenue New London CT 06320 United States;X-APPLE-RADIUS=500;X-TITLE=396 Pequot Avenue:geo:-72.0946565,41.3308391
END:VEVENT
BEGIN:VEVENT
DTSTART;TZID=America/New_York:20190618T100000
DTEND;TZID=America/New_York:20190618T180000
DTSTAMP:20260424T021546
CREATED:20190309T051601Z
LAST-MODIFIED:20190309T051601Z
UID:10034301-1560852000-1560880800@thamesyc.org
SUMMARY:TYC Launch Schedule
DESCRIPTION:The TYC Launch can be hailed via VHF on channel 71.
URL:https://thamesyc.org/event/tyc-launch-schedule-165/
LOCATION:Thames Yacht Club\, 396 Pequot Avenue\, New London\, CT\, 06320\, United States
CATEGORIES:TYC Launch Schedule
GEO:41.3308391;-72.0946565
X-APPLE-STRUCTURED-LOCATION;VALUE=URI;X-ADDRESS=Thames Yacht Club 396 Pequot Avenue New London CT 06320 United States;X-APPLE-RADIUS=500;X-TITLE=396 Pequot Avenue:geo:-72.0946565,41.3308391
END:VEVENT
BEGIN:VEVENT
DTSTART;TZID=America/New_York:20190611T100000
DTEND;TZID=America/New_York:20190611T180000
DTSTAMP:20260424T021546
CREATED:20190309T052204Z
LAST-MODIFIED:20190309T052204Z
UID:10034302-1560247200-1560276000@thamesyc.org
SUMMARY:TYC Launch Schedule
DESCRIPTION:The TYC Launch can be hailed via VHF on channel 71.
URL:https://thamesyc.org/event/tyc-launch-schedule-167/
LOCATION:Thames Yacht Club\, 396 Pequot Avenue\, New London\, CT\, 06320\, United States
CATEGORIES:TYC Launch Schedule
GEO:41.3308391;-72.0946565
X-APPLE-STRUCTURED-LOCATION;VALUE=URI;X-ADDRESS=Thames Yacht Club 396 Pequot Avenue New London CT 06320 United States;X-APPLE-RADIUS=500;X-TITLE=396 Pequot Avenue:geo:-72.0946565,41.3308391
END:VEVENT
BEGIN:VEVENT
DTSTART;TZID=America/New_York:20190607T120000
DTEND;TZID=America/New_York:20190607T200000
DTSTAMP:20260424T021546
CREATED:20190309T052828Z
LAST-MODIFIED:20190309T052828Z
UID:10034304-1559908800-1559937600@thamesyc.org
SUMMARY:TYC Launch Schedule
DESCRIPTION:The TYC Launch can be hailed via VHF on channel 71.
URL:https://thamesyc.org/event/tyc-launch-schedule-170/
LOCATION:Thames Yacht Club\, 396 Pequot Avenue\, New London\, CT\, 06320\, United States
CATEGORIES:TYC Launch Schedule
GEO:41.3308391;-72.0946565
X-APPLE-STRUCTURED-LOCATION;VALUE=URI;X-ADDRESS=Thames Yacht Club 396 Pequot Avenue New London CT 06320 United States;X-APPLE-RADIUS=500;X-TITLE=396 Pequot Avenue:geo:-72.0946565,41.3308391
END:VEVENT
BEGIN:VEVENT
DTSTART;TZID=America/New_York:20190607T070000
DTEND;TZID=America/New_York:20190607T090000
DTSTAMP:20260424T021546
CREATED:20190309T052640Z
LAST-MODIFIED:20190309T052701Z
UID:10034303-1559890800-1559898000@thamesyc.org
SUMMARY:TYC Launch Schedule
DESCRIPTION:The TYC Launch can be hailed via VHF on channel 71.
URL:https://thamesyc.org/event/tyc-launch-schedule-169/
LOCATION:Thames Yacht Club\, 396 Pequot Avenue\, New London\, CT\, 06320\, United States
CATEGORIES:TYC Launch Schedule
GEO:41.3308391;-72.0946565
X-APPLE-STRUCTURED-LOCATION;VALUE=URI;X-ADDRESS=Thames Yacht Club 396 Pequot Avenue New London CT 06320 United States;X-APPLE-RADIUS=500;X-TITLE=396 Pequot Avenue:geo:-72.0946565,41.3308391
END:VEVENT
BEGIN:VEVENT
DTSTART;TZID=America/New_York:20190606T120000
DTEND;TZID=America/New_York:20190606T210000
DTSTAMP:20260424T021546
CREATED:20190309T053025Z
LAST-MODIFIED:20190309T053025Z
UID:10034305-1559822400-1559854800@thamesyc.org
SUMMARY:TYC Launch Schedule
DESCRIPTION:The TYC Launch can be hailed via VHF on channel 71.
URL:https://thamesyc.org/event/tyc-launch-schedule-171/
LOCATION:Thames Yacht Club\, 396 Pequot Avenue\, New London\, CT\, 06320\, United States
CATEGORIES:TYC Launch Schedule
GEO:41.3308391;-72.0946565
X-APPLE-STRUCTURED-LOCATION;VALUE=URI;X-ADDRESS=Thames Yacht Club 396 Pequot Avenue New London CT 06320 United States;X-APPLE-RADIUS=500;X-TITLE=396 Pequot Avenue:geo:-72.0946565,41.3308391
END:VEVENT
BEGIN:VEVENT
DTSTART;TZID=America/New_York:20190605T100000
DTEND;TZID=America/New_York:20190605T210000
DTSTAMP:20260424T021546
CREATED:20190309T053211Z
LAST-MODIFIED:20190309T053211Z
UID:10034306-1559728800-1559768400@thamesyc.org
SUMMARY:TYC Launch Schedule
DESCRIPTION:The TYC Launch can be hailed via VHF on channel 71.
URL:https://thamesyc.org/event/tyc-launch-schedule-172/
LOCATION:Thames Yacht Club\, 396 Pequot Avenue\, New London\, CT\, 06320\, United States
CATEGORIES:TYC Launch Schedule
GEO:41.3308391;-72.0946565
X-APPLE-STRUCTURED-LOCATION;VALUE=URI;X-ADDRESS=Thames Yacht Club 396 Pequot Avenue New London CT 06320 United States;X-APPLE-RADIUS=500;X-TITLE=396 Pequot Avenue:geo:-72.0946565,41.3308391
END:VEVENT
BEGIN:VEVENT
DTSTART;TZID=America/New_York:20190604T100000
DTEND;TZID=America/New_York:20190604T180000
DTSTAMP:20260424T021546
CREATED:20190309T053346Z
LAST-MODIFIED:20190309T053346Z
UID:10034308-1559642400-1559671200@thamesyc.org
SUMMARY:TYC Launch Schedule
DESCRIPTION:The TYC Launch can be hailed via VHF on channel 71.
URL:https://thamesyc.org/event/tyc-launch-schedule-173/
LOCATION:Thames Yacht Club\, 396 Pequot Avenue\, New London\, CT\, 06320\, United States
CATEGORIES:TYC Launch Schedule
GEO:41.3308391;-72.0946565
X-APPLE-STRUCTURED-LOCATION;VALUE=URI;X-ADDRESS=Thames Yacht Club 396 Pequot Avenue New London CT 06320 United States;X-APPLE-RADIUS=500;X-TITLE=396 Pequot Avenue:geo:-72.0946565,41.3308391
END:VEVENT
BEGIN:VEVENT
DTSTART;TZID=America/New_York:20190602T090000
DTEND;TZID=America/New_York:20190602T200000
DTSTAMP:20260424T021546
CREATED:20190309T053528Z
LAST-MODIFIED:20190309T053528Z
UID:10034310-1559466000-1559505600@thamesyc.org
SUMMARY:TYC Launch Schedule
DESCRIPTION:The TYC Launch can be hailed via VHF on channel 71.
URL:https://thamesyc.org/event/tyc-launch-schedule-174/
LOCATION:Thames Yacht Club\, 396 Pequot Avenue\, New London\, CT\, 06320\, United States
CATEGORIES:TYC Launch Schedule
GEO:41.3308391;-72.0946565
X-APPLE-STRUCTURED-LOCATION;VALUE=URI;X-ADDRESS=Thames Yacht Club 396 Pequot Avenue New London CT 06320 United States;X-APPLE-RADIUS=500;X-TITLE=396 Pequot Avenue:geo:-72.0946565,41.3308391
END:VEVENT
BEGIN:VEVENT
DTSTART;TZID=America/New_York:20190524T120000
DTEND;TZID=America/New_York:20190524T170000
DTSTAMP:20260424T021546
CREATED:20190309T054303Z
LAST-MODIFIED:20190309T054303Z
UID:10033955-1558699200-1558717200@thamesyc.org
SUMMARY:TYC Launch Schedule
DESCRIPTION:The TYC Launch can be hailed via VHF on channel 71.
URL:https://thamesyc.org/event/tyc-launch-schedule-179/
LOCATION:Thames Yacht Club\, 396 Pequot Avenue\, New London\, CT\, 06320\, United States
CATEGORIES:TYC Launch Schedule
GEO:41.3308391;-72.0946565
X-APPLE-STRUCTURED-LOCATION;VALUE=URI;X-ADDRESS=Thames Yacht Club 396 Pequot Avenue New London CT 06320 United States;X-APPLE-RADIUS=500;X-TITLE=396 Pequot Avenue:geo:-72.0946565,41.3308391
END:VEVENT
BEGIN:VEVENT
DTSTART;TZID=America/New_York:20190519T090000
DTEND;TZID=America/New_York:20190519T170000
DTSTAMP:20260424T021546
CREATED:20190309T054138Z
LAST-MODIFIED:20190309T054138Z
UID:10034312-1558256400-1558285200@thamesyc.org
SUMMARY:TYC Launch Schedule
DESCRIPTION:The TYC Launch can be hailed via VHF on channel 71.
URL:https://thamesyc.org/event/tyc-launch-schedule-178/
LOCATION:Thames Yacht Club\, 396 Pequot Avenue\, New London\, CT\, 06320\, United States
CATEGORIES:TYC Launch Schedule
GEO:41.3308391;-72.0946565
X-APPLE-STRUCTURED-LOCATION;VALUE=URI;X-ADDRESS=Thames Yacht Club 396 Pequot Avenue New London CT 06320 United States;X-APPLE-RADIUS=500;X-TITLE=396 Pequot Avenue:geo:-72.0946565,41.3308391
END:VEVENT
BEGIN:VEVENT
DTSTART;TZID=America/New_York:20171015T100000
DTEND;TZID=America/New_York:20171015T170000
DTSTAMP:20260424T021546
CREATED:20170325T172940Z
LAST-MODIFIED:20170325T172940Z
UID:10034086-1508061600-1508086800@thamesyc.org
SUMMARY:TYC Launch Schedule
DESCRIPTION:The TYC Launch can be hailed on VHF Channel 71.
URL:https://thamesyc.org/event/tyc-launch-schedule-86/2017-10-15/
LOCATION:Thames Yacht Club\, 396 Pequot Avenue\, New London\, CT\, 06320\, United States
CATEGORIES:TYC Launch Schedule
GEO:41.3308391;-72.0946565
X-APPLE-STRUCTURED-LOCATION;VALUE=URI;X-ADDRESS=Thames Yacht Club 396 Pequot Avenue New London CT 06320 United States;X-APPLE-RADIUS=500;X-TITLE=396 Pequot Avenue:geo:-72.0946565,41.3308391
END:VEVENT
BEGIN:VEVENT
DTSTART;TZID=America/New_York:20171014T100000
DTEND;TZID=America/New_York:20171014T170000
DTSTAMP:20260424T021546
CREATED:20170325T172940Z
LAST-MODIFIED:20170325T172940Z
UID:10034085-1507975200-1508000400@thamesyc.org
SUMMARY:TYC Launch Schedule
DESCRIPTION:The TYC Launch can be hailed on VHF Channel 71.
URL:https://thamesyc.org/event/tyc-launch-schedule-86/2017-10-14/
LOCATION:Thames Yacht Club\, 396 Pequot Avenue\, New London\, CT\, 06320\, United States
CATEGORIES:TYC Launch Schedule
GEO:41.3308391;-72.0946565
X-APPLE-STRUCTURED-LOCATION;VALUE=URI;X-ADDRESS=Thames Yacht Club 396 Pequot Avenue New London CT 06320 United States;X-APPLE-RADIUS=500;X-TITLE=396 Pequot Avenue:geo:-72.0946565,41.3308391
END:VEVENT
BEGIN:VEVENT
DTSTART;TZID=America/New_York:20171013T100000
DTEND;TZID=America/New_York:20171013T170000
DTSTAMP:20260424T021546
CREATED:20170325T172940Z
LAST-MODIFIED:20170325T172940Z
UID:10034084-1507888800-1507914000@thamesyc.org
SUMMARY:TYC Launch Schedule
DESCRIPTION:The TYC Launch can be hailed on VHF Channel 71.
URL:https://thamesyc.org/event/tyc-launch-schedule-86/2017-10-13/
LOCATION:Thames Yacht Club\, 396 Pequot Avenue\, New London\, CT\, 06320\, United States
CATEGORIES:TYC Launch Schedule
GEO:41.3308391;-72.0946565
X-APPLE-STRUCTURED-LOCATION;VALUE=URI;X-ADDRESS=Thames Yacht Club 396 Pequot Avenue New London CT 06320 United States;X-APPLE-RADIUS=500;X-TITLE=396 Pequot Avenue:geo:-72.0946565,41.3308391
END:VEVENT
BEGIN:VEVENT
DTSTART;TZID=America/New_York:20171009T100000
DTEND;TZID=America/New_York:20171009T170000
DTSTAMP:20260424T021546
CREATED:20170325T173102Z
LAST-MODIFIED:20170325T173102Z
UID:10034090-1507543200-1507568400@thamesyc.org
SUMMARY:TYC Launch Schedule
DESCRIPTION:The TYC Launch can be hailed on VHF Channel 71.
URL:https://thamesyc.org/event/tyc-launch-schedule-87/2017-10-09/
LOCATION:Thames Yacht Club\, 396 Pequot Avenue\, New London\, CT\, 06320\, United States
CATEGORIES:TYC Launch Schedule
GEO:41.3308391;-72.0946565
X-APPLE-STRUCTURED-LOCATION;VALUE=URI;X-ADDRESS=Thames Yacht Club 396 Pequot Avenue New London CT 06320 United States;X-APPLE-RADIUS=500;X-TITLE=396 Pequot Avenue:geo:-72.0946565,41.3308391
END:VEVENT
END:VCALENDAR