BEGIN:VCALENDAR
VERSION:2.0
PRODID:-//Thames Yacht Club - ECPv6.15.17//NONSGML v1.0//EN
CALSCALE:GREGORIAN
METHOD:PUBLISH
X-ORIGINAL-URL:https://thamesyc.org
X-WR-CALDESC:Events for Thames Yacht Club
REFRESH-INTERVAL;VALUE=DURATION:PT1H
X-Robots-Tag:noindex
X-PUBLISHED-TTL:PT1H
BEGIN:VTIMEZONE
TZID:America/New_York
BEGIN:DAYLIGHT
TZOFFSETFROM:-0500
TZOFFSETTO:-0400
TZNAME:EDT
DTSTART:20130310T070000
END:DAYLIGHT
BEGIN:STANDARD
TZOFFSETFROM:-0400
TZOFFSETTO:-0500
TZNAME:EST
DTSTART:20131103T060000
END:STANDARD
BEGIN:DAYLIGHT
TZOFFSETFROM:-0500
TZOFFSETTO:-0400
TZNAME:EDT
DTSTART:20140309T070000
END:DAYLIGHT
BEGIN:STANDARD
TZOFFSETFROM:-0400
TZOFFSETTO:-0500
TZNAME:EST
DTSTART:20141102T060000
END:STANDARD
BEGIN:DAYLIGHT
TZOFFSETFROM:-0500
TZOFFSETTO:-0400
TZNAME:EDT
DTSTART:20150308T070000
END:DAYLIGHT
BEGIN:STANDARD
TZOFFSETFROM:-0400
TZOFFSETTO:-0500
TZNAME:EST
DTSTART:20151101T060000
END:STANDARD
END:VTIMEZONE
BEGIN:VEVENT
DTSTART;TZID=America/New_York:20141115T080000
DTEND;TZID=America/New_York:20141115T170000
DTSTAMP:20260424T121705
CREATED:20141005T201558Z
LAST-MODIFIED:20141005T202053Z
UID:10033547-1416038400-1416070800@thamesyc.org
SUMMARY:Clean Up Day
DESCRIPTION:Rain Date:  November 16th\, 8:00am
URL:https://thamesyc.org/event/clean-date/
LOCATION:Thames Yacht Club\, 396 Pequot Avenue\, New London\, CT\, 06320\, United States
CATEGORIES:Club Wide Event
GEO:41.3308391;-72.0946565
X-APPLE-STRUCTURED-LOCATION;VALUE=URI;X-ADDRESS=Thames Yacht Club 396 Pequot Avenue New London CT 06320 United States;X-APPLE-RADIUS=500;X-TITLE=396 Pequot Avenue:geo:-72.0946565,41.3308391
END:VEVENT
BEGIN:VEVENT
DTSTART;TZID=America/New_York:20141108T180000
DTEND;TZID=America/New_York:20141108T210000
DTSTAMP:20260424T121705
CREATED:20141005T201416Z
LAST-MODIFIED:20141005T201416Z
UID:10033545-1415469600-1415480400@thamesyc.org
SUMMARY:Skipper's Night
DESCRIPTION:
URL:https://thamesyc.org/event/skippers-night/
LOCATION:Thames Yacht Club\, 396 Pequot Avenue\, New London\, CT\, 06320\, United States
CATEGORIES:Club Wide Event
GEO:41.3308391;-72.0946565
X-APPLE-STRUCTURED-LOCATION;VALUE=URI;X-ADDRESS=Thames Yacht Club 396 Pequot Avenue New London CT 06320 United States;X-APPLE-RADIUS=500;X-TITLE=396 Pequot Avenue:geo:-72.0946565,41.3308391
END:VEVENT
BEGIN:VEVENT
DTSTART;TZID=America/New_York:20141107T183000
DTEND;TZID=America/New_York:20141107T210000
DTSTAMP:20260424T121705
CREATED:20141005T201302Z
LAST-MODIFIED:20141005T201942Z
UID:10033543-1415385000-1415394000@thamesyc.org
SUMMARY:General Membership Meeting
DESCRIPTION:6:00 pm Pot Luck Dinner/ 7:00 Meeting
URL:https://thamesyc.org/event/general-membership-meeting-4/
LOCATION:Thames Yacht Club\, 396 Pequot Avenue\, New London\, CT\, 06320\, United States
CATEGORIES:Club Wide Event
GEO:41.3308391;-72.0946565
X-APPLE-STRUCTURED-LOCATION;VALUE=URI;X-ADDRESS=Thames Yacht Club 396 Pequot Avenue New London CT 06320 United States;X-APPLE-RADIUS=500;X-TITLE=396 Pequot Avenue:geo:-72.0946565,41.3308391
END:VEVENT
BEGIN:VEVENT
DTSTART;TZID=America/New_York:20141101T183000
DTEND;TZID=America/New_York:20141101T210000
DTSTAMP:20260424T121705
CREATED:20141005T201128Z
LAST-MODIFIED:20141005T201128Z
UID:10033541-1414866600-1414875600@thamesyc.org
SUMMARY:Adult Halloween Party
DESCRIPTION:Please join us!
URL:https://thamesyc.org/event/adult-halloween-party/
LOCATION:Thames Yacht Club\, 396 Pequot Avenue\, New London\, CT\, 06320\, United States
CATEGORIES:Club Wide Event
GEO:41.3308391;-72.0946565
X-APPLE-STRUCTURED-LOCATION;VALUE=URI;X-ADDRESS=Thames Yacht Club 396 Pequot Avenue New London CT 06320 United States;X-APPLE-RADIUS=500;X-TITLE=396 Pequot Avenue:geo:-72.0946565,41.3308391
END:VEVENT
BEGIN:VEVENT
DTSTART;VALUE=DATE:20141025
DTEND;VALUE=DATE:20141026
DTSTAMP:20260424T121705
CREATED:20140426T131227Z
LAST-MODIFIED:20140429T122946Z
UID:10033570-1414195200-1414281599@thamesyc.org
SUMMARY:Reserved for Reinhart Wedding
DESCRIPTION:
URL:https://thamesyc.org/event/reserved-reinhart-wedding/
LOCATION:Thames Yacht Club\, 396 Pequot Avenue\, New London\, CT\, 06320\, United States
CATEGORIES:Club Wide Event,Party
GEO:41.3308391;-72.0946565
X-APPLE-STRUCTURED-LOCATION;VALUE=URI;X-ADDRESS=Thames Yacht Club 396 Pequot Avenue New London CT 06320 United States;X-APPLE-RADIUS=500;X-TITLE=396 Pequot Avenue:geo:-72.0946565,41.3308391
END:VEVENT
BEGIN:VEVENT
DTSTART;TZID=America/New_York:20141024T183000
DTEND;TZID=America/New_York:20141024T213000
DTSTAMP:20260424T121705
CREATED:20140916T040316Z
LAST-MODIFIED:20140916T040316Z
UID:10033564-1414175400-1414186200@thamesyc.org
SUMMARY:TYC Children's Halloween Party!
DESCRIPTION:Thames Yacht Club Friday\, October 24\, 2014 6:30 – 9:00 pm \nPizza & Soft Drinks for Children Adults: please bring a dish to share Everyone encouraged to wear a costume (adults included!) \nIn addition to all the regular fun\, we will have an informal talent showcase for any child or group of children who want to sing\, dance or share some other talent with your TYC friends!!! \nAdmission: children $5.00(maximum charge: $15 per family) \nAn RSVP to any committee member would be helpful: Melissa Root  or Tim Reilly 
URL:https://thamesyc.org/event/tyc-childrens-halloween-party/
LOCATION:Thames Yacht Club\, 396 Pequot Avenue\, New London\, CT\, 06320\, United States
CATEGORIES:Club Wide Event
GEO:41.3308391;-72.0946565
X-APPLE-STRUCTURED-LOCATION;VALUE=URI;X-ADDRESS=Thames Yacht Club 396 Pequot Avenue New London CT 06320 United States;X-APPLE-RADIUS=500;X-TITLE=396 Pequot Avenue:geo:-72.0946565,41.3308391
END:VEVENT
BEGIN:VEVENT
DTSTART;TZID=America/New_York:20140720T173000
DTEND;TZID=America/New_York:20140720T203000
DTSTAMP:20260424T121706
CREATED:20140628T012557Z
LAST-MODIFIED:20140628T012557Z
UID:10033506-1405877400-1405888200@thamesyc.org
SUMMARY:General Membership Meeting
DESCRIPTION:Please join us for the General Membership Meeting and Pot Luck Dinner! \nDinner starts at 5:30 pm and the Meeting begins at 6:30 pm.
URL:https://thamesyc.org/event/general-membership-meeting-2/
LOCATION:Thames Yacht Club\, 396 Pequot Avenue\, New London\, CT\, 06320\, United States
CATEGORIES:Club Wide Event
GEO:41.3308391;-72.0946565
X-APPLE-STRUCTURED-LOCATION;VALUE=URI;X-ADDRESS=Thames Yacht Club 396 Pequot Avenue New London CT 06320 United States;X-APPLE-RADIUS=500;X-TITLE=396 Pequot Avenue:geo:-72.0946565,41.3308391
END:VEVENT
BEGIN:VEVENT
DTSTART;TZID=America/New_York:20140720T173000
DTEND;TZID=America/New_York:20140720T200000
DTSTAMP:20260424T121706
CREATED:20140716T213741Z
LAST-MODIFIED:20140716T213741Z
UID:10033514-1405877400-1405886400@thamesyc.org
SUMMARY:General Membership Meeting
DESCRIPTION:There is a general membership meeting scheduled for this Sunday\, July 20\, 2014.  \nThis time we will be foregoing the potluck in favor of an appetizer social hour beginning at 5:30 pm. Please bring an appetizer to pass. Drinks will be available for a single fee of $5. The meeting will begin at 6:30 pm. (Times are as posted in the July Mainsheet) \nIf you have items you wish to put on the agenda\, please have them to me no later than Wednesday. \nURGENT!! – If your winter marker is still at the club\, please remove it immediately. Any winter markers left will be disposed of with the outgoing trash on Thursday morning.
URL:https://thamesyc.org/event/general-membership-meeting-3/
LOCATION:Thames Yacht Club\, 396 Pequot Avenue\, New London\, CT\, 06320\, United States
CATEGORIES:Club Wide Event
GEO:41.3308391;-72.0946565
X-APPLE-STRUCTURED-LOCATION;VALUE=URI;X-ADDRESS=Thames Yacht Club 396 Pequot Avenue New London CT 06320 United States;X-APPLE-RADIUS=500;X-TITLE=396 Pequot Avenue:geo:-72.0946565,41.3308391
END:VEVENT
BEGIN:VEVENT
DTSTART;TZID=America/New_York:20140517T180000
DTEND;TZID=America/New_York:20140517T210000
DTSTAMP:20260424T121706
CREATED:20140415T003044Z
LAST-MODIFIED:20140429T195040Z
UID:10033489-1400349600-1400360400@thamesyc.org
SUMMARY:Commissioning Day
DESCRIPTION:
URL:https://thamesyc.org/event/commissioning-day/
LOCATION:Thames Yacht Club\, 396 Pequot Avenue\, New London\, CT\, 06320\, United States
CATEGORIES:Club Wide Event,Party
GEO:41.3308391;-72.0946565
X-APPLE-STRUCTURED-LOCATION;VALUE=URI;X-ADDRESS=Thames Yacht Club 396 Pequot Avenue New London CT 06320 United States;X-APPLE-RADIUS=500;X-TITLE=396 Pequot Avenue:geo:-72.0946565,41.3308391
END:VEVENT
BEGIN:VEVENT
DTSTART;TZID=America/New_York:20140510T090000
DTEND;TZID=America/New_York:20140510T160000
DTSTAMP:20260424T121706
CREATED:20140415T002606Z
LAST-MODIFIED:20140429T123426Z
UID:10033488-1399712400-1399737600@thamesyc.org
SUMMARY:Tag Sale and Open House
DESCRIPTION:  \nLet’s make a deal! \nBring your extra\, unwanted un-loved marine inventory for this sale.  \nThe public will be invited as part of a New Member Drive/Open House so we should have a good crowd. Bring your stuff in at 9:00 am to set up and remove by 4:00 pm. Nothing can be left after the sale.
URL:https://thamesyc.org/event/tag-sale-and-open-house/
CATEGORIES:Club Wide Event,For Sale
END:VEVENT
BEGIN:VEVENT
DTSTART;TZID=America/New_York:20140416T170000
DTEND;TZID=America/New_York:20140416T220000
DTSTAMP:20260424T121706
CREATED:20140415T222906Z
LAST-MODIFIED:20140415T223016Z
UID:10033491-1397667600-1397685600@thamesyc.org
SUMMARY:CPR and First Aid Training
DESCRIPTION:A class for CPR\, AED\, and First Aid will be held Wednesday\, April 16\, 2014 at Thames Yacht Club at 5 p.m. – 10 p.m. The cost is $65.00 to be paid at the door. If you have your First Aid\, the cost will be $50.00. \nPlease email Jackie Fisher at myrustynail31@gmail.com by April 14th if you plan to attend. RSVP important for room.
URL:https://thamesyc.org/event/cpr-and-first-aid-training/
LOCATION:Thames Yacht Club\, 396 Pequot Avenue\, New London\, CT\, 06320\, United States
CATEGORIES:Training
GEO:41.3308391;-72.0946565
X-APPLE-STRUCTURED-LOCATION;VALUE=URI;X-ADDRESS=Thames Yacht Club 396 Pequot Avenue New London CT 06320 United States;X-APPLE-RADIUS=500;X-TITLE=396 Pequot Avenue:geo:-72.0946565,41.3308391
END:VEVENT
END:VCALENDAR