BEGIN:VCALENDAR
VERSION:2.0
PRODID:-//Thames Yacht Club - ECPv6.15.17//NONSGML v1.0//EN
CALSCALE:GREGORIAN
METHOD:PUBLISH
X-ORIGINAL-URL:https://thamesyc.org
X-WR-CALDESC:Events for Thames Yacht Club
REFRESH-INTERVAL;VALUE=DURATION:PT1H
X-Robots-Tag:noindex
X-PUBLISHED-TTL:PT1H
BEGIN:VTIMEZONE
TZID:America/New_York
BEGIN:DAYLIGHT
TZOFFSETFROM:-0500
TZOFFSETTO:-0400
TZNAME:EDT
DTSTART:20240310T070000
END:DAYLIGHT
BEGIN:STANDARD
TZOFFSETFROM:-0400
TZOFFSETTO:-0500
TZNAME:EST
DTSTART:20241103T060000
END:STANDARD
BEGIN:DAYLIGHT
TZOFFSETFROM:-0500
TZOFFSETTO:-0400
TZNAME:EDT
DTSTART:20250309T070000
END:DAYLIGHT
BEGIN:STANDARD
TZOFFSETFROM:-0400
TZOFFSETTO:-0500
TZNAME:EST
DTSTART:20251102T060000
END:STANDARD
BEGIN:DAYLIGHT
TZOFFSETFROM:-0500
TZOFFSETTO:-0400
TZNAME:EDT
DTSTART:20260308T070000
END:DAYLIGHT
BEGIN:STANDARD
TZOFFSETFROM:-0400
TZOFFSETTO:-0500
TZNAME:EST
DTSTART:20261101T060000
END:STANDARD
END:VTIMEZONE
BEGIN:VEVENT
DTSTART;TZID=America/New_York:20250817T060000
DTEND;TZID=America/New_York:20250817T200000
DTSTAMP:20260424T123307
CREATED:20250707T190443Z
LAST-MODIFIED:20250707T190443Z
UID:10039395-1755410400-1755460800@thamesyc.org
SUMMARY:Clam Bake
DESCRIPTION:Pre Sold Ticket Reservation Required \n$65 Per Person Plus Tax \nAugust 17th 6:00 \nPurchase Tickets at the Galley or email tycgalley@gmail.com to reserve your ticket \nEach ticket includes: 1.25 lb lobster\, 1/2 lb steamers\, little neck clams\, corn\, potatoes
URL:https://thamesyc.org/event/clam-bake/
END:VEVENT
BEGIN:VEVENT
DTSTART;TZID=America/New_York:20250819T190000
DTEND;TZID=America/New_York:20250819T210000
DTSTAMP:20260424T123307
CREATED:20250127T004602Z
LAST-MODIFIED:20250127T004602Z
UID:10039213-1755630000-1755637200@thamesyc.org
SUMMARY:EXECUTIVE COMMITTEE MEETING
DESCRIPTION:
URL:https://thamesyc.org/event/executive-committee-meeting-32/
CATEGORIES:Executive Committee Mtg
END:VEVENT
BEGIN:VEVENT
DTSTART;TZID=America/New_York:20250819T190000
DTEND;TZID=America/New_York:20250819T210000
DTSTAMP:20260424T123307
CREATED:20250127T012048Z
LAST-MODIFIED:20250127T012048Z
UID:10039223-1755630000-1755637200@thamesyc.org
SUMMARY:EC Appoints Nominating Committee
DESCRIPTION:
URL:https://thamesyc.org/event/ec-appoints-nominating-committee/
CATEGORIES:Executive Committee Mtg
END:VEVENT
BEGIN:VEVENT
DTSTART;VALUE=DATE:20250820
DTEND;VALUE=DATE:20250821
DTSTAMP:20260424T123307
CREATED:20250127T221615Z
LAST-MODIFIED:20250127T221615Z
UID:10039283-1755648000-1755734399@thamesyc.org
SUMMARY:WEDNESDAY NIGHT KEEL BOAT RACING SUMMER SERIES
DESCRIPTION:
URL:https://thamesyc.org/event/wednesday-night-keel-boat-racing-summer-series-5/
CATEGORIES:Racing
END:VEVENT
BEGIN:VEVENT
DTSTART;VALUE=DATE:20250821
DTEND;VALUE=DATE:20250822
DTSTAMP:20260424T123307
CREATED:20250127T233045Z
LAST-MODIFIED:20250127T233045Z
UID:10039310-1755734400-1755820799@thamesyc.org
SUMMARY:THURSDAY NIGHT SUMMER FORCE 5 RACE SERIES
DESCRIPTION:
URL:https://thamesyc.org/event/thursday-night-summer-force-5-race-series-7/
CATEGORIES:Racing
END:VEVENT
BEGIN:VEVENT
DTSTART;TZID=America/New_York:20250822T210000
DTEND;TZID=America/New_York:20250822T230000
DTSTAMP:20260424T123307
CREATED:20250715T135941Z
LAST-MODIFIED:20250729T163025Z
UID:10039401-1755896400-1755903600@thamesyc.org
SUMMARY:Movie Night on the Beach
DESCRIPTION:
URL:https://thamesyc.org/event/movie-night-on-the-beach-3/2025-08-22/
CATEGORIES:Club Wide Event
END:VEVENT
END:VCALENDAR