BEGIN:VCALENDAR
VERSION:2.0
PRODID:-//Thames Yacht Club - ECPv6.15.20//NONSGML v1.0//EN
CALSCALE:GREGORIAN
METHOD:PUBLISH
X-ORIGINAL-URL:https://thamesyc.org
X-WR-CALDESC:Events for Thames Yacht Club
REFRESH-INTERVAL;VALUE=DURATION:PT1H
X-Robots-Tag:noindex
X-PUBLISHED-TTL:PT1H
BEGIN:VTIMEZONE
TZID:America/New_York
BEGIN:DAYLIGHT
TZOFFSETFROM:-0500
TZOFFSETTO:-0400
TZNAME:EDT
DTSTART:20230312T070000
END:DAYLIGHT
BEGIN:STANDARD
TZOFFSETFROM:-0400
TZOFFSETTO:-0500
TZNAME:EST
DTSTART:20231105T060000
END:STANDARD
BEGIN:DAYLIGHT
TZOFFSETFROM:-0500
TZOFFSETTO:-0400
TZNAME:EDT
DTSTART:20240310T070000
END:DAYLIGHT
BEGIN:STANDARD
TZOFFSETFROM:-0400
TZOFFSETTO:-0500
TZNAME:EST
DTSTART:20241103T060000
END:STANDARD
BEGIN:DAYLIGHT
TZOFFSETFROM:-0500
TZOFFSETTO:-0400
TZNAME:EDT
DTSTART:20250309T070000
END:DAYLIGHT
BEGIN:STANDARD
TZOFFSETFROM:-0400
TZOFFSETTO:-0500
TZNAME:EST
DTSTART:20251102T060000
END:STANDARD
END:VTIMEZONE
BEGIN:VEVENT
DTSTART;VALUE=DATE:20240628
DTEND;VALUE=DATE:20240701
DTSTAMP:20260425T160933
CREATED:20240618T212702Z
LAST-MODIFIED:20240618T212702Z
UID:10038487-1719532800-1719791999@thamesyc.org
SUMMARY:Block Island Mooring Reserved for S/V SLO MO II
DESCRIPTION:
URL:https://thamesyc.org/event/block-island-mooring-reserved-for-s-v-slo-mo-ii/
CATEGORIES:Block Island Mooring Reservation.
END:VEVENT
BEGIN:VEVENT
DTSTART;VALUE=DATE:20240629
DTEND;VALUE=DATE:20240704
DTSTAMP:20260425T160933
CREATED:20240422T232116Z
LAST-MODIFIED:20240422T232116Z
UID:10036798-1719619200-1720051199@thamesyc.org
SUMMARY:Block Island Mooring Reserved for S/V VEGA
DESCRIPTION:
URL:https://thamesyc.org/event/block-island-mooring-reserved-for-s-v-vega-3/
CATEGORIES:Block Island Mooring Reservation.
END:VEVENT
BEGIN:VEVENT
DTSTART;TZID=America/New_York:20240630T090000
DTEND;TZID=America/New_York:20240630T204500
DTSTAMP:20260425T160933
CREATED:20240602T011334Z
LAST-MODIFIED:20240602T011334Z
UID:10038401-1719738000-1719780300@thamesyc.org
SUMMARY:Launch Hours
DESCRIPTION:
URL:https://thamesyc.org/event/launch-hours-31/
CATEGORIES:TYC Launch Schedule
END:VEVENT
BEGIN:VEVENT
DTSTART;VALUE=DATE:20240701
DTEND;VALUE=DATE:20240702
DTSTAMP:20260425T160933
CREATED:20231220T213257Z
LAST-MODIFIED:20231220T213257Z
UID:10036690-1719792000-1719878399@thamesyc.org
SUMMARY:DEADLINE: Mooring applications to New London Harbormaster
DESCRIPTION:
URL:https://thamesyc.org/event/deadline-mooring-applications-to-new-london-harbormaster/
CATEGORIES:Club Wide Event
END:VEVENT
BEGIN:VEVENT
DTSTART;VALUE=DATE:20240701
DTEND;VALUE=DATE:20240707
DTSTAMP:20260425T160933
CREATED:20240422T231940Z
LAST-MODIFIED:20240422T232204Z
UID:10036797-1719792000-1720310399@thamesyc.org
SUMMARY:Block Island Mooring Reserved for S/V TAYLOR MARIE
DESCRIPTION:
URL:https://thamesyc.org/event/block-island-mooring-reserved-for-s-v-taylor-marie/
CATEGORIES:Block Island Mooring Reservation.
END:VEVENT
BEGIN:VEVENT
DTSTART;TZID=America/New_York:20240703T170000
DTEND;TZID=America/New_York:20240703T200000
DTSTAMP:20260425T160933
CREATED:20231219T005212Z
LAST-MODIFIED:20231219T005212Z
UID:10036353-1720026000-1720036800@thamesyc.org
SUMMARY:Wednesday Night Spring Series
DESCRIPTION:
URL:https://thamesyc.org/event/wednesday-night-spring-series-3/2024-07-03/
CATEGORIES:Racing
END:VEVENT
BEGIN:VEVENT
DTSTART;VALUE=DATE:20240704
DTEND;VALUE=DATE:20240705
DTSTAMP:20260425T160933
CREATED:20240515T222503Z
LAST-MODIFIED:20240515T222503Z
UID:10036801-1720051200-1720137599@thamesyc.org
SUMMARY:Block Island Mooring Reserved for S/V VEGA 2nd boat on mooring
DESCRIPTION:
URL:https://thamesyc.org/event/block-island-mooring-reserved-for-s-v-vega-2nd-boat-on-mooring/
CATEGORIES:Block Island Mooring Reservation.
END:VEVENT
BEGIN:VEVENT
DTSTART;TZID=America/New_York:20240704T110000
DTEND;TZID=America/New_York:20240704T170000
DTSTAMP:20260425T160933
CREATED:20231220T213740Z
LAST-MODIFIED:20231220T213740Z
UID:10036692-1720090800-1720112400@thamesyc.org
SUMMARY:Francis T. Bradbury Memorial Long Distance Race
DESCRIPTION:
URL:https://thamesyc.org/event/francis-t-bradbury-memorial-long-distance-race-5/
CATEGORIES:Racing
END:VEVENT
BEGIN:VEVENT
DTSTART;TZID=America/New_York:20240704T180000
DTEND;TZID=America/New_York:20240704T200000
DTSTAMP:20260425T160933
CREATED:20231219T005510Z
LAST-MODIFIED:20240604T125824Z
UID:10038483-1720116000-1720123200@thamesyc.org
SUMMARY:Force 5/Finn Spring Series
DESCRIPTION:
URL:https://thamesyc.org/event/force-5-spring-series-4/2024-07-04/
CATEGORIES:Racing
END:VEVENT
BEGIN:VEVENT
DTSTART;TZID=America/New_York:20240705T080000
DTEND;TZID=America/New_York:20240709T170000
DTSTAMP:20260425T160933
CREATED:20240322T071557Z
LAST-MODIFIED:20240322T071557Z
UID:10036788-1720166400-1720544400@thamesyc.org
SUMMARY:Intro to Cruising Cruise
DESCRIPTION:
URL:https://thamesyc.org/event/intro-to-cruising-cruise/
CATEGORIES:Cruise Event
END:VEVENT
END:VCALENDAR