BEGIN:VCALENDAR
VERSION:2.0
PRODID:-//Thames Yacht Club - ECPv6.15.20//NONSGML v1.0//EN
CALSCALE:GREGORIAN
METHOD:PUBLISH
X-ORIGINAL-URL:https://thamesyc.org
X-WR-CALDESC:Events for Thames Yacht Club
REFRESH-INTERVAL;VALUE=DURATION:PT1H
X-Robots-Tag:noindex
X-PUBLISHED-TTL:PT1H
BEGIN:VTIMEZONE
TZID:America/New_York
BEGIN:DAYLIGHT
TZOFFSETFROM:-0500
TZOFFSETTO:-0400
TZNAME:EDT
DTSTART:20160313T070000
END:DAYLIGHT
BEGIN:STANDARD
TZOFFSETFROM:-0400
TZOFFSETTO:-0500
TZNAME:EST
DTSTART:20161106T060000
END:STANDARD
BEGIN:DAYLIGHT
TZOFFSETFROM:-0500
TZOFFSETTO:-0400
TZNAME:EDT
DTSTART:20170312T070000
END:DAYLIGHT
BEGIN:STANDARD
TZOFFSETFROM:-0400
TZOFFSETTO:-0500
TZNAME:EST
DTSTART:20171105T060000
END:STANDARD
BEGIN:DAYLIGHT
TZOFFSETFROM:-0500
TZOFFSETTO:-0400
TZNAME:EDT
DTSTART:20180311T070000
END:DAYLIGHT
BEGIN:STANDARD
TZOFFSETFROM:-0400
TZOFFSETTO:-0500
TZNAME:EST
DTSTART:20181104T060000
END:STANDARD
END:VTIMEZONE
BEGIN:VEVENT
DTSTART;TZID=America/New_York:20171029T120000
DTEND;TZID=America/New_York:20171029T150000
DTSTAMP:20260425T164146
CREATED:20170211T220440Z
LAST-MODIFIED:20170211T220440Z
UID:10033741-1509278400-1509289200@thamesyc.org
SUMMARY:The Chowder Series
DESCRIPTION:
URL:https://thamesyc.org/event/the-chowder-series/2017-10-29/
CATEGORIES:Racing
END:VEVENT
BEGIN:VEVENT
DTSTART;TZID=America/New_York:20171104T160000
DTEND;TZID=America/New_York:20171104T200000
DTSTAMP:20260425T164146
CREATED:20171007T074035Z
LAST-MODIFIED:20171007T074035Z
UID:10033810-1509811200-1509825600@thamesyc.org
SUMMARY:Rental 1st floor
DESCRIPTION:
URL:https://thamesyc.org/event/rental-1st-floor/
CATEGORIES:Facility Rental
END:VEVENT
END:VCALENDAR