BEGIN:VCALENDAR
VERSION:2.0
PRODID:-//Thames Yacht Club - ECPv6.15.20//NONSGML v1.0//EN
CALSCALE:GREGORIAN
METHOD:PUBLISH
X-ORIGINAL-URL:https://thamesyc.org
X-WR-CALDESC:Events for Thames Yacht Club
REFRESH-INTERVAL;VALUE=DURATION:PT1H
X-Robots-Tag:noindex
X-PUBLISHED-TTL:PT1H
BEGIN:VTIMEZONE
TZID:America/New_York
BEGIN:DAYLIGHT
TZOFFSETFROM:-0500
TZOFFSETTO:-0400
TZNAME:EDT
DTSTART:20160313T070000
END:DAYLIGHT
BEGIN:STANDARD
TZOFFSETFROM:-0400
TZOFFSETTO:-0500
TZNAME:EST
DTSTART:20161106T060000
END:STANDARD
BEGIN:DAYLIGHT
TZOFFSETFROM:-0500
TZOFFSETTO:-0400
TZNAME:EDT
DTSTART:20170312T070000
END:DAYLIGHT
BEGIN:STANDARD
TZOFFSETFROM:-0400
TZOFFSETTO:-0500
TZNAME:EST
DTSTART:20171105T060000
END:STANDARD
BEGIN:DAYLIGHT
TZOFFSETFROM:-0500
TZOFFSETTO:-0400
TZNAME:EDT
DTSTART:20180311T070000
END:DAYLIGHT
BEGIN:STANDARD
TZOFFSETFROM:-0400
TZOFFSETTO:-0500
TZNAME:EST
DTSTART:20181104T060000
END:STANDARD
END:VTIMEZONE
BEGIN:VEVENT
DTSTART;TZID=America/New_York:20171022T120000
DTEND;TZID=America/New_York:20171022T150000
DTSTAMP:20260425T180301
CREATED:20170211T220440Z
LAST-MODIFIED:20170211T220440Z
UID:10033740-1508673600-1508684400@thamesyc.org
SUMMARY:The Chowder Series
DESCRIPTION:
URL:https://thamesyc.org/event/the-chowder-series/2017-10-22/
CATEGORIES:Racing
END:VEVENT
BEGIN:VEVENT
DTSTART;TZID=America/New_York:20171028T180000
DTEND;TZID=America/New_York:20171028T203000
DTSTAMP:20260425T180301
CREATED:20170922T130946Z
LAST-MODIFIED:20170922T130946Z
UID:10033806-1509213600-1509222600@thamesyc.org
SUMMARY:Movie Night Above the Beach
DESCRIPTION:
URL:https://thamesyc.org/event/movie-night-above-the-beach/2017-10-28/
CATEGORIES:Club Wide Event
END:VEVENT
BEGIN:VEVENT
DTSTART;TZID=America/New_York:20171028T180000
DTEND;TZID=America/New_York:20171028T220000
DTSTAMP:20260425T180301
CREATED:20171006T200111Z
LAST-MODIFIED:20171006T200111Z
UID:10033808-1509213600-1509228000@thamesyc.org
SUMMARY:Monster Mash
DESCRIPTION:
URL:https://thamesyc.org/event/monster-mash/
LOCATION:Thames Yacht Club\, 396 Pequot Avenue\, New London\, CT\, 06320\, United States
CATEGORIES:Club Wide Event
GEO:41.3308391;-72.0946565
X-APPLE-STRUCTURED-LOCATION;VALUE=URI;X-ADDRESS=Thames Yacht Club 396 Pequot Avenue New London CT 06320 United States;X-APPLE-RADIUS=500;X-TITLE=396 Pequot Avenue:geo:-72.0946565,41.3308391
END:VEVENT
END:VCALENDAR