BEGIN:VCALENDAR
VERSION:2.0
PRODID:-//Thames Yacht Club - ECPv6.15.20//NONSGML v1.0//EN
CALSCALE:GREGORIAN
METHOD:PUBLISH
X-WR-CALNAME:Thames Yacht Club
X-ORIGINAL-URL:https://thamesyc.org
X-WR-CALDESC:Events for Thames Yacht Club
REFRESH-INTERVAL;VALUE=DURATION:PT1H
X-Robots-Tag:noindex
X-PUBLISHED-TTL:PT1H
BEGIN:VTIMEZONE
TZID:America/New_York
BEGIN:DAYLIGHT
TZOFFSETFROM:-0500
TZOFFSETTO:-0400
TZNAME:EDT
DTSTART:20160313T070000
END:DAYLIGHT
BEGIN:STANDARD
TZOFFSETFROM:-0400
TZOFFSETTO:-0500
TZNAME:EST
DTSTART:20161106T060000
END:STANDARD
BEGIN:DAYLIGHT
TZOFFSETFROM:-0500
TZOFFSETTO:-0400
TZNAME:EDT
DTSTART:20170312T070000
END:DAYLIGHT
BEGIN:STANDARD
TZOFFSETFROM:-0400
TZOFFSETTO:-0500
TZNAME:EST
DTSTART:20171105T060000
END:STANDARD
BEGIN:DAYLIGHT
TZOFFSETFROM:-0500
TZOFFSETTO:-0400
TZNAME:EDT
DTSTART:20180311T070000
END:DAYLIGHT
BEGIN:STANDARD
TZOFFSETFROM:-0400
TZOFFSETTO:-0500
TZNAME:EST
DTSTART:20181104T060000
END:STANDARD
END:VTIMEZONE
BEGIN:VEVENT
DTSTART;VALUE=DATE:20170923
DTEND;VALUE=DATE:20170925
DTSTAMP:20260425T164758
CREATED:20170805T222148Z
LAST-MODIFIED:20170813T221120Z
UID:10033794-1506124800-1506297599@thamesyc.org
SUMMARY:Block Island Mooring Reserved for S/V CAPER
DESCRIPTION:
URL:https://thamesyc.org/event/block-island-mooring-reserved-for-sv-caper/
CATEGORIES:Block Island Mooring Reservation.
END:VEVENT
BEGIN:VEVENT
DTSTART;TZID=America/New_York:20170924T090000
DTEND;TZID=America/New_York:20170924T190000
DTSTAMP:20260425T164758
CREATED:20170325T174031Z
LAST-MODIFIED:20170325T174031Z
UID:10034099-1506243600-1506279600@thamesyc.org
SUMMARY:TYC Launch Schedule
DESCRIPTION:The TYC Launch can be hailed on VHF Channel 71.
URL:https://thamesyc.org/event/tyc-launch-schedule-103/2017-09-24/
LOCATION:Thames Yacht Club\, 396 Pequot Avenue\, New London\, CT\, 06320\, United States
CATEGORIES:TYC Launch Schedule
GEO:41.3308391;-72.0946565
X-APPLE-STRUCTURED-LOCATION;VALUE=URI;X-ADDRESS=Thames Yacht Club 396 Pequot Avenue New London CT 06320 United States;X-APPLE-RADIUS=500;X-TITLE=396 Pequot Avenue:geo:-72.0946565,41.3308391
END:VEVENT
BEGIN:VEVENT
DTSTART;TZID=America/New_York:20170924T120000
DTEND;TZID=America/New_York:20170924T150000
DTSTAMP:20260425T164758
CREATED:20170211T220440Z
LAST-MODIFIED:20170211T220440Z
UID:10033736-1506254400-1506265200@thamesyc.org
SUMMARY:The Chowder Series
DESCRIPTION:
URL:https://thamesyc.org/event/the-chowder-series/2017-09-24/
CATEGORIES:Racing
END:VEVENT
BEGIN:VEVENT
DTSTART;TZID=America/New_York:20170929T120000
DTEND;TZID=America/New_York:20170929T170000
DTSTAMP:20260425T164758
CREATED:20170325T174201Z
LAST-MODIFIED:20170325T174201Z
UID:10034100-1506686400-1506704400@thamesyc.org
SUMMARY:TYC Launch Schedule
DESCRIPTION:The TYC Launch can be hailed on VHF Channel 71.
URL:https://thamesyc.org/event/tyc-launch-schedule-116/
LOCATION:Thames Yacht Club\, 396 Pequot Avenue\, New London\, CT\, 06320\, United States
CATEGORIES:TYC Launch Schedule
GEO:41.3308391;-72.0946565
X-APPLE-STRUCTURED-LOCATION;VALUE=URI;X-ADDRESS=Thames Yacht Club 396 Pequot Avenue New London CT 06320 United States;X-APPLE-RADIUS=500;X-TITLE=396 Pequot Avenue:geo:-72.0946565,41.3308391
END:VEVENT
BEGIN:VEVENT
DTSTART;TZID=America/New_York:20170930T120000
DTEND;TZID=America/New_York:20170930T180000
DTSTAMP:20260425T164758
CREATED:20170325T174306Z
LAST-MODIFIED:20170325T174306Z
UID:10034101-1506772800-1506794400@thamesyc.org
SUMMARY:TYC Launch Schedule
DESCRIPTION:The TYC Launch can be hailed on VHF Channel 71.
URL:https://thamesyc.org/event/tyc-launch-schedule-117/
LOCATION:Thames Yacht Club\, 396 Pequot Avenue\, New London\, CT\, 06320\, United States
CATEGORIES:TYC Launch Schedule
GEO:41.3308391;-72.0946565
X-APPLE-STRUCTURED-LOCATION;VALUE=URI;X-ADDRESS=Thames Yacht Club 396 Pequot Avenue New London CT 06320 United States;X-APPLE-RADIUS=500;X-TITLE=396 Pequot Avenue:geo:-72.0946565,41.3308391
END:VEVENT
BEGIN:VEVENT
DTSTART;TZID=America/New_York:20170930T180000
DTEND;TZID=America/New_York:20170930T203000
DTSTAMP:20260425T164758
CREATED:20170922T130946Z
LAST-MODIFIED:20170922T130946Z
UID:10033803-1506794400-1506803400@thamesyc.org
SUMMARY:Movie Night Above the Beach
DESCRIPTION:
URL:https://thamesyc.org/event/movie-night-above-the-beach/2017-09-30/
CATEGORIES:Club Wide Event
END:VEVENT
END:VCALENDAR