BEGIN:VCALENDAR
VERSION:2.0
PRODID:-//Thames Yacht Club - ECPv6.15.20//NONSGML v1.0//EN
CALSCALE:GREGORIAN
METHOD:PUBLISH
X-WR-CALNAME:Thames Yacht Club
X-ORIGINAL-URL:https://thamesyc.org
X-WR-CALDESC:Events for Thames Yacht Club
REFRESH-INTERVAL;VALUE=DURATION:PT1H
X-Robots-Tag:noindex
X-PUBLISHED-TTL:PT1H
BEGIN:VTIMEZONE
TZID:America/New_York
BEGIN:DAYLIGHT
TZOFFSETFROM:-0500
TZOFFSETTO:-0400
TZNAME:EDT
DTSTART:20160313T070000
END:DAYLIGHT
BEGIN:STANDARD
TZOFFSETFROM:-0400
TZOFFSETTO:-0500
TZNAME:EST
DTSTART:20161106T060000
END:STANDARD
BEGIN:DAYLIGHT
TZOFFSETFROM:-0500
TZOFFSETTO:-0400
TZNAME:EDT
DTSTART:20170312T070000
END:DAYLIGHT
BEGIN:STANDARD
TZOFFSETFROM:-0400
TZOFFSETTO:-0500
TZNAME:EST
DTSTART:20171105T060000
END:STANDARD
BEGIN:DAYLIGHT
TZOFFSETFROM:-0500
TZOFFSETTO:-0400
TZNAME:EDT
DTSTART:20180311T070000
END:DAYLIGHT
BEGIN:STANDARD
TZOFFSETFROM:-0400
TZOFFSETTO:-0500
TZNAME:EST
DTSTART:20181104T060000
END:STANDARD
END:VTIMEZONE
BEGIN:VEVENT
DTSTART;VALUE=DATE:20170901
DTEND;VALUE=DATE:20170904
DTSTAMP:20260425T152306
CREATED:20170527T151617Z
LAST-MODIFIED:20170527T151617Z
UID:10034125-1504224000-1504483199@thamesyc.org
SUMMARY:Block Island Mooring reserved for S/V AVANTI
DESCRIPTION:
URL:https://thamesyc.org/event/block-island-mooring-reserved-for-sv-avanti-2/
CATEGORIES:Block Island Mooring Reservation.
END:VEVENT
BEGIN:VEVENT
DTSTART;TZID=America/New_York:20170903T090000
DTEND;TZID=America/New_York:20170903T210000
DTSTAMP:20260425T152306
CREATED:20170325T171923Z
LAST-MODIFIED:20170325T171923Z
UID:10034081-1504429200-1504472400@thamesyc.org
SUMMARY:TYC Launch Schedule
DESCRIPTION:The TYC Launch can be hailed on VHF Channel 71.
URL:https://thamesyc.org/event/tyc-launch-schedule-80/2017-09-03/
LOCATION:Thames Yacht Club\, 396 Pequot Avenue\, New London\, CT\, 06320\, United States
CATEGORIES:TYC Launch Schedule
GEO:41.3308391;-72.0946565
X-APPLE-STRUCTURED-LOCATION;VALUE=URI;X-ADDRESS=Thames Yacht Club 396 Pequot Avenue New London CT 06320 United States;X-APPLE-RADIUS=500;X-TITLE=396 Pequot Avenue:geo:-72.0946565,41.3308391
END:VEVENT
BEGIN:VEVENT
DTSTART;TZID=America/New_York:20170904T090000
DTEND;TZID=America/New_York:20170904T210000
DTSTAMP:20260425T152306
CREATED:20170325T171923Z
LAST-MODIFIED:20170325T171923Z
UID:10034082-1504515600-1504558800@thamesyc.org
SUMMARY:TYC Launch Schedule
DESCRIPTION:The TYC Launch can be hailed on VHF Channel 71.
URL:https://thamesyc.org/event/tyc-launch-schedule-80/2017-09-04/
LOCATION:Thames Yacht Club\, 396 Pequot Avenue\, New London\, CT\, 06320\, United States
CATEGORIES:TYC Launch Schedule
GEO:41.3308391;-72.0946565
X-APPLE-STRUCTURED-LOCATION;VALUE=URI;X-ADDRESS=Thames Yacht Club 396 Pequot Avenue New London CT 06320 United States;X-APPLE-RADIUS=500;X-TITLE=396 Pequot Avenue:geo:-72.0946565,41.3308391
END:VEVENT
BEGIN:VEVENT
DTSTART;TZID=America/New_York:20170906T110000
DTEND;TZID=America/New_York:20170906T210000
DTSTAMP:20260425T152306
CREATED:20170325T172113Z
LAST-MODIFIED:20170325T172113Z
UID:10034083-1504695600-1504731600@thamesyc.org
SUMMARY:TYC Launch Schedule
DESCRIPTION:The TYC Launch can be hailed on VHF Channel 71.
URL:https://thamesyc.org/event/tyc-launch-schedule-81/
LOCATION:Thames Yacht Club\, 396 Pequot Avenue\, New London\, CT\, 06320\, United States
CATEGORIES:TYC Launch Schedule
GEO:41.3308391;-72.0946565
X-APPLE-STRUCTURED-LOCATION;VALUE=URI;X-ADDRESS=Thames Yacht Club 396 Pequot Avenue New London CT 06320 United States;X-APPLE-RADIUS=500;X-TITLE=396 Pequot Avenue:geo:-72.0946565,41.3308391
END:VEVENT
BEGIN:VEVENT
DTSTART;TZID=America/New_York:20170906T173000
DTEND;TZID=America/New_York:20170906T210000
DTSTAMP:20260425T152306
CREATED:20170211T215651Z
LAST-MODIFIED:20170211T215651Z
UID:10033983-1504719000-1504731600@thamesyc.org
SUMMARY:Wednesday Night Summer Series
DESCRIPTION:
URL:https://thamesyc.org/event/wednesday-night-summer-series/2017-09-06/
CATEGORIES:Racing
END:VEVENT
BEGIN:VEVENT
DTSTART;TZID=America/New_York:20170907T173000
DTEND;TZID=America/New_York:20170907T210000
DTSTAMP:20260425T152306
CREATED:20170211T215954Z
LAST-MODIFIED:20170211T215954Z
UID:10033998-1504805400-1504818000@thamesyc.org
SUMMARY:Force Five Thursday Night Series
DESCRIPTION:
URL:https://thamesyc.org/event/force-five-thursday-night-series/2017-09-07/
CATEGORIES:Racing
END:VEVENT
END:VCALENDAR