BEGIN:VCALENDAR
VERSION:2.0
PRODID:-//Thames Yacht Club - ECPv6.15.20//NONSGML v1.0//EN
CALSCALE:GREGORIAN
METHOD:PUBLISH
X-WR-CALNAME:Thames Yacht Club
X-ORIGINAL-URL:https://thamesyc.org
X-WR-CALDESC:Events for Thames Yacht Club
REFRESH-INTERVAL;VALUE=DURATION:PT1H
X-Robots-Tag:noindex
X-PUBLISHED-TTL:PT1H
BEGIN:VTIMEZONE
TZID:America/New_York
BEGIN:DAYLIGHT
TZOFFSETFROM:-0500
TZOFFSETTO:-0400
TZNAME:EDT
DTSTART:20160313T070000
END:DAYLIGHT
BEGIN:STANDARD
TZOFFSETFROM:-0400
TZOFFSETTO:-0500
TZNAME:EST
DTSTART:20161106T060000
END:STANDARD
BEGIN:DAYLIGHT
TZOFFSETFROM:-0500
TZOFFSETTO:-0400
TZNAME:EDT
DTSTART:20170312T070000
END:DAYLIGHT
BEGIN:STANDARD
TZOFFSETFROM:-0400
TZOFFSETTO:-0500
TZNAME:EST
DTSTART:20171105T060000
END:STANDARD
BEGIN:DAYLIGHT
TZOFFSETFROM:-0500
TZOFFSETTO:-0400
TZNAME:EDT
DTSTART:20180311T070000
END:DAYLIGHT
BEGIN:STANDARD
TZOFFSETFROM:-0400
TZOFFSETTO:-0500
TZNAME:EST
DTSTART:20181104T060000
END:STANDARD
END:VTIMEZONE
BEGIN:VEVENT
DTSTART;TZID=America/New_York:20170811T180000
DTEND;TZID=America/New_York:20170813T170000
DTSTAMP:20260425T152306
CREATED:20161228T003051Z
LAST-MODIFIED:20161228T003303Z
UID:10033948-1502474400-1502643600@thamesyc.org
SUMMARY:Member's Weekend
DESCRIPTION:
URL:https://thamesyc.org/event/membership-weekend/
CATEGORIES:Club Wide Event,Party
END:VEVENT
BEGIN:VEVENT
DTSTART;TZID=America/New_York:20170813T090000
DTEND;TZID=America/New_York:20170813T210000
DTSTAMP:20260425T152306
CREATED:20170325T165125Z
LAST-MODIFIED:20170325T165125Z
UID:10034046-1502614800-1502658000@thamesyc.org
SUMMARY:TYC Launch Schedule
DESCRIPTION:The TYC Launch can be hailed on VHF Channel 71
URL:https://thamesyc.org/event/tyc-launch-schedule-69/2017-08-13/
LOCATION:Thames Yacht Club\, 396 Pequot Avenue\, New London\, CT\, 06320\, United States
CATEGORIES:TYC Launch Schedule
GEO:41.3308391;-72.0946565
X-APPLE-STRUCTURED-LOCATION;VALUE=URI;X-ADDRESS=Thames Yacht Club 396 Pequot Avenue New London CT 06320 United States;X-APPLE-RADIUS=500;X-TITLE=396 Pequot Avenue:geo:-72.0946565,41.3308391
END:VEVENT
BEGIN:VEVENT
DTSTART;TZID=America/New_York:20170814T090000
DTEND;TZID=America/New_York:20170814T210000
DTSTAMP:20260425T152306
CREATED:20170325T165125Z
LAST-MODIFIED:20170325T165125Z
UID:10034047-1502701200-1502744400@thamesyc.org
SUMMARY:TYC Launch Schedule
DESCRIPTION:The TYC Launch can be hailed on VHF Channel 71
URL:https://thamesyc.org/event/tyc-launch-schedule-69/2017-08-14/
LOCATION:Thames Yacht Club\, 396 Pequot Avenue\, New London\, CT\, 06320\, United States
CATEGORIES:TYC Launch Schedule
GEO:41.3308391;-72.0946565
X-APPLE-STRUCTURED-LOCATION;VALUE=URI;X-ADDRESS=Thames Yacht Club 396 Pequot Avenue New London CT 06320 United States;X-APPLE-RADIUS=500;X-TITLE=396 Pequot Avenue:geo:-72.0946565,41.3308391
END:VEVENT
BEGIN:VEVENT
DTSTART;TZID=America/New_York:20170815T090000
DTEND;TZID=America/New_York:20170815T210000
DTSTAMP:20260425T152306
CREATED:20170325T165125Z
LAST-MODIFIED:20170325T165125Z
UID:10034048-1502787600-1502830800@thamesyc.org
SUMMARY:TYC Launch Schedule
DESCRIPTION:The TYC Launch can be hailed on VHF Channel 71
URL:https://thamesyc.org/event/tyc-launch-schedule-69/2017-08-15/
LOCATION:Thames Yacht Club\, 396 Pequot Avenue\, New London\, CT\, 06320\, United States
CATEGORIES:TYC Launch Schedule
GEO:41.3308391;-72.0946565
X-APPLE-STRUCTURED-LOCATION;VALUE=URI;X-ADDRESS=Thames Yacht Club 396 Pequot Avenue New London CT 06320 United States;X-APPLE-RADIUS=500;X-TITLE=396 Pequot Avenue:geo:-72.0946565,41.3308391
END:VEVENT
BEGIN:VEVENT
DTSTART;TZID=America/New_York:20170815T183000
DTEND;TZID=America/New_York:20170815T213000
DTSTAMP:20260425T152306
CREATED:20161228T003805Z
LAST-MODIFIED:20161228T003805Z
UID:10033950-1502821800-1502832600@thamesyc.org
SUMMARY:Executive Committee Meeting
DESCRIPTION:
URL:https://thamesyc.org/event/executive-committee-meeting-9/
END:VEVENT
BEGIN:VEVENT
DTSTART;TZID=America/New_York:20170816T090000
DTEND;TZID=America/New_York:20170816T210000
DTSTAMP:20260425T152306
CREATED:20170325T165125Z
LAST-MODIFIED:20170325T165125Z
UID:10034049-1502874000-1502917200@thamesyc.org
SUMMARY:TYC Launch Schedule
DESCRIPTION:The TYC Launch can be hailed on VHF Channel 71
URL:https://thamesyc.org/event/tyc-launch-schedule-69/2017-08-16/
LOCATION:Thames Yacht Club\, 396 Pequot Avenue\, New London\, CT\, 06320\, United States
CATEGORIES:TYC Launch Schedule
GEO:41.3308391;-72.0946565
X-APPLE-STRUCTURED-LOCATION;VALUE=URI;X-ADDRESS=Thames Yacht Club 396 Pequot Avenue New London CT 06320 United States;X-APPLE-RADIUS=500;X-TITLE=396 Pequot Avenue:geo:-72.0946565,41.3308391
END:VEVENT
BEGIN:VEVENT
DTSTART;TZID=America/New_York:20170816T173000
DTEND;TZID=America/New_York:20170816T210000
DTSTAMP:20260425T152306
CREATED:20170211T215651Z
LAST-MODIFIED:20170211T215651Z
UID:10033980-1502904600-1502917200@thamesyc.org
SUMMARY:Wednesday Night Summer Series
DESCRIPTION:
URL:https://thamesyc.org/event/wednesday-night-summer-series/2017-08-16/
CATEGORIES:Racing
END:VEVENT
BEGIN:VEVENT
DTSTART;TZID=America/New_York:20170817T090000
DTEND;TZID=America/New_York:20170817T210000
DTSTAMP:20260425T152306
CREATED:20170325T165125Z
LAST-MODIFIED:20170325T165125Z
UID:10034050-1502960400-1503003600@thamesyc.org
SUMMARY:TYC Launch Schedule
DESCRIPTION:The TYC Launch can be hailed on VHF Channel 71
URL:https://thamesyc.org/event/tyc-launch-schedule-69/2017-08-17/
LOCATION:Thames Yacht Club\, 396 Pequot Avenue\, New London\, CT\, 06320\, United States
CATEGORIES:TYC Launch Schedule
GEO:41.3308391;-72.0946565
X-APPLE-STRUCTURED-LOCATION;VALUE=URI;X-ADDRESS=Thames Yacht Club 396 Pequot Avenue New London CT 06320 United States;X-APPLE-RADIUS=500;X-TITLE=396 Pequot Avenue:geo:-72.0946565,41.3308391
END:VEVENT
BEGIN:VEVENT
DTSTART;TZID=America/New_York:20170817T173000
DTEND;TZID=America/New_York:20170817T210000
DTSTAMP:20260425T152306
CREATED:20170211T215954Z
LAST-MODIFIED:20170211T215954Z
UID:10033995-1502991000-1503003600@thamesyc.org
SUMMARY:Force Five Thursday Night Series
DESCRIPTION:
URL:https://thamesyc.org/event/force-five-thursday-night-series/2017-08-17/
CATEGORIES:Racing
END:VEVENT
BEGIN:VEVENT
DTSTART;TZID=America/New_York:20170818T090000
DTEND;TZID=America/New_York:20170818T210000
DTSTAMP:20260425T152306
CREATED:20170325T165125Z
LAST-MODIFIED:20170325T165125Z
UID:10034051-1503046800-1503090000@thamesyc.org
SUMMARY:TYC Launch Schedule
DESCRIPTION:The TYC Launch can be hailed on VHF Channel 71
URL:https://thamesyc.org/event/tyc-launch-schedule-69/2017-08-18/
LOCATION:Thames Yacht Club\, 396 Pequot Avenue\, New London\, CT\, 06320\, United States
CATEGORIES:TYC Launch Schedule
GEO:41.3308391;-72.0946565
X-APPLE-STRUCTURED-LOCATION;VALUE=URI;X-ADDRESS=Thames Yacht Club 396 Pequot Avenue New London CT 06320 United States;X-APPLE-RADIUS=500;X-TITLE=396 Pequot Avenue:geo:-72.0946565,41.3308391
END:VEVENT
BEGIN:VEVENT
DTSTART;TZID=America/New_York:20170819T080000
DTEND;TZID=America/New_York:20170820T170000
DTSTAMP:20260425T152306
CREATED:20170719T211549Z
LAST-MODIFIED:20170719T211549Z
UID:10034140-1503129600-1503248400@thamesyc.org
SUMMARY:Block Island Mooring Reserved for S/V ADELINE
DESCRIPTION:
URL:https://thamesyc.org/event/block-island-mooring-reserved-for-sv-adeline-2/
CATEGORIES:Block Island Mooring Reservation.
END:VEVENT
BEGIN:VEVENT
DTSTART;TZID=America/New_York:20170819T080000
DTEND;TZID=America/New_York:20170826T170000
DTSTAMP:20260425T152306
CREATED:20161218T020735Z
LAST-MODIFIED:20170102T000143Z
UID:10033931-1503129600-1503766800@thamesyc.org
SUMMARY:TYC Cruise to Three Mile Harbor\, Coecles Harbor\, NY and Block Island\, RI
DESCRIPTION:
URL:https://thamesyc.org/event/tyc-cruise-to-coecles-harbor-ny-and-block-island-ri/
CATEGORIES:Cruise Event
END:VEVENT
BEGIN:VEVENT
DTSTART;TZID=America/New_York:20170819T090000
DTEND;TZID=America/New_York:20170819T210000
DTSTAMP:20260425T152306
CREATED:20170325T165125Z
LAST-MODIFIED:20170325T165125Z
UID:10034052-1503133200-1503176400@thamesyc.org
SUMMARY:TYC Launch Schedule
DESCRIPTION:The TYC Launch can be hailed on VHF Channel 71
URL:https://thamesyc.org/event/tyc-launch-schedule-69/2017-08-19/
LOCATION:Thames Yacht Club\, 396 Pequot Avenue\, New London\, CT\, 06320\, United States
CATEGORIES:TYC Launch Schedule
GEO:41.3308391;-72.0946565
X-APPLE-STRUCTURED-LOCATION;VALUE=URI;X-ADDRESS=Thames Yacht Club 396 Pequot Avenue New London CT 06320 United States;X-APPLE-RADIUS=500;X-TITLE=396 Pequot Avenue:geo:-72.0946565,41.3308391
END:VEVENT
END:VCALENDAR