BEGIN:VCALENDAR
VERSION:2.0
PRODID:-//Thames Yacht Club - ECPv6.15.20//NONSGML v1.0//EN
CALSCALE:GREGORIAN
METHOD:PUBLISH
X-ORIGINAL-URL:https://thamesyc.org
X-WR-CALDESC:Events for Thames Yacht Club
REFRESH-INTERVAL;VALUE=DURATION:PT1H
X-Robots-Tag:noindex
X-PUBLISHED-TTL:PT1H
BEGIN:VTIMEZONE
TZID:America/New_York
BEGIN:DAYLIGHT
TZOFFSETFROM:-0500
TZOFFSETTO:-0400
TZNAME:EDT
DTSTART:20160313T070000
END:DAYLIGHT
BEGIN:STANDARD
TZOFFSETFROM:-0400
TZOFFSETTO:-0500
TZNAME:EST
DTSTART:20161106T060000
END:STANDARD
BEGIN:DAYLIGHT
TZOFFSETFROM:-0500
TZOFFSETTO:-0400
TZNAME:EDT
DTSTART:20170312T070000
END:DAYLIGHT
BEGIN:STANDARD
TZOFFSETFROM:-0400
TZOFFSETTO:-0500
TZNAME:EST
DTSTART:20171105T060000
END:STANDARD
BEGIN:DAYLIGHT
TZOFFSETFROM:-0500
TZOFFSETTO:-0400
TZNAME:EDT
DTSTART:20180311T070000
END:DAYLIGHT
BEGIN:STANDARD
TZOFFSETFROM:-0400
TZOFFSETTO:-0500
TZNAME:EST
DTSTART:20181104T060000
END:STANDARD
END:VTIMEZONE
BEGIN:VEVENT
DTSTART;TZID=America/New_York:20170730T090000
DTEND;TZID=America/New_York:20170730T210000
DTSTAMP:20260425T124543
CREATED:20170325T165125Z
LAST-MODIFIED:20170325T165125Z
UID:10034032-1501405200-1501448400@thamesyc.org
SUMMARY:TYC Launch Schedule
DESCRIPTION:The TYC Launch can be hailed on VHF Channel 71
URL:https://thamesyc.org/event/tyc-launch-schedule-69/2017-07-30/
LOCATION:Thames Yacht Club\, 396 Pequot Avenue\, New London\, CT\, 06320\, United States
CATEGORIES:TYC Launch Schedule
GEO:41.3308391;-72.0946565
X-APPLE-STRUCTURED-LOCATION;VALUE=URI;X-ADDRESS=Thames Yacht Club 396 Pequot Avenue New London CT 06320 United States;X-APPLE-RADIUS=500;X-TITLE=396 Pequot Avenue:geo:-72.0946565,41.3308391
END:VEVENT
BEGIN:VEVENT
DTSTART;TZID=America/New_York:20170731T090000
DTEND;TZID=America/New_York:20170731T210000
DTSTAMP:20260425T124543
CREATED:20170325T165125Z
LAST-MODIFIED:20170325T165125Z
UID:10034033-1501491600-1501534800@thamesyc.org
SUMMARY:TYC Launch Schedule
DESCRIPTION:The TYC Launch can be hailed on VHF Channel 71
URL:https://thamesyc.org/event/tyc-launch-schedule-69/2017-07-31/
LOCATION:Thames Yacht Club\, 396 Pequot Avenue\, New London\, CT\, 06320\, United States
CATEGORIES:TYC Launch Schedule
GEO:41.3308391;-72.0946565
X-APPLE-STRUCTURED-LOCATION;VALUE=URI;X-ADDRESS=Thames Yacht Club 396 Pequot Avenue New London CT 06320 United States;X-APPLE-RADIUS=500;X-TITLE=396 Pequot Avenue:geo:-72.0946565,41.3308391
END:VEVENT
BEGIN:VEVENT
DTSTART;TZID=America/New_York:20170801T090000
DTEND;TZID=America/New_York:20170801T210000
DTSTAMP:20260425T124543
CREATED:20170325T165125Z
LAST-MODIFIED:20170325T165125Z
UID:10034034-1501578000-1501621200@thamesyc.org
SUMMARY:TYC Launch Schedule
DESCRIPTION:The TYC Launch can be hailed on VHF Channel 71
URL:https://thamesyc.org/event/tyc-launch-schedule-69/2017-08-01/
LOCATION:Thames Yacht Club\, 396 Pequot Avenue\, New London\, CT\, 06320\, United States
CATEGORIES:TYC Launch Schedule
GEO:41.3308391;-72.0946565
X-APPLE-STRUCTURED-LOCATION;VALUE=URI;X-ADDRESS=Thames Yacht Club 396 Pequot Avenue New London CT 06320 United States;X-APPLE-RADIUS=500;X-TITLE=396 Pequot Avenue:geo:-72.0946565,41.3308391
END:VEVENT
BEGIN:VEVENT
DTSTART;TZID=America/New_York:20170802T090000
DTEND;TZID=America/New_York:20170802T210000
DTSTAMP:20260425T124543
CREATED:20170325T165125Z
LAST-MODIFIED:20170325T165125Z
UID:10034035-1501664400-1501707600@thamesyc.org
SUMMARY:TYC Launch Schedule
DESCRIPTION:The TYC Launch can be hailed on VHF Channel 71
URL:https://thamesyc.org/event/tyc-launch-schedule-69/2017-08-02/
LOCATION:Thames Yacht Club\, 396 Pequot Avenue\, New London\, CT\, 06320\, United States
CATEGORIES:TYC Launch Schedule
GEO:41.3308391;-72.0946565
X-APPLE-STRUCTURED-LOCATION;VALUE=URI;X-ADDRESS=Thames Yacht Club 396 Pequot Avenue New London CT 06320 United States;X-APPLE-RADIUS=500;X-TITLE=396 Pequot Avenue:geo:-72.0946565,41.3308391
END:VEVENT
BEGIN:VEVENT
DTSTART;TZID=America/New_York:20170802T173000
DTEND;TZID=America/New_York:20170802T210000
DTSTAMP:20260425T124543
CREATED:20170211T215651Z
LAST-MODIFIED:20170211T215651Z
UID:10033978-1501695000-1501707600@thamesyc.org
SUMMARY:Wednesday Night Summer Series
DESCRIPTION:
URL:https://thamesyc.org/event/wednesday-night-summer-series/2017-08-02/
CATEGORIES:Racing
END:VEVENT
BEGIN:VEVENT
DTSTART;TZID=America/New_York:20170803T090000
DTEND;TZID=America/New_York:20170803T210000
DTSTAMP:20260425T124543
CREATED:20170325T165125Z
LAST-MODIFIED:20170325T165125Z
UID:10034036-1501750800-1501794000@thamesyc.org
SUMMARY:TYC Launch Schedule
DESCRIPTION:The TYC Launch can be hailed on VHF Channel 71
URL:https://thamesyc.org/event/tyc-launch-schedule-69/2017-08-03/
LOCATION:Thames Yacht Club\, 396 Pequot Avenue\, New London\, CT\, 06320\, United States
CATEGORIES:TYC Launch Schedule
GEO:41.3308391;-72.0946565
X-APPLE-STRUCTURED-LOCATION;VALUE=URI;X-ADDRESS=Thames Yacht Club 396 Pequot Avenue New London CT 06320 United States;X-APPLE-RADIUS=500;X-TITLE=396 Pequot Avenue:geo:-72.0946565,41.3308391
END:VEVENT
BEGIN:VEVENT
DTSTART;TZID=America/New_York:20170803T173000
DTEND;TZID=America/New_York:20170803T210000
DTSTAMP:20260425T124543
CREATED:20170211T215954Z
LAST-MODIFIED:20170211T215954Z
UID:10033993-1501781400-1501794000@thamesyc.org
SUMMARY:Force Five Thursday Night Series
DESCRIPTION:
URL:https://thamesyc.org/event/force-five-thursday-night-series/2017-08-03/
CATEGORIES:Racing
END:VEVENT
BEGIN:VEVENT
DTSTART;TZID=America/New_York:20170804T080000
DTEND;TZID=America/New_York:20170805T170000
DTSTAMP:20260425T124543
CREATED:20170301T152804Z
LAST-MODIFIED:20170301T152804Z
UID:10033749-1501833600-1501952400@thamesyc.org
SUMMARY:Block Island Mooring reserved for S/V TWO HOURS
DESCRIPTION:
URL:https://thamesyc.org/event/block-island-mooring-reserved-for-sv-two-hours/
CATEGORIES:Block Island Mooring Reservation.
END:VEVENT
BEGIN:VEVENT
DTSTART;TZID=America/New_York:20170804T090000
DTEND;TZID=America/New_York:20170804T210000
DTSTAMP:20260425T124543
CREATED:20170325T165125Z
LAST-MODIFIED:20170325T165125Z
UID:10034037-1501837200-1501880400@thamesyc.org
SUMMARY:TYC Launch Schedule
DESCRIPTION:The TYC Launch can be hailed on VHF Channel 71
URL:https://thamesyc.org/event/tyc-launch-schedule-69/2017-08-04/
LOCATION:Thames Yacht Club\, 396 Pequot Avenue\, New London\, CT\, 06320\, United States
CATEGORIES:TYC Launch Schedule
GEO:41.3308391;-72.0946565
X-APPLE-STRUCTURED-LOCATION;VALUE=URI;X-ADDRESS=Thames Yacht Club 396 Pequot Avenue New London CT 06320 United States;X-APPLE-RADIUS=500;X-TITLE=396 Pequot Avenue:geo:-72.0946565,41.3308391
END:VEVENT
BEGIN:VEVENT
DTSTART;TZID=America/New_York:20170805T090000
DTEND;TZID=America/New_York:20170805T210000
DTSTAMP:20260425T124543
CREATED:20170325T165125Z
LAST-MODIFIED:20170325T165125Z
UID:10034038-1501923600-1501966800@thamesyc.org
SUMMARY:TYC Launch Schedule
DESCRIPTION:The TYC Launch can be hailed on VHF Channel 71
URL:https://thamesyc.org/event/tyc-launch-schedule-69/2017-08-05/
LOCATION:Thames Yacht Club\, 396 Pequot Avenue\, New London\, CT\, 06320\, United States
CATEGORIES:TYC Launch Schedule
GEO:41.3308391;-72.0946565
X-APPLE-STRUCTURED-LOCATION;VALUE=URI;X-ADDRESS=Thames Yacht Club 396 Pequot Avenue New London CT 06320 United States;X-APPLE-RADIUS=500;X-TITLE=396 Pequot Avenue:geo:-72.0946565,41.3308391
END:VEVENT
END:VCALENDAR