BEGIN:VCALENDAR
VERSION:2.0
PRODID:-//Thames Yacht Club - ECPv6.15.20//NONSGML v1.0//EN
CALSCALE:GREGORIAN
METHOD:PUBLISH
X-WR-CALNAME:Thames Yacht Club
X-ORIGINAL-URL:https://thamesyc.org
X-WR-CALDESC:Events for Thames Yacht Club
REFRESH-INTERVAL;VALUE=DURATION:PT1H
X-Robots-Tag:noindex
X-PUBLISHED-TTL:PT1H
BEGIN:VTIMEZONE
TZID:America/New_York
BEGIN:DAYLIGHT
TZOFFSETFROM:-0500
TZOFFSETTO:-0400
TZNAME:EDT
DTSTART:20160313T070000
END:DAYLIGHT
BEGIN:STANDARD
TZOFFSETFROM:-0400
TZOFFSETTO:-0500
TZNAME:EST
DTSTART:20161106T060000
END:STANDARD
BEGIN:DAYLIGHT
TZOFFSETFROM:-0500
TZOFFSETTO:-0400
TZNAME:EDT
DTSTART:20170312T070000
END:DAYLIGHT
BEGIN:STANDARD
TZOFFSETFROM:-0400
TZOFFSETTO:-0500
TZNAME:EST
DTSTART:20171105T060000
END:STANDARD
BEGIN:DAYLIGHT
TZOFFSETFROM:-0500
TZOFFSETTO:-0400
TZNAME:EDT
DTSTART:20180311T070000
END:DAYLIGHT
BEGIN:STANDARD
TZOFFSETFROM:-0400
TZOFFSETTO:-0500
TZNAME:EST
DTSTART:20181104T060000
END:STANDARD
END:VTIMEZONE
BEGIN:VEVENT
DTSTART;VALUE=DATE:20170611
DTEND;VALUE=DATE:20170612
DTSTAMP:20260425T121459
CREATED:20170302T113026Z
LAST-MODIFIED:20170302T113026Z
UID:10033751-1497139200-1497225599@thamesyc.org
SUMMARY:Block Island Mooring reserved for S/V VOYAGER
DESCRIPTION:
URL:https://thamesyc.org/event/block-island-mooring-reserved-for-sv-voyager-3/
CATEGORIES:Block Island Mooring Reservation.
END:VEVENT
BEGIN:VEVENT
DTSTART;TZID=America/New_York:20170614T173000
DTEND;TZID=America/New_York:20170614T210000
DTSTAMP:20260425T121459
CREATED:20170211T215229Z
LAST-MODIFIED:20170508T130424Z
UID:10033970-1497461400-1497474000@thamesyc.org
SUMMARY:Wednesday Night Spring Series
DESCRIPTION:
URL:https://thamesyc.org/event/wednesday-night-spring-series/2017-06-14/
CATEGORIES:Racing
END:VEVENT
BEGIN:VEVENT
DTSTART;TZID=America/New_York:20170615T173000
DTEND;TZID=America/New_York:20170615T210000
DTSTAMP:20260425T121459
CREATED:20170211T215954Z
LAST-MODIFIED:20170211T215954Z
UID:10033986-1497547800-1497560400@thamesyc.org
SUMMARY:Force Five Thursday Night Series
DESCRIPTION:
URL:https://thamesyc.org/event/force-five-thursday-night-series/2017-06-15/
CATEGORIES:Racing
END:VEVENT
BEGIN:VEVENT
DTSTART;TZID=America/New_York:20170617T110000
DTEND;TZID=America/New_York:20170618T170000
DTSTAMP:20260425T121459
CREATED:20161218T014449Z
LAST-MODIFIED:20161218T014449Z
UID:10033929-1497697200-1497805200@thamesyc.org
SUMMARY:TYC Cruise to New London
DESCRIPTION:
URL:https://thamesyc.org/event/tyc-cruise-to-new-london/
CATEGORIES:Cruise Event
END:VEVENT
END:VCALENDAR