BEGIN:VCALENDAR
VERSION:2.0
PRODID:-//Thames Yacht Club - ECPv6.15.17//NONSGML v1.0//EN
CALSCALE:GREGORIAN
METHOD:PUBLISH
X-ORIGINAL-URL:https://thamesyc.org
X-WR-CALDESC:Events for Thames Yacht Club
REFRESH-INTERVAL;VALUE=DURATION:PT1H
X-Robots-Tag:noindex
X-PUBLISHED-TTL:PT1H
BEGIN:VTIMEZONE
TZID:America/New_York
BEGIN:DAYLIGHT
TZOFFSETFROM:-0500
TZOFFSETTO:-0400
TZNAME:EDT
DTSTART:20150308T070000
END:DAYLIGHT
BEGIN:STANDARD
TZOFFSETFROM:-0400
TZOFFSETTO:-0500
TZNAME:EST
DTSTART:20151101T060000
END:STANDARD
BEGIN:DAYLIGHT
TZOFFSETFROM:-0500
TZOFFSETTO:-0400
TZNAME:EDT
DTSTART:20160313T070000
END:DAYLIGHT
BEGIN:STANDARD
TZOFFSETFROM:-0400
TZOFFSETTO:-0500
TZNAME:EST
DTSTART:20161106T060000
END:STANDARD
BEGIN:DAYLIGHT
TZOFFSETFROM:-0500
TZOFFSETTO:-0400
TZNAME:EDT
DTSTART:20170312T070000
END:DAYLIGHT
BEGIN:STANDARD
TZOFFSETFROM:-0400
TZOFFSETTO:-0500
TZNAME:EST
DTSTART:20171105T060000
END:STANDARD
END:VTIMEZONE
BEGIN:VEVENT
DTSTART;TZID=America/New_York:20160831T180000
DTEND;TZID=America/New_York:20160831T200000
DTSTAMP:20260424T191715
CREATED:20160311T011555Z
LAST-MODIFIED:20160316T221151Z
UID:10033710-1472666400-1472673600@thamesyc.org
SUMMARY:Wednesday PHRF & Ensign Summer Series Racing
DESCRIPTION:
URL:https://thamesyc.org/event/wednesday-phrf-ensign-summer-series-racing/2016-08-31/
CATEGORIES:Racing
END:VEVENT
BEGIN:VEVENT
DTSTART;TZID=America/New_York:20160901T090000
DTEND;TZID=America/New_York:20160901T200000
DTSTAMP:20260424T191715
CREATED:20160831T003022Z
LAST-MODIFIED:20160831T003022Z
UID:10033819-1472720400-1472760000@thamesyc.org
SUMMARY:TYC Launch Schedule
DESCRIPTION:TYC Launch can be hailed on Channel 71.
URL:https://thamesyc.org/event/tyc-launch-schedule-26/2016-09-01/
LOCATION:Thames Yacht Club\, 396 Pequot Avenue\, New London\, CT\, 06320\, United States
CATEGORIES:TYC Launch Schedule
GEO:41.3308391;-72.0946565
X-APPLE-STRUCTURED-LOCATION;VALUE=URI;X-ADDRESS=Thames Yacht Club 396 Pequot Avenue New London CT 06320 United States;X-APPLE-RADIUS=500;X-TITLE=396 Pequot Avenue:geo:-72.0946565,41.3308391
END:VEVENT
BEGIN:VEVENT
DTSTART;TZID=America/New_York:20160901T180000
DTEND;TZID=America/New_York:20160901T200000
DTSTAMP:20260424T191715
CREATED:20160311T011832Z
LAST-MODIFIED:20160316T222445Z
UID:10033724-1472752800-1472760000@thamesyc.org
SUMMARY:Force 5 Summer Series Racing
DESCRIPTION:
URL:https://thamesyc.org/event/force-5-summer-series-racing/2016-09-01/
CATEGORIES:Racing
END:VEVENT
BEGIN:VEVENT
DTSTART;VALUE=DATE:20160902
DTEND;VALUE=DATE:20160904
DTSTAMP:20260424T191715
CREATED:20160612T233943Z
LAST-MODIFIED:20160612T233943Z
UID:10033789-1472774400-1472947199@thamesyc.org
SUMMARY:Block Island Mooring Reserved for S/V Pallas Cat
DESCRIPTION:
URL:https://thamesyc.org/event/block-island-mooring-reserved-sv-pallas-cat/
CATEGORIES:Block Island Mooring Reservation.
END:VEVENT
BEGIN:VEVENT
DTSTART;TZID=America/New_York:20160902T090000
DTEND;TZID=America/New_York:20160902T200000
DTSTAMP:20260424T191715
CREATED:20160831T003022Z
LAST-MODIFIED:20160831T003022Z
UID:10033820-1472806800-1472846400@thamesyc.org
SUMMARY:TYC Launch Schedule
DESCRIPTION:TYC Launch can be hailed on Channel 71.
URL:https://thamesyc.org/event/tyc-launch-schedule-26/2016-09-02/
LOCATION:Thames Yacht Club\, 396 Pequot Avenue\, New London\, CT\, 06320\, United States
CATEGORIES:TYC Launch Schedule
GEO:41.3308391;-72.0946565
X-APPLE-STRUCTURED-LOCATION;VALUE=URI;X-ADDRESS=Thames Yacht Club 396 Pequot Avenue New London CT 06320 United States;X-APPLE-RADIUS=500;X-TITLE=396 Pequot Avenue:geo:-72.0946565,41.3308391
END:VEVENT
BEGIN:VEVENT
DTSTART;TZID=America/New_York:20160903T073000
DTEND;TZID=America/New_York:20160903T200000
DTSTAMP:20260424T191715
CREATED:20160831T003431Z
LAST-MODIFIED:20160831T003431Z
UID:10033654-1472887800-1472932800@thamesyc.org
SUMMARY:TYC Launch Schedule
DESCRIPTION:The TYC Launch can be hailed on Channel 71
URL:https://thamesyc.org/event/tyc-launch-schedule-49/
LOCATION:Thames Yacht Club\, 396 Pequot Avenue\, New London\, CT\, 06320\, United States
CATEGORIES:TYC Launch Schedule
GEO:41.3308391;-72.0946565
X-APPLE-STRUCTURED-LOCATION;VALUE=URI;X-ADDRESS=Thames Yacht Club 396 Pequot Avenue New London CT 06320 United States;X-APPLE-RADIUS=500;X-TITLE=396 Pequot Avenue:geo:-72.0946565,41.3308391
END:VEVENT
END:VCALENDAR