BEGIN:VCALENDAR
VERSION:2.0
PRODID:-//Thames Yacht Club - ECPv6.15.17//NONSGML v1.0//EN
CALSCALE:GREGORIAN
METHOD:PUBLISH
X-WR-CALNAME:Thames Yacht Club
X-ORIGINAL-URL:https://thamesyc.org
X-WR-CALDESC:Events for Thames Yacht Club
REFRESH-INTERVAL;VALUE=DURATION:PT1H
X-Robots-Tag:noindex
X-PUBLISHED-TTL:PT1H
BEGIN:VTIMEZONE
TZID:America/New_York
BEGIN:DAYLIGHT
TZOFFSETFROM:-0500
TZOFFSETTO:-0400
TZNAME:EDT
DTSTART:20150308T070000
END:DAYLIGHT
BEGIN:STANDARD
TZOFFSETFROM:-0400
TZOFFSETTO:-0500
TZNAME:EST
DTSTART:20151101T060000
END:STANDARD
BEGIN:DAYLIGHT
TZOFFSETFROM:-0500
TZOFFSETTO:-0400
TZNAME:EDT
DTSTART:20160313T070000
END:DAYLIGHT
BEGIN:STANDARD
TZOFFSETFROM:-0400
TZOFFSETTO:-0500
TZNAME:EST
DTSTART:20161106T060000
END:STANDARD
BEGIN:DAYLIGHT
TZOFFSETFROM:-0500
TZOFFSETTO:-0400
TZNAME:EDT
DTSTART:20170312T070000
END:DAYLIGHT
BEGIN:STANDARD
TZOFFSETFROM:-0400
TZOFFSETTO:-0500
TZNAME:EST
DTSTART:20171105T060000
END:STANDARD
END:VTIMEZONE
BEGIN:VEVENT
DTSTART;VALUE=DATE:20160801
DTEND;VALUE=DATE:20160804
DTSTAMP:20260424T204537
CREATED:20160530T192545Z
LAST-MODIFIED:20160530T192545Z
UID:10033785-1470009600-1470268799@thamesyc.org
SUMMARY:Block Island Mooring Reserved for S/V THRASHER
DESCRIPTION:
URL:https://thamesyc.org/event/block-island-mooring-reserved-sv-thrasher/
CATEGORIES:Block Island Mooring Reservation.
END:VEVENT
BEGIN:VEVENT
DTSTART;TZID=America/New_York:20160803T180000
DTEND;TZID=America/New_York:20160803T200000
DTSTAMP:20260424T204537
CREATED:20160311T011555Z
LAST-MODIFIED:20160316T221151Z
UID:10033706-1470247200-1470254400@thamesyc.org
SUMMARY:Wednesday PHRF & Ensign Summer Series Racing
DESCRIPTION:
URL:https://thamesyc.org/event/wednesday-phrf-ensign-summer-series-racing/2016-08-03/
CATEGORIES:Racing
END:VEVENT
BEGIN:VEVENT
DTSTART;TZID=America/New_York:20160804T080000
DTEND;TZID=America/New_York:20160806T170000
DTSTAMP:20260424T204537
CREATED:20160322T201510Z
LAST-MODIFIED:20160322T201510Z
UID:10033765-1470297600-1470502800@thamesyc.org
SUMMARY:Block Island Mooring reserved S/V Two Hours
DESCRIPTION:
URL:https://thamesyc.org/event/block-island-mooring-reserved-sv-two-hours-2/
CATEGORIES:Block Island Mooring Reservation.
END:VEVENT
BEGIN:VEVENT
DTSTART;TZID=America/New_York:20160804T180000
DTEND;TZID=America/New_York:20160804T200000
DTSTAMP:20260424T204537
CREATED:20160311T011832Z
LAST-MODIFIED:20160316T222445Z
UID:10033720-1470333600-1470340800@thamesyc.org
SUMMARY:Force 5 Summer Series Racing
DESCRIPTION:
URL:https://thamesyc.org/event/force-5-summer-series-racing/2016-08-04/
CATEGORIES:Racing
END:VEVENT
END:VCALENDAR