BEGIN:VCALENDAR
VERSION:2.0
PRODID:-//Thames Yacht Club - ECPv6.15.17//NONSGML v1.0//EN
CALSCALE:GREGORIAN
METHOD:PUBLISH
X-WR-CALNAME:Thames Yacht Club
X-ORIGINAL-URL:https://thamesyc.org
X-WR-CALDESC:Events for Thames Yacht Club
REFRESH-INTERVAL;VALUE=DURATION:PT1H
X-Robots-Tag:noindex
X-PUBLISHED-TTL:PT1H
BEGIN:VTIMEZONE
TZID:America/New_York
BEGIN:DAYLIGHT
TZOFFSETFROM:-0500
TZOFFSETTO:-0400
TZNAME:EDT
DTSTART:20150308T070000
END:DAYLIGHT
BEGIN:STANDARD
TZOFFSETFROM:-0400
TZOFFSETTO:-0500
TZNAME:EST
DTSTART:20151101T060000
END:STANDARD
BEGIN:DAYLIGHT
TZOFFSETFROM:-0500
TZOFFSETTO:-0400
TZNAME:EDT
DTSTART:20160313T070000
END:DAYLIGHT
BEGIN:STANDARD
TZOFFSETFROM:-0400
TZOFFSETTO:-0500
TZNAME:EST
DTSTART:20161106T060000
END:STANDARD
BEGIN:DAYLIGHT
TZOFFSETFROM:-0500
TZOFFSETTO:-0400
TZNAME:EDT
DTSTART:20170312T070000
END:DAYLIGHT
BEGIN:STANDARD
TZOFFSETFROM:-0400
TZOFFSETTO:-0500
TZNAME:EST
DTSTART:20171105T060000
END:STANDARD
END:VTIMEZONE
BEGIN:VEVENT
DTSTART;VALUE=DATE:20160628
DTEND;VALUE=DATE:20160629
DTSTAMP:20260424T220640
CREATED:20160628T164823Z
LAST-MODIFIED:20160628T164823Z
UID:10033790-1467072000-1467158399@thamesyc.org
SUMMARY:Block Island Mooring Reserved by S/V Luff Song
DESCRIPTION:
URL:https://thamesyc.org/event/block-island-mooring-reserved-sv-luff-song/
CATEGORIES:Block Island Mooring Reservation.
END:VEVENT
BEGIN:VEVENT
DTSTART;TZID=America/New_York:20160630T180000
DTEND;TZID=America/New_York:20160630T200000
DTSTAMP:20260424T220640
CREATED:20160311T011724Z
LAST-MODIFIED:20160316T221001Z
UID:10033715-1467309600-1467316800@thamesyc.org
SUMMARY:Force 5 Spring Series Racing
DESCRIPTION:
URL:https://thamesyc.org/event/force-5-spring-series-racing/2016-06-30/
CATEGORIES:Racing
END:VEVENT
BEGIN:VEVENT
DTSTART;TZID=America/New_York:20160702T080000
DTEND;TZID=America/New_York:20160709T170000
DTSTAMP:20260424T220640
CREATED:20160322T202756Z
LAST-MODIFIED:20160705T113216Z
UID:10033766-1467446400-1468083600@thamesyc.org
SUMMARY:Block Island Mooring reserved S/V VOYAGER
DESCRIPTION:
URL:https://thamesyc.org/event/block-island-mooring-reserved-sv-voyager/
CATEGORIES:Block Island Mooring Reservation.
END:VEVENT
END:VCALENDAR