BEGIN:VCALENDAR
VERSION:2.0
PRODID:-//Thames Yacht Club - ECPv6.15.20//NONSGML v1.0//EN
CALSCALE:GREGORIAN
METHOD:PUBLISH
X-ORIGINAL-URL:https://thamesyc.org
X-WR-CALDESC:Events for Thames Yacht Club
REFRESH-INTERVAL;VALUE=DURATION:PT1H
X-Robots-Tag:noindex
X-PUBLISHED-TTL:PT1H
BEGIN:VTIMEZONE
TZID:America/New_York
BEGIN:DAYLIGHT
TZOFFSETFROM:-0500
TZOFFSETTO:-0400
TZNAME:EDT
DTSTART:20140309T070000
END:DAYLIGHT
BEGIN:STANDARD
TZOFFSETFROM:-0400
TZOFFSETTO:-0500
TZNAME:EST
DTSTART:20141102T060000
END:STANDARD
BEGIN:DAYLIGHT
TZOFFSETFROM:-0500
TZOFFSETTO:-0400
TZNAME:EDT
DTSTART:20150308T070000
END:DAYLIGHT
BEGIN:STANDARD
TZOFFSETFROM:-0400
TZOFFSETTO:-0500
TZNAME:EST
DTSTART:20151101T060000
END:STANDARD
BEGIN:DAYLIGHT
TZOFFSETFROM:-0500
TZOFFSETTO:-0400
TZNAME:EDT
DTSTART:20160313T070000
END:DAYLIGHT
BEGIN:STANDARD
TZOFFSETFROM:-0400
TZOFFSETTO:-0500
TZNAME:EST
DTSTART:20161106T060000
END:STANDARD
END:VTIMEZONE
BEGIN:VEVENT
DTSTART;VALUE=DATE:20150919
DTEND;VALUE=DATE:20150921
DTSTAMP:20260425T131532
CREATED:20150420T182739Z
LAST-MODIFIED:20150914T182328Z
UID:10033639-1442620800-1442793599@thamesyc.org
SUMMARY:Launch Operations: 10am-7pm
DESCRIPTION:
URL:https://thamesyc.org/event/launch-operations-10am-8pm-2015-09-19/2015-09-19/
CATEGORIES:TYC Launch Schedule
END:VEVENT
BEGIN:VEVENT
DTSTART;VALUE=DATE:20150919
DTEND;VALUE=DATE:20150922
DTSTAMP:20260425T131532
CREATED:20150221T154050Z
LAST-MODIFIED:20150318T112059Z
UID:10033587-1442620800-1442879999@thamesyc.org
SUMMARY:Mystic Seaport Cruise
DESCRIPTION:
URL:https://thamesyc.org/event/mystic-seaport-cruise-2/
CATEGORIES:Cruise Event
END:VEVENT
BEGIN:VEVENT
DTSTART;VALUE=DATE:20150921
DTEND;VALUE=DATE:20150927
DTSTAMP:20260425T131532
CREATED:20150330T144609Z
LAST-MODIFIED:20150406T113746Z
UID:10033604-1442793600-1443311999@thamesyc.org
SUMMARY:BI mooring reserved S/V LEDGELIGHT
DESCRIPTION:
URL:https://thamesyc.org/event/bi-mooring-reserved-sv-ledgelight/
CATEGORIES:Block Island Mooring Reservation.
END:VEVENT
BEGIN:VEVENT
DTSTART;TZID=America/New_York:20150921T120000
DTEND;TZID=America/New_York:20150921T160000
DTSTAMP:20260425T131532
CREATED:20150914T183256Z
LAST-MODIFIED:20150914T183256Z
UID:10033694-1442836800-1442851200@thamesyc.org
SUMMARY:Launch Operation 12pm - 4pm
DESCRIPTION:
URL:https://thamesyc.org/event/launch-operation-12pm-4pm/
CATEGORIES:TYC Launch Schedule
END:VEVENT
BEGIN:VEVENT
DTSTART;TZID=America/New_York:20150922T150000
DTEND;TZID=America/New_York:20150922T190000
DTSTAMP:20260425T131532
CREATED:20150917T164003Z
LAST-MODIFIED:20150917T164003Z
UID:10033588-1442934000-1442948400@thamesyc.org
SUMMARY:Launch Operation 3 - 7pm
DESCRIPTION:
URL:https://thamesyc.org/event/launch-operation-3-7pm/2015-09-22/
CATEGORIES:TYC Launch Schedule
END:VEVENT
BEGIN:VEVENT
DTSTART;TZID=America/New_York:20150924T150000
DTEND;TZID=America/New_York:20150924T190000
DTSTAMP:20260425T131532
CREATED:20150917T164324Z
LAST-MODIFIED:20150917T164422Z
UID:10033590-1443106800-1443121200@thamesyc.org
SUMMARY:Launch Operation: 3 - 7pm
DESCRIPTION:
URL:https://thamesyc.org/event/launch-operation-3-7pm-2/
CATEGORIES:TYC Launch Schedule
END:VEVENT
BEGIN:VEVENT
DTSTART;TZID=America/New_York:20150925T140000
DTEND;TZID=America/New_York:20150925T190000
DTSTAMP:20260425T131532
CREATED:20150423T182744Z
LAST-MODIFIED:20150915T105130Z
UID:10033646-1443189600-1443207600@thamesyc.org
SUMMARY:Launch Operation: 2pm-7pm
DESCRIPTION:
URL:https://thamesyc.org/event/launch-operation-2pm-6pm-2-2015-09-25/
CATEGORIES:TYC Launch Schedule
END:VEVENT
BEGIN:VEVENT
DTSTART;TZID=America/New_York:20150926T140000
DTEND;TZID=America/New_York:20150926T230000
DTSTAMP:20260425T131532
CREATED:20150531T222347Z
LAST-MODIFIED:20150531T222347Z
UID:10033652-1443276000-1443308400@thamesyc.org
SUMMARY:Member Wedding
DESCRIPTION:
URL:https://thamesyc.org/event/member-wedding/
LOCATION:Thames Yacht Club\, 396 Pequot Avenue\, New London\, CT\, 06320\, United States
CATEGORIES:Party
GEO:41.3308391;-72.0946565
X-APPLE-STRUCTURED-LOCATION;VALUE=URI;X-ADDRESS=Thames Yacht Club 396 Pequot Avenue New London CT 06320 United States;X-APPLE-RADIUS=500;X-TITLE=396 Pequot Avenue:geo:-72.0946565,41.3308391
END:VEVENT
END:VCALENDAR