BEGIN:VCALENDAR
VERSION:2.0
PRODID:-//Thames Yacht Club - ECPv6.15.20//NONSGML v1.0//EN
CALSCALE:GREGORIAN
METHOD:PUBLISH
X-ORIGINAL-URL:https://thamesyc.org
X-WR-CALDESC:Events for Thames Yacht Club
REFRESH-INTERVAL;VALUE=DURATION:PT1H
X-Robots-Tag:noindex
X-PUBLISHED-TTL:PT1H
BEGIN:VTIMEZONE
TZID:America/New_York
BEGIN:DAYLIGHT
TZOFFSETFROM:-0500
TZOFFSETTO:-0400
TZNAME:EDT
DTSTART:20140309T070000
END:DAYLIGHT
BEGIN:STANDARD
TZOFFSETFROM:-0400
TZOFFSETTO:-0500
TZNAME:EST
DTSTART:20141102T060000
END:STANDARD
BEGIN:DAYLIGHT
TZOFFSETFROM:-0500
TZOFFSETTO:-0400
TZNAME:EDT
DTSTART:20150308T070000
END:DAYLIGHT
BEGIN:STANDARD
TZOFFSETFROM:-0400
TZOFFSETTO:-0500
TZNAME:EST
DTSTART:20151101T060000
END:STANDARD
BEGIN:DAYLIGHT
TZOFFSETFROM:-0500
TZOFFSETTO:-0400
TZNAME:EDT
DTSTART:20160313T070000
END:DAYLIGHT
BEGIN:STANDARD
TZOFFSETFROM:-0400
TZOFFSETTO:-0500
TZNAME:EST
DTSTART:20161106T060000
END:STANDARD
END:VTIMEZONE
BEGIN:VEVENT
DTSTART;VALUE=DATE:20150913
DTEND;VALUE=DATE:20150914
DTSTAMP:20260425T143708
CREATED:20150420T182739Z
LAST-MODIFIED:20150423T181902Z
UID:10033638-1442102400-1442188799@thamesyc.org
SUMMARY:Launch Operations: 8am-8pm
DESCRIPTION:
URL:https://thamesyc.org/event/launch-operations-10am-8pm-2015-09-12/
CATEGORIES:TYC Launch Schedule
END:VEVENT
BEGIN:VEVENT
DTSTART;TZID=America/New_York:20150913T105500
DTEND;TZID=America/New_York:20150913T160000
DTSTAMP:20260425T143708
CREATED:20150407T234728Z
LAST-MODIFIED:20150407T234728Z
UID:10033546-1442141700-1442160000@thamesyc.org
SUMMARY:Commodore's Trophy Race
DESCRIPTION:Please see more in the Racing Page!
URL:https://thamesyc.org/event/commodores-trophy-race/
LOCATION:Thames Yacht Club\, 396 Pequot Avenue\, New London\, CT\, 06320\, United States
CATEGORIES:Club Wide Event
GEO:41.3308391;-72.0946565
X-APPLE-STRUCTURED-LOCATION;VALUE=URI;X-ADDRESS=Thames Yacht Club 396 Pequot Avenue New London CT 06320 United States;X-APPLE-RADIUS=500;X-TITLE=396 Pequot Avenue:geo:-72.0946565,41.3308391
END:VEVENT
BEGIN:VEVENT
DTSTART;TZID=America/New_York:20150917T140000
DTEND;TZID=America/New_York:20150917T190000
DTSTAMP:20260425T143708
CREATED:20150503T131115Z
LAST-MODIFIED:20150914T182022Z
UID:10033649-1442498400-1442516400@thamesyc.org
SUMMARY:Launch Operation: 2pm-7pm
DESCRIPTION:
URL:https://thamesyc.org/event/launch-operation-2pm-6pm-3/
CATEGORIES:TYC Launch Schedule
END:VEVENT
BEGIN:VEVENT
DTSTART;TZID=America/New_York:20150918T110000
DTEND;TZID=America/New_York:20150919T170000
DTSTAMP:20260425T143708
CREATED:20150401T205308Z
LAST-MODIFIED:20150401T205308Z
UID:10033615-1442574000-1442682000@thamesyc.org
SUMMARY:Fall OSC Series
DESCRIPTION:
URL:https://thamesyc.org/event/fall-osc-series/
CATEGORIES:Racing
END:VEVENT
BEGIN:VEVENT
DTSTART;TZID=America/New_York:20150918T140000
DTEND;TZID=America/New_York:20150918T190000
DTSTAMP:20260425T143708
CREATED:20150423T182744Z
LAST-MODIFIED:20150914T182127Z
UID:10033645-1442584800-1442602800@thamesyc.org
SUMMARY:Launch Operation: 8am-10am & 2pm-7pm
DESCRIPTION:
URL:https://thamesyc.org/event/launch-operation-2pm-6pm-2-2015-09-18/
CATEGORIES:TYC Launch Schedule
END:VEVENT
BEGIN:VEVENT
DTSTART;VALUE=DATE:20150919
DTEND;VALUE=DATE:20150921
DTSTAMP:20260425T143708
CREATED:20150420T182739Z
LAST-MODIFIED:20150914T182328Z
UID:10033639-1442620800-1442793599@thamesyc.org
SUMMARY:Launch Operations: 10am-7pm
DESCRIPTION:
URL:https://thamesyc.org/event/launch-operations-10am-8pm-2015-09-19/2015-09-19/
CATEGORIES:TYC Launch Schedule
END:VEVENT
BEGIN:VEVENT
DTSTART;VALUE=DATE:20150919
DTEND;VALUE=DATE:20150922
DTSTAMP:20260425T143708
CREATED:20150221T154050Z
LAST-MODIFIED:20150318T112059Z
UID:10033587-1442620800-1442879999@thamesyc.org
SUMMARY:Mystic Seaport Cruise
DESCRIPTION:
URL:https://thamesyc.org/event/mystic-seaport-cruise-2/
CATEGORIES:Cruise Event
END:VEVENT
END:VCALENDAR