BEGIN:VCALENDAR
VERSION:2.0
PRODID:-//Thames Yacht Club - ECPv6.15.20//NONSGML v1.0//EN
CALSCALE:GREGORIAN
METHOD:PUBLISH
X-ORIGINAL-URL:https://thamesyc.org
X-WR-CALDESC:Events for Thames Yacht Club
REFRESH-INTERVAL;VALUE=DURATION:PT1H
X-Robots-Tag:noindex
X-PUBLISHED-TTL:PT1H
BEGIN:VTIMEZONE
TZID:America/New_York
BEGIN:DAYLIGHT
TZOFFSETFROM:-0500
TZOFFSETTO:-0400
TZNAME:EDT
DTSTART:20140309T070000
END:DAYLIGHT
BEGIN:STANDARD
TZOFFSETFROM:-0400
TZOFFSETTO:-0500
TZNAME:EST
DTSTART:20141102T060000
END:STANDARD
BEGIN:DAYLIGHT
TZOFFSETFROM:-0500
TZOFFSETTO:-0400
TZNAME:EDT
DTSTART:20150308T070000
END:DAYLIGHT
BEGIN:STANDARD
TZOFFSETFROM:-0400
TZOFFSETTO:-0500
TZNAME:EST
DTSTART:20151101T060000
END:STANDARD
BEGIN:DAYLIGHT
TZOFFSETFROM:-0500
TZOFFSETTO:-0400
TZNAME:EDT
DTSTART:20160313T070000
END:DAYLIGHT
BEGIN:STANDARD
TZOFFSETFROM:-0400
TZOFFSETTO:-0500
TZNAME:EST
DTSTART:20161106T060000
END:STANDARD
END:VTIMEZONE
BEGIN:VEVENT
DTSTART;TZID=America/New_York:20150729T080000
DTEND;TZID=America/New_York:20150730T170000
DTSTAMP:20260425T172528
CREATED:20150619T172349Z
LAST-MODIFIED:20150619T172349Z
UID:10033669-1438156800-1438275600@thamesyc.org
SUMMARY:BI Mooring Reserved S/V THRASHER
DESCRIPTION:
URL:https://thamesyc.org/event/bi-mooring-reserved-sv-thrasher-4/
CATEGORIES:Block Island Mooring Reservation.
END:VEVENT
BEGIN:VEVENT
DTSTART;TZID=America/New_York:20150731T080000
DTEND;TZID=America/New_York:20150801T170000
DTSTAMP:20260425T172528
CREATED:20150512T005342Z
LAST-MODIFIED:20150512T005342Z
UID:10033650-1438329600-1438448400@thamesyc.org
SUMMARY:BI mooring reserved S/V PINGA
DESCRIPTION:
URL:https://thamesyc.org/event/bi-mooring-reserved-sv-pinga/
CATEGORIES:Block Island Mooring Reservation.
END:VEVENT
END:VCALENDAR