BEGIN:VCALENDAR
VERSION:2.0
PRODID:-//Thames Yacht Club - ECPv6.15.20//NONSGML v1.0//EN
CALSCALE:GREGORIAN
METHOD:PUBLISH
X-ORIGINAL-URL:https://thamesyc.org
X-WR-CALDESC:Events for Thames Yacht Club
REFRESH-INTERVAL;VALUE=DURATION:PT1H
X-Robots-Tag:noindex
X-PUBLISHED-TTL:PT1H
BEGIN:VTIMEZONE
TZID:America/New_York
BEGIN:DAYLIGHT
TZOFFSETFROM:-0500
TZOFFSETTO:-0400
TZNAME:EDT
DTSTART:20140309T070000
END:DAYLIGHT
BEGIN:STANDARD
TZOFFSETFROM:-0400
TZOFFSETTO:-0500
TZNAME:EST
DTSTART:20141102T060000
END:STANDARD
BEGIN:DAYLIGHT
TZOFFSETFROM:-0500
TZOFFSETTO:-0400
TZNAME:EDT
DTSTART:20150308T070000
END:DAYLIGHT
BEGIN:STANDARD
TZOFFSETFROM:-0400
TZOFFSETTO:-0500
TZNAME:EST
DTSTART:20151101T060000
END:STANDARD
BEGIN:DAYLIGHT
TZOFFSETFROM:-0500
TZOFFSETTO:-0400
TZNAME:EDT
DTSTART:20160313T070000
END:DAYLIGHT
BEGIN:STANDARD
TZOFFSETFROM:-0400
TZOFFSETTO:-0500
TZNAME:EST
DTSTART:20161106T060000
END:STANDARD
END:VTIMEZONE
BEGIN:VEVENT
DTSTART;VALUE=DATE:20150620
DTEND;VALUE=DATE:20150622
DTSTAMP:20260425T172529
CREATED:20150221T153554Z
LAST-MODIFIED:20150330T165145Z
UID:10033557-1434758400-1434931199@thamesyc.org
SUMMARY:Cruise to Norwich - American Wharf
DESCRIPTION:
URL:https://thamesyc.org/event/cruise-norwich-american-wharf/
CATEGORIES:Cruise Event
END:VEVENT
BEGIN:VEVENT
DTSTART;VALUE=DATE:20150621
DTEND;VALUE=DATE:20150622
DTSTAMP:20260425T172529
CREATED:20150310T203112Z
LAST-MODIFIED:20150330T145532Z
UID:10033591-1434844800-1434931199@thamesyc.org
SUMMARY:BI Mooring reserved S/V ECHO
DESCRIPTION:
URL:https://thamesyc.org/event/bi-mooring-reserved-sv-echo/
CATEGORIES:Block Island Mooring Reservation.
END:VEVENT
BEGIN:VEVENT
DTSTART;TZID=America/New_York:20150625T080000
DTEND;TZID=America/New_York:20150626T170000
DTSTAMP:20260425T172529
CREATED:20150624T195336Z
LAST-MODIFIED:20150624T195336Z
UID:10033671-1435219200-1435338000@thamesyc.org
SUMMARY:Block Island mooring reserved for S/V ADELINE
DESCRIPTION:
URL:https://thamesyc.org/event/block-island-mooring-reserved-for-sv-adeline/
CATEGORIES:Block Island Mooring Reservation.
END:VEVENT
BEGIN:VEVENT
DTSTART;VALUE=DATE:20150627
DTEND;VALUE=DATE:20150629
DTSTAMP:20260425T172529
CREATED:20150317T125704Z
LAST-MODIFIED:20150330T145454Z
UID:10033593-1435363200-1435535999@thamesyc.org
SUMMARY:BI Mooring reserved S/V THISTLE
DESCRIPTION:
URL:https://thamesyc.org/event/bi-mooring-reserved-sv-thistle/
CATEGORIES:Block Island Mooring Reservation.
END:VEVENT
BEGIN:VEVENT
DTSTART;TZID=America/New_York:20150627T115500
DTEND;TZID=America/New_York:20150627T160000
DTSTAMP:20260425T172529
CREATED:20150407T234909Z
LAST-MODIFIED:20150407T234909Z
UID:10033548-1435406100-1435420800@thamesyc.org
SUMMARY:Calvin Brouwer Memorial Regatta
DESCRIPTION:Please see the Racing Page for more information.
URL:https://thamesyc.org/event/calvin-brouwer-memorial-regatta/
LOCATION:Thames Yacht Club\, 396 Pequot Avenue\, New London\, CT\, 06320\, United States
CATEGORIES:Club Wide Event
GEO:41.3308391;-72.0946565
X-APPLE-STRUCTURED-LOCATION;VALUE=URI;X-ADDRESS=Thames Yacht Club 396 Pequot Avenue New London CT 06320 United States;X-APPLE-RADIUS=500;X-TITLE=396 Pequot Avenue:geo:-72.0946565,41.3308391
END:VEVENT
END:VCALENDAR