BEGIN:VCALENDAR
VERSION:2.0
PRODID:-//Thames Yacht Club - ECPv6.15.20//NONSGML v1.0//EN
CALSCALE:GREGORIAN
METHOD:PUBLISH
X-WR-CALNAME:Thames Yacht Club
X-ORIGINAL-URL:https://thamesyc.org
X-WR-CALDESC:Events for Thames Yacht Club
REFRESH-INTERVAL;VALUE=DURATION:PT1H
X-Robots-Tag:noindex
X-PUBLISHED-TTL:PT1H
BEGIN:VTIMEZONE
TZID:America/New_York
BEGIN:DAYLIGHT
TZOFFSETFROM:-0500
TZOFFSETTO:-0400
TZNAME:EDT
DTSTART:20230312T070000
END:DAYLIGHT
BEGIN:STANDARD
TZOFFSETFROM:-0400
TZOFFSETTO:-0500
TZNAME:EST
DTSTART:20231105T060000
END:STANDARD
BEGIN:DAYLIGHT
TZOFFSETFROM:-0500
TZOFFSETTO:-0400
TZNAME:EDT
DTSTART:20240310T070000
END:DAYLIGHT
BEGIN:STANDARD
TZOFFSETFROM:-0400
TZOFFSETTO:-0500
TZNAME:EST
DTSTART:20241103T060000
END:STANDARD
BEGIN:DAYLIGHT
TZOFFSETFROM:-0500
TZOFFSETTO:-0400
TZNAME:EDT
DTSTART:20250309T070000
END:DAYLIGHT
BEGIN:STANDARD
TZOFFSETFROM:-0400
TZOFFSETTO:-0500
TZNAME:EST
DTSTART:20251102T060000
END:STANDARD
END:VTIMEZONE
BEGIN:VEVENT
DTSTART;TZID=America/New_York:20240409T190000
DTEND;TZID=America/New_York:20240409T210000
DTSTAMP:20260425T171042
CREATED:20231129T185024Z
LAST-MODIFIED:20231129T185024Z
UID:10036335-1712689200-1712696400@thamesyc.org
SUMMARY:Executive Committee Meeting
DESCRIPTION:
URL:https://thamesyc.org/event/executive-committee-meeting-16/
END:VEVENT
BEGIN:VEVENT
DTSTART;TZID=America/New_York:20240413T090000
DTEND;TZID=America/New_York:20240419T170000
DTSTAMP:20260425T171042
CREATED:20240322T074403Z
LAST-MODIFIED:20240322T074403Z
UID:10036794-1712998800-1713546000@thamesyc.org
SUMMARY:Spring Cleanup - Outdoor
DESCRIPTION:
URL:https://thamesyc.org/event/spring-cleanup-outdoor/
CATEGORIES:Work Party Event
END:VEVENT
BEGIN:VEVENT
DTSTART;VALUE=DATE:20240420
DTEND;VALUE=DATE:20240421
DTSTAMP:20260425T171042
CREATED:20231219T002804Z
LAST-MODIFIED:20240322T074224Z
UID:10036344-1713571200-1713657599@thamesyc.org
SUMMARY:Spring Cleanup - Indoor
DESCRIPTION:
URL:https://thamesyc.org/event/spring-cleanup-4/
CATEGORIES:Work Party Event
END:VEVENT
BEGIN:VEVENT
DTSTART;TZID=America/New_York:20240421T160000
DTEND;TZID=America/New_York:20240421T180000
DTSTAMP:20260425T171042
CREATED:20231129T183401Z
LAST-MODIFIED:20231129T183401Z
UID:10036329-1713715200-1713722400@thamesyc.org
SUMMARY:General Membership Meeting (3:00 potluck / 4:00 meeting)
DESCRIPTION:
URL:https://thamesyc.org/event/general-membership-meeting-300-potluck-400-meeting/
END:VEVENT
END:VCALENDAR