BEGIN:VCALENDAR
VERSION:2.0
PRODID:-//Thames Yacht Club - ECPv6.15.20//NONSGML v1.0//EN
CALSCALE:GREGORIAN
METHOD:PUBLISH
X-ORIGINAL-URL:https://thamesyc.org
X-WR-CALDESC:Events for Thames Yacht Club
REFRESH-INTERVAL;VALUE=DURATION:PT1H
X-Robots-Tag:noindex
X-PUBLISHED-TTL:PT1H
BEGIN:VTIMEZONE
TZID:America/New_York
BEGIN:DAYLIGHT
TZOFFSETFROM:-0500
TZOFFSETTO:-0400
TZNAME:EDT
DTSTART:20170312T070000
END:DAYLIGHT
BEGIN:STANDARD
TZOFFSETFROM:-0400
TZOFFSETTO:-0500
TZNAME:EST
DTSTART:20171105T060000
END:STANDARD
BEGIN:DAYLIGHT
TZOFFSETFROM:-0500
TZOFFSETTO:-0400
TZNAME:EDT
DTSTART:20180311T070000
END:DAYLIGHT
BEGIN:STANDARD
TZOFFSETFROM:-0400
TZOFFSETTO:-0500
TZNAME:EST
DTSTART:20181104T060000
END:STANDARD
BEGIN:DAYLIGHT
TZOFFSETFROM:-0500
TZOFFSETTO:-0400
TZNAME:EDT
DTSTART:20190310T070000
END:DAYLIGHT
BEGIN:STANDARD
TZOFFSETFROM:-0400
TZOFFSETTO:-0500
TZNAME:EST
DTSTART:20191103T060000
END:STANDARD
END:VTIMEZONE
BEGIN:VEVENT
DTSTART;TZID=America/New_York:20180511T120000
DTEND;TZID=America/New_York:20180511T170000
DTSTAMP:20260425T205323
CREATED:20180417T011509Z
LAST-MODIFIED:20180417T011509Z
UID:10034208-1526040000-1526058000@thamesyc.org
SUMMARY:TYC Launch Schedule
DESCRIPTION:
URL:https://thamesyc.org/event/tyc-launch-schedule-122/
CATEGORIES:TYC Launch Schedule
END:VEVENT
BEGIN:VEVENT
DTSTART;TZID=America/New_York:20180512T120000
DTEND;TZID=America/New_York:20180512T170000
DTSTAMP:20260425T205323
CREATED:20180417T010023Z
LAST-MODIFIED:20180417T010114Z
UID:10034131-1526126400-1526144400@thamesyc.org
SUMMARY:TYC Launch Schedule
DESCRIPTION:
URL:https://thamesyc.org/event/tyc-launch-schedule-119/
CATEGORIES:TYC Launch Schedule
END:VEVENT
BEGIN:VEVENT
DTSTART;TZID=America/New_York:20180513T120000
DTEND;TZID=America/New_York:20180513T170000
DTSTAMP:20260425T205323
CREATED:20180417T010428Z
LAST-MODIFIED:20180417T010615Z
UID:10034207-1526212800-1526230800@thamesyc.org
SUMMARY:TYC Launch Schedule
DESCRIPTION:
URL:https://thamesyc.org/event/tyc-launch-schedule-120/
CATEGORIES:TYC Launch Schedule
END:VEVENT
BEGIN:VEVENT
DTSTART;TZID=America/New_York:20180518T120000
DTEND;TZID=America/New_York:20180518T170000
DTSTAMP:20260425T205323
CREATED:20180417T012537Z
LAST-MODIFIED:20180417T012537Z
UID:10034135-1526644800-1526662800@thamesyc.org
SUMMARY:TYC Launch Schedule
DESCRIPTION:
URL:https://thamesyc.org/event/tyc-launch-schedule-124/
CATEGORIES:TYC Launch Schedule
END:VEVENT
BEGIN:VEVENT
DTSTART;TZID=America/New_York:20180519T120000
DTEND;TZID=America/New_York:20180519T170000
DTSTAMP:20260425T205323
CREATED:20180417T012816Z
LAST-MODIFIED:20180417T012816Z
UID:10034210-1526731200-1526749200@thamesyc.org
SUMMARY:TYC Launch Schedule
DESCRIPTION:
URL:https://thamesyc.org/event/tyc-launch-schedule-125/
CATEGORIES:TYC Launch Schedule
END:VEVENT
BEGIN:VEVENT
DTSTART;TZID=America/New_York:20180519T170000
DTEND;TZID=America/New_York:20180519T220000
DTSTAMP:20260425T205323
CREATED:20180415T175404Z
LAST-MODIFIED:20180505T184709Z
UID:10034195-1526749200-1526767200@thamesyc.org
SUMMARY:Commissioning Day !!  Ceremony at 6 pm!
DESCRIPTION:It’s time to kick off another season at TYC!!  Please join us at the Commissioning Day Festivities\, Saturday May 19. \nCeremony begins at 6pm\, followed by The Party. \nPlease bring an “Elegant Appetizer” and a Warm Welcome for our New Members!
URL:https://thamesyc.org/event/commissioning-day-ceremony-at-6-pm/
CATEGORIES:Party
END:VEVENT
BEGIN:VEVENT
DTSTART;TZID=America/New_York:20180520T090000
DTEND;TZID=America/New_York:20180520T170000
DTSTAMP:20260425T205323
CREATED:20180417T011840Z
LAST-MODIFIED:20180417T011956Z
UID:10034209-1526806800-1526835600@thamesyc.org
SUMMARY:TYC Launch Schedule
DESCRIPTION:
URL:https://thamesyc.org/event/tyc-launch-schedule-123/
CATEGORIES:TYC Launch Schedule
END:VEVENT
BEGIN:VEVENT
DTSTART;TZID=America/New_York:20180525T120000
DTEND;TZID=America/New_York:20180525T170000
DTSTAMP:20260425T205323
CREATED:20180417T012957Z
LAST-MODIFIED:20180417T012957Z
UID:10034211-1527249600-1527267600@thamesyc.org
SUMMARY:TYC Launch Schedule
DESCRIPTION:
URL:https://thamesyc.org/event/tyc-launch-schedule-126/
CATEGORIES:TYC Launch Schedule
END:VEVENT
BEGIN:VEVENT
DTSTART;TZID=America/New_York:20180526T100000
DTEND;TZID=America/New_York:20180526T200000
DTSTAMP:20260425T205323
CREATED:20180417T013358Z
LAST-MODIFIED:20180417T013358Z
UID:10034212-1527328800-1527364800@thamesyc.org
SUMMARY:TYC Launch Schedule
DESCRIPTION:
URL:https://thamesyc.org/event/tyc-launch-schedule-127/2018-05-26/
CATEGORIES:TYC Launch Schedule
END:VEVENT
BEGIN:VEVENT
DTSTART;TZID=America/New_York:20180527T100000
DTEND;TZID=America/New_York:20180527T200000
DTSTAMP:20260425T205323
CREATED:20180417T013358Z
LAST-MODIFIED:20180417T013358Z
UID:10034213-1527415200-1527451200@thamesyc.org
SUMMARY:TYC Launch Schedule
DESCRIPTION:
URL:https://thamesyc.org/event/tyc-launch-schedule-127/2018-05-27/
CATEGORIES:TYC Launch Schedule
END:VEVENT
BEGIN:VEVENT
DTSTART;TZID=America/New_York:20180528T100000
DTEND;TZID=America/New_York:20180528T200000
DTSTAMP:20260425T205323
CREATED:20180417T013358Z
LAST-MODIFIED:20180417T013358Z
UID:10034214-1527501600-1527537600@thamesyc.org
SUMMARY:TYC Launch Schedule
DESCRIPTION:
URL:https://thamesyc.org/event/tyc-launch-schedule-127/2018-05-28/
CATEGORIES:TYC Launch Schedule
END:VEVENT
BEGIN:VEVENT
DTSTART;TZID=America/New_York:20180530T150000
DTEND;TZID=America/New_York:20180530T210000
DTSTAMP:20260425T205323
CREATED:20180417T013637Z
LAST-MODIFIED:20180417T223413Z
UID:10034215-1527692400-1527714000@thamesyc.org
SUMMARY:TYC Launch Schedule
DESCRIPTION:
URL:https://thamesyc.org/event/tyc-launch-schedule-128/
CATEGORIES:TYC Launch Schedule
END:VEVENT
BEGIN:VEVENT
DTSTART;TZID=America/New_York:20180530T180000
DTEND;TZID=America/New_York:20180530T210000
DTSTAMP:20260425T205323
CREATED:20180410T142338Z
LAST-MODIFIED:20180410T142338Z
UID:10034145-1527703200-1527714000@thamesyc.org
SUMMARY:Keel Boat Wednesday Night Racing Spring Series
DESCRIPTION:First warning 1810! For more information please click here. \n 
URL:https://thamesyc.org/event/keel-boat-wednesday-night-racing-spring-series/2018-05-30/
LOCATION:Thames Yacht Club\, 396 Pequot Avenue\, New London\, CT\, 06320\, United States
CATEGORIES:Racing
GEO:41.3308391;-72.0946565
X-APPLE-STRUCTURED-LOCATION;VALUE=URI;X-ADDRESS=Thames Yacht Club 396 Pequot Avenue New London CT 06320 United States;X-APPLE-RADIUS=500;X-TITLE=396 Pequot Avenue:geo:-72.0946565,41.3308391
END:VEVENT
BEGIN:VEVENT
DTSTART;TZID=America/New_York:20180531T180000
DTEND;TZID=America/New_York:20180531T210000
DTSTAMP:20260425T205323
CREATED:20180410T143657Z
LAST-MODIFIED:20180410T143657Z
UID:10034170-1527789600-1527800400@thamesyc.org
SUMMARY:Force 5 Thursday Night Spring Series
DESCRIPTION:First Warning at 1810. For more information please click here.
URL:https://thamesyc.org/event/force-5-thursday-night-spring-series/2018-05-31/
LOCATION:Thames Yacht Club\, 396 Pequot Avenue\, New London\, CT\, 06320\, United States
CATEGORIES:Racing
GEO:41.3308391;-72.0946565
X-APPLE-STRUCTURED-LOCATION;VALUE=URI;X-ADDRESS=Thames Yacht Club 396 Pequot Avenue New London CT 06320 United States;X-APPLE-RADIUS=500;X-TITLE=396 Pequot Avenue:geo:-72.0946565,41.3308391
END:VEVENT
END:VCALENDAR