BEGIN:VCALENDAR
VERSION:2.0
PRODID:-//Thames Yacht Club - ECPv6.15.20//NONSGML v1.0//EN
CALSCALE:GREGORIAN
METHOD:PUBLISH
X-ORIGINAL-URL:https://thamesyc.org
X-WR-CALDESC:Events for Thames Yacht Club
REFRESH-INTERVAL;VALUE=DURATION:PT1H
X-Robots-Tag:noindex
X-PUBLISHED-TTL:PT1H
BEGIN:VTIMEZONE
TZID:America/New_York
BEGIN:DAYLIGHT
TZOFFSETFROM:-0500
TZOFFSETTO:-0400
TZNAME:EDT
DTSTART:20140309T070000
END:DAYLIGHT
BEGIN:STANDARD
TZOFFSETFROM:-0400
TZOFFSETTO:-0500
TZNAME:EST
DTSTART:20141102T060000
END:STANDARD
BEGIN:DAYLIGHT
TZOFFSETFROM:-0500
TZOFFSETTO:-0400
TZNAME:EDT
DTSTART:20150308T070000
END:DAYLIGHT
BEGIN:STANDARD
TZOFFSETFROM:-0400
TZOFFSETTO:-0500
TZNAME:EST
DTSTART:20151101T060000
END:STANDARD
BEGIN:DAYLIGHT
TZOFFSETFROM:-0500
TZOFFSETTO:-0400
TZNAME:EDT
DTSTART:20160313T070000
END:DAYLIGHT
BEGIN:STANDARD
TZOFFSETFROM:-0400
TZOFFSETTO:-0500
TZNAME:EST
DTSTART:20161106T060000
END:STANDARD
END:VTIMEZONE
BEGIN:VEVENT
DTSTART;TZID=America/New_York:20151001T140000
DTEND;TZID=America/New_York:20151001T180000
DTSTAMP:20260425T105106
CREATED:20150917T165052Z
LAST-MODIFIED:20150917T170814Z
UID:10033592-1443708000-1443722400@thamesyc.org
SUMMARY:Launch Operation: 2pm-6pm
DESCRIPTION:
URL:https://thamesyc.org/event/launch-operation-2pm-6pm-6/2015-10-01/
CATEGORIES:TYC Launch Schedule
END:VEVENT
BEGIN:VEVENT
DTSTART;TZID=America/New_York:20151002T140000
DTEND;TZID=America/New_York:20151002T180000
DTSTAMP:20260425T105106
CREATED:20150423T182744Z
LAST-MODIFIED:20150915T105054Z
UID:10033647-1443794400-1443808800@thamesyc.org
SUMMARY:Launch Operation: 2pm-6pm
DESCRIPTION:
URL:https://thamesyc.org/event/launch-operation-2pm-6pm-2-2015-09-25-2015-10-02/2015-10-02/
CATEGORIES:TYC Launch Schedule
END:VEVENT
BEGIN:VEVENT
DTSTART;VALUE=DATE:20151003
DTEND;VALUE=DATE:20151005
DTSTAMP:20260425T105106
CREATED:20150420T174940Z
LAST-MODIFIED:20150420T181523Z
UID:10033637-1443830400-1444003199@thamesyc.org
SUMMARY:Launch Operation: 10am-6pm
DESCRIPTION:
URL:https://thamesyc.org/event/test-1/2015-10-03/
CATEGORIES:TYC Launch Schedule
END:VEVENT
BEGIN:VEVENT
DTSTART;TZID=America/New_York:20151006T140000
DTEND;TZID=America/New_York:20151006T180000
DTSTAMP:20260425T105106
CREATED:20150917T165816Z
LAST-MODIFIED:20150917T171041Z
UID:10033594-1444140000-1444154400@thamesyc.org
SUMMARY:Launch Operation: 2pm-6pm
DESCRIPTION:
URL:https://thamesyc.org/event/launch-operation-2pm-6pm-7/
CATEGORIES:TYC Launch Schedule
END:VEVENT
BEGIN:VEVENT
DTSTART;VALUE=DATE:20151010
DTEND;VALUE=DATE:20151013
DTSTAMP:20260425T105106
CREATED:20150221T154217Z
LAST-MODIFIED:20150330T165008Z
UID:10033589-1444435200-1444694399@thamesyc.org
SUMMARY:Connecticut River Cruise
DESCRIPTION:
URL:https://thamesyc.org/event/connecticut-river-cruise/
CATEGORIES:Cruise Event
END:VEVENT
BEGIN:VEVENT
DTSTART;TZID=America/New_York:20151012T120000
DTEND;TZID=America/New_York:20151012T180000
DTSTAMP:20260425T105106
CREATED:20151009T112318Z
LAST-MODIFIED:20151009T112428Z
UID:10033598-1444651200-1444672800@thamesyc.org
SUMMARY:Launch Operation: 12noon - 6pm
DESCRIPTION:
URL:https://thamesyc.org/event/launch-service-12noon-6pm/
CATEGORIES:TYC Launch Schedule
END:VEVENT
BEGIN:VEVENT
DTSTART;VALUE=DATE:20151016
DTEND;VALUE=DATE:20151017
DTSTAMP:20260425T105106
CREATED:20150720T131318Z
LAST-MODIFIED:20150720T131318Z
UID:10033683-1444953600-1445039999@thamesyc.org
SUMMARY:Private Club Event
DESCRIPTION:
URL:https://thamesyc.org/event/private-club-event/
LOCATION:Thames Yacht Club\, 396 Pequot Avenue\, New London\, CT\, 06320\, United States
CATEGORIES:Party
GEO:41.3308391;-72.0946565
X-APPLE-STRUCTURED-LOCATION;VALUE=URI;X-ADDRESS=Thames Yacht Club 396 Pequot Avenue New London CT 06320 United States;X-APPLE-RADIUS=500;X-TITLE=396 Pequot Avenue:geo:-72.0946565,41.3308391
END:VEVENT
BEGIN:VEVENT
DTSTART;VALUE=DATE:20151016
DTEND;VALUE=DATE:20151017
DTSTAMP:20260425T105106
CREATED:20150914T031920Z
LAST-MODIFIED:20150914T031920Z
UID:10033691-1444953600-1445039999@thamesyc.org
SUMMARY:Club Rented
DESCRIPTION:Facility rented for party
URL:https://thamesyc.org/event/club-rented/
LOCATION:Thames Yacht Club\, 396 Pequot Avenue\, New London\, CT\, 06320\, United States
CATEGORIES:Facility Rental
GEO:41.3308391;-72.0946565
X-APPLE-STRUCTURED-LOCATION;VALUE=URI;X-ADDRESS=Thames Yacht Club 396 Pequot Avenue New London CT 06320 United States;X-APPLE-RADIUS=500;X-TITLE=396 Pequot Avenue:geo:-72.0946565,41.3308391
END:VEVENT
BEGIN:VEVENT
DTSTART;TZID=America/New_York:20151024T180000
DTEND;TZID=America/New_York:20151024T220000
DTSTAMP:20260425T105106
CREATED:20150914T032041Z
LAST-MODIFIED:20150914T032041Z
UID:10033692-1445709600-1445724000@thamesyc.org
SUMMARY:Oktoberfest
DESCRIPTION:Please join us!
URL:https://thamesyc.org/event/oktoberfest/
LOCATION:Thames Yacht Club\, 396 Pequot Avenue\, New London\, CT\, 06320\, United States
CATEGORIES:Club Wide Event
GEO:41.3308391;-72.0946565
X-APPLE-STRUCTURED-LOCATION;VALUE=URI;X-ADDRESS=Thames Yacht Club 396 Pequot Avenue New London CT 06320 United States;X-APPLE-RADIUS=500;X-TITLE=396 Pequot Avenue:geo:-72.0946565,41.3308391
END:VEVENT
END:VCALENDAR