BEGIN:VCALENDAR
VERSION:2.0
PRODID:-//Thames Yacht Club - ECPv6.15.20//NONSGML v1.0//EN
CALSCALE:GREGORIAN
METHOD:PUBLISH
X-WR-CALNAME:Thames Yacht Club
X-ORIGINAL-URL:https://thamesyc.org
X-WR-CALDESC:Events for Thames Yacht Club
REFRESH-INTERVAL;VALUE=DURATION:PT1H
X-Robots-Tag:noindex
X-PUBLISHED-TTL:PT1H
BEGIN:VTIMEZONE
TZID:America/New_York
BEGIN:DAYLIGHT
TZOFFSETFROM:-0500
TZOFFSETTO:-0400
TZNAME:EDT
DTSTART:20140309T070000
END:DAYLIGHT
BEGIN:STANDARD
TZOFFSETFROM:-0400
TZOFFSETTO:-0500
TZNAME:EST
DTSTART:20141102T060000
END:STANDARD
BEGIN:DAYLIGHT
TZOFFSETFROM:-0500
TZOFFSETTO:-0400
TZNAME:EDT
DTSTART:20150308T070000
END:DAYLIGHT
BEGIN:STANDARD
TZOFFSETFROM:-0400
TZOFFSETTO:-0500
TZNAME:EST
DTSTART:20151101T060000
END:STANDARD
BEGIN:DAYLIGHT
TZOFFSETFROM:-0500
TZOFFSETTO:-0400
TZNAME:EDT
DTSTART:20160313T070000
END:DAYLIGHT
BEGIN:STANDARD
TZOFFSETFROM:-0400
TZOFFSETTO:-0500
TZNAME:EST
DTSTART:20161106T060000
END:STANDARD
END:VTIMEZONE
BEGIN:VEVENT
DTSTART;TZID=America/New_York:20150630T080000
DTEND;TZID=America/New_York:20150703T170000
DTSTAMP:20260425T144124
CREATED:20150619T170503Z
LAST-MODIFIED:20150623T200654Z
UID:10033663-1435651200-1435942800@thamesyc.org
SUMMARY:BI mooring Reserved S/V VOYAGER
DESCRIPTION:
URL:https://thamesyc.org/event/bi-mooring-reserved-sv-voyager/
CATEGORIES:Block Island Mooring Reservation.
END:VEVENT
BEGIN:VEVENT
DTSTART;VALUE=DATE:20150704
DTEND;VALUE=DATE:20150705
DTSTAMP:20260425T144124
CREATED:20150401T202737Z
LAST-MODIFIED:20150401T202737Z
UID:10033610-1435968000-1436054399@thamesyc.org
SUMMARY:Bradbury Cup
DESCRIPTION:
URL:https://thamesyc.org/event/bradbury-cup/
CATEGORIES:Racing
END:VEVENT
BEGIN:VEVENT
DTSTART;TZID=America/New_York:20150705T080000
DTEND;TZID=America/New_York:20150706T170000
DTSTAMP:20260425T144124
CREATED:20150502T165707Z
LAST-MODIFIED:20150502T170504Z
UID:10033648-1436083200-1436202000@thamesyc.org
SUMMARY:BI mooring reserved by S/V LUFF SONG
DESCRIPTION:
URL:https://thamesyc.org/event/sv-luff-song/
CATEGORIES:Block Island Mooring Reservation.
END:VEVENT
BEGIN:VEVENT
DTSTART;VALUE=DATE:20150710
DTEND;VALUE=DATE:20150712
DTSTAMP:20260425T144124
CREATED:20150709T164243Z
LAST-MODIFIED:20150709T164443Z
UID:10033678-1436486400-1436659199@thamesyc.org
SUMMARY:Block Island mooring reserved for S/V SEA++
DESCRIPTION:
URL:https://thamesyc.org/event/block-island-mooring-reserved-for-sv-sea/
CATEGORIES:Block Island Mooring Reservation.
END:VEVENT
BEGIN:VEVENT
DTSTART;TZID=America/New_York:20150711T210000
DTEND;TZID=America/New_York:20150711T220000
DTSTAMP:20260425T144124
CREATED:20150203T193130Z
LAST-MODIFIED:20150203T193130Z
UID:10033553-1436648400-1436652000@thamesyc.org
SUMMARY:Sailfest Fireworks
DESCRIPTION:
URL:https://thamesyc.org/event/sailfest-fireworks/
END:VEVENT
BEGIN:VEVENT
DTSTART;TZID=America/New_York:20150712T180000
DTEND;TZID=America/New_York:20150712T210000
DTSTAMP:20260425T144124
CREATED:20150605T183336Z
LAST-MODIFIED:20150605T183528Z
UID:10033653-1436724000-1436734800@thamesyc.org
SUMMARY:GENERAL MEMBERSHIP MEETING
DESCRIPTION:
URL:https://thamesyc.org/event/general-membership-meeting-6/
CATEGORIES:Club Wide Event
END:VEVENT
BEGIN:VEVENT
DTSTART;TZID=America/New_York:20150715T170000
DTEND;TZID=America/New_York:20150715T200000
DTSTAMP:20260425T144124
CREATED:20150408T001724Z
LAST-MODIFIED:20150408T120829Z
UID:10033552-1436979600-1436990400@thamesyc.org
SUMMARY:TYC Hospice Race
DESCRIPTION:
URL:https://thamesyc.org/event/tyc-hospice-race/
LOCATION:Thames Yacht Club\, 396 Pequot Avenue\, New London\, CT\, 06320\, United States
CATEGORIES:Racing
GEO:41.3308391;-72.0946565
X-APPLE-STRUCTURED-LOCATION;VALUE=URI;X-ADDRESS=Thames Yacht Club 396 Pequot Avenue New London CT 06320 United States;X-APPLE-RADIUS=500;X-TITLE=396 Pequot Avenue:geo:-72.0946565,41.3308391
END:VEVENT
BEGIN:VEVENT
DTSTART;TZID=America/New_York:20150715T181000
DTEND;TZID=America/New_York:20150715T203000
DTSTAMP:20260425T144124
CREATED:20150702T031600Z
LAST-MODIFIED:20150702T031600Z
UID:10033673-1436983800-1436992200@thamesyc.org
SUMMARY:Hospice Regatta
DESCRIPTION:Open to all PHRF boats and Ensigns. Do not have to be registered for Wednesday night series\nPlease contact Judy Gibbs if you have questions or need more information.  Thank you!
URL:https://thamesyc.org/event/hospice-regatta-2/
LOCATION:Thames Yacht Club\, 396 Pequot Avenue\, New London\, CT\, 06320\, United States
CATEGORIES:Racing
GEO:41.3308391;-72.0946565
X-APPLE-STRUCTURED-LOCATION;VALUE=URI;X-ADDRESS=Thames Yacht Club 396 Pequot Avenue New London CT 06320 United States;X-APPLE-RADIUS=500;X-TITLE=396 Pequot Avenue:geo:-72.0946565,41.3308391
END:VEVENT
BEGIN:VEVENT
DTSTART;VALUE=DATE:20150718
DTEND;VALUE=DATE:20150720
DTSTAMP:20260425T144124
CREATED:20150221T153723Z
LAST-MODIFIED:20150330T165053Z
UID:10033559-1437177600-1437350399@thamesyc.org
SUMMARY:Pirate Rendezvous & Napatree Cruise
DESCRIPTION:
URL:https://thamesyc.org/event/pirate-rendezvous-napatree-cruise/
CATEGORIES:Cruise Event
END:VEVENT
BEGIN:VEVENT
DTSTART;TZID=America/New_York:20150719T080000
DTEND;TZID=America/New_York:20150724T170000
DTSTAMP:20260425T144125
CREATED:20150415T004409Z
LAST-MODIFIED:20150527T123908Z
UID:10033635-1437292800-1437757200@thamesyc.org
SUMMARY:BI Mooring reserved for S/V LEDGELIGHT
DESCRIPTION:
URL:https://thamesyc.org/event/sv-ledgelight/
CATEGORIES:Block Island Mooring Reservation.
END:VEVENT
BEGIN:VEVENT
DTSTART;TZID=America/New_York:20150722T181000
DTEND;TZID=America/New_York:20150722T210000
DTSTAMP:20260425T144125
CREATED:20150401T201947Z
LAST-MODIFIED:20150401T201947Z
UID:10033574-1437588600-1437598800@thamesyc.org
SUMMARY:Wed. Night Summer Series
DESCRIPTION:
URL:https://thamesyc.org/event/wed-night-summer-series/2015-07-22/
CATEGORIES:Racing
END:VEVENT
BEGIN:VEVENT
DTSTART;TZID=America/New_York:20150723T181000
DTEND;TZID=America/New_York:20150723T210000
DTSTAMP:20260425T144125
CREATED:20150401T202338Z
LAST-MODIFIED:20150401T202338Z
UID:10033609-1437675000-1437685200@thamesyc.org
SUMMARY:Force 5 Summer Series
DESCRIPTION:
URL:https://thamesyc.org/event/force-5-summer-series/2015-07-23/
CATEGORIES:Racing
END:VEVENT
BEGIN:VEVENT
DTSTART;TZID=America/New_York:20150729T080000
DTEND;TZID=America/New_York:20150730T170000
DTSTAMP:20260425T144125
CREATED:20150619T172349Z
LAST-MODIFIED:20150619T172349Z
UID:10033669-1438156800-1438275600@thamesyc.org
SUMMARY:BI Mooring Reserved S/V THRASHER
DESCRIPTION:
URL:https://thamesyc.org/event/bi-mooring-reserved-sv-thrasher-4/
CATEGORIES:Block Island Mooring Reservation.
END:VEVENT
BEGIN:VEVENT
DTSTART;TZID=America/New_York:20150731T080000
DTEND;TZID=America/New_York:20150801T170000
DTSTAMP:20260425T144125
CREATED:20150512T005342Z
LAST-MODIFIED:20150512T005342Z
UID:10033650-1438329600-1438448400@thamesyc.org
SUMMARY:BI mooring reserved S/V PINGA
DESCRIPTION:
URL:https://thamesyc.org/event/bi-mooring-reserved-sv-pinga/
CATEGORIES:Block Island Mooring Reservation.
END:VEVENT
END:VCALENDAR