BEGIN:VCALENDAR
VERSION:2.0
PRODID:-//Thames Yacht Club - ECPv6.15.20//NONSGML v1.0//EN
CALSCALE:GREGORIAN
METHOD:PUBLISH
X-ORIGINAL-URL:https://thamesyc.org
X-WR-CALDESC:Events for Thames Yacht Club
REFRESH-INTERVAL;VALUE=DURATION:PT1H
X-Robots-Tag:noindex
X-PUBLISHED-TTL:PT1H
BEGIN:VTIMEZONE
TZID:America/New_York
BEGIN:DAYLIGHT
TZOFFSETFROM:-0500
TZOFFSETTO:-0400
TZNAME:EDT
DTSTART:20140309T070000
END:DAYLIGHT
BEGIN:STANDARD
TZOFFSETFROM:-0400
TZOFFSETTO:-0500
TZNAME:EST
DTSTART:20141102T060000
END:STANDARD
BEGIN:DAYLIGHT
TZOFFSETFROM:-0500
TZOFFSETTO:-0400
TZNAME:EDT
DTSTART:20150308T070000
END:DAYLIGHT
BEGIN:STANDARD
TZOFFSETFROM:-0400
TZOFFSETTO:-0500
TZNAME:EST
DTSTART:20151101T060000
END:STANDARD
BEGIN:DAYLIGHT
TZOFFSETFROM:-0500
TZOFFSETTO:-0400
TZNAME:EDT
DTSTART:20160313T070000
END:DAYLIGHT
BEGIN:STANDARD
TZOFFSETFROM:-0400
TZOFFSETTO:-0500
TZNAME:EST
DTSTART:20161106T060000
END:STANDARD
END:VTIMEZONE
BEGIN:VEVENT
DTSTART;TZID=America/New_York:20150502T100000
DTEND;TZID=America/New_York:20150502T150000
DTSTAMP:20260425T172528
CREATED:20150325T130940Z
LAST-MODIFIED:20150330T165324Z
UID:10033602-1430560800-1430578800@thamesyc.org
SUMMARY:Marine Tag Sale and Open House
DESCRIPTION:Saturday\, May 2 \n10:00 am to 3:00 pm\nMARINE TAG SALE AND OPEN HOUSE\nInformation will be emailed to all members – or see April Mainsheet
URL:https://thamesyc.org/event/marine-tag-sale-and-open-house/
LOCATION:Thames Yacht Club\, 396 Pequot Avenue\, New London\, CT\, 06320\, United States
CATEGORIES:Club Wide Event
GEO:41.3308391;-72.0946565
X-APPLE-STRUCTURED-LOCATION;VALUE=URI;X-ADDRESS=Thames Yacht Club 396 Pequot Avenue New London CT 06320 United States;X-APPLE-RADIUS=500;X-TITLE=396 Pequot Avenue:geo:-72.0946565,41.3308391
END:VEVENT
BEGIN:VEVENT
DTSTART;TZID=America/New_York:20150515T160000
DTEND;TZID=America/New_York:20150515T200000
DTSTAMP:20260425T172528
CREATED:20150407T223039Z
LAST-MODIFIED:20150421T202305Z
UID:10033616-1431705600-1431720000@thamesyc.org
SUMMARY:Launch operating 4pm to 8pm
DESCRIPTION:
URL:https://thamesyc.org/event/launch-operating-4pm-to-8pm/
CATEGORIES:TYC Launch Schedule
END:VEVENT
BEGIN:VEVENT
DTSTART;TZID=America/New_York:20150516T100000
DTEND;TZID=America/New_York:20150517T200000
DTSTAMP:20260425T172528
CREATED:20150407T223318Z
LAST-MODIFIED:20150421T202456Z
UID:10033617-1431770400-1431892800@thamesyc.org
SUMMARY:Launch operating 10 am to 8 pm
DESCRIPTION:
URL:https://thamesyc.org/event/launch-operating-10-am-to-8-pm/
CATEGORIES:TYC Launch Schedule
END:VEVENT
BEGIN:VEVENT
DTSTART;TZID=America/New_York:20150516T180000
DTEND;TZID=America/New_York:20150516T200000
DTSTAMP:20260425T172528
CREATED:20150325T130721Z
LAST-MODIFIED:20150330T165238Z
UID:10033597-1431799200-1431806400@thamesyc.org
SUMMARY:Commissioning Day!
DESCRIPTION:Saturday\, May 16\n6:00 Opening Ceremony on the Dock\nSocial Cocktail Hour – Food\, drink and fellowship to follow\nInformation will be emailed to all members – or see April Mainsheet
URL:https://thamesyc.org/event/commissioning-day-2/
LOCATION:Thames Yacht Club\, 396 Pequot Avenue\, New London\, CT\, 06320\, United States
CATEGORIES:Club Wide Event
GEO:41.3308391;-72.0946565
X-APPLE-STRUCTURED-LOCATION;VALUE=URI;X-ADDRESS=Thames Yacht Club 396 Pequot Avenue New London CT 06320 United States;X-APPLE-RADIUS=500;X-TITLE=396 Pequot Avenue:geo:-72.0946565,41.3308391
END:VEVENT
BEGIN:VEVENT
DTSTART;TZID=America/New_York:20150522T160000
DTEND;TZID=America/New_York:20150522T200000
DTSTAMP:20260425T172528
CREATED:20150407T223443Z
LAST-MODIFIED:20150421T202635Z
UID:10033618-1432310400-1432324800@thamesyc.org
SUMMARY:Launch operating 4 pm to 8pm
DESCRIPTION:
URL:https://thamesyc.org/event/launch-operating-4-pm-to-8pm/
CATEGORIES:TYC Launch Schedule
END:VEVENT
BEGIN:VEVENT
DTSTART;TZID=America/New_York:20150523T100000
DTEND;TZID=America/New_York:20150525T200000
DTSTAMP:20260425T172528
CREATED:20150407T223537Z
LAST-MODIFIED:20150421T202734Z
UID:10033619-1432375200-1432584000@thamesyc.org
SUMMARY:Launch operating 10 am to 8pm
DESCRIPTION:
URL:https://thamesyc.org/event/launch-operating-10-am-to-8pm/
CATEGORIES:TYC Launch Schedule
END:VEVENT
BEGIN:VEVENT
DTSTART;VALUE=DATE:20150524
DTEND;VALUE=DATE:20150525
DTSTAMP:20260425T172528
CREATED:20150401T194832Z
LAST-MODIFIED:20150401T201017Z
UID:10033606-1432425600-1432511999@thamesyc.org
SUMMARY:Chili Series
DESCRIPTION:
URL:https://thamesyc.org/event/chili-series/2015-05-24/
CATEGORIES:Racing
END:VEVENT
BEGIN:VEVENT
DTSTART;TZID=America/New_York:20150529T160000
DTEND;TZID=America/New_York:20150529T200000
DTSTAMP:20260425T172528
CREATED:20150407T223720Z
LAST-MODIFIED:20150421T202844Z
UID:10033630-1432915200-1432929600@thamesyc.org
SUMMARY:Launch operating 4 pm to 8pm
DESCRIPTION:
URL:https://thamesyc.org/event/launch-operating-4-pm-to-8pm-2/
CATEGORIES:TYC Launch Schedule
END:VEVENT
BEGIN:VEVENT
DTSTART;TZID=America/New_York:20150530T100000
DTEND;TZID=America/New_York:20150531T200000
DTSTAMP:20260425T172528
CREATED:20150407T223818Z
LAST-MODIFIED:20150421T203052Z
UID:10033631-1432980000-1433102400@thamesyc.org
SUMMARY:Launch operating 10 am to 8pm
DESCRIPTION:
URL:https://thamesyc.org/event/launch-operating-10-am-to-8pm-2/
CATEGORIES:TYC Launch Schedule
END:VEVENT
END:VCALENDAR