BEGIN:VCALENDAR
VERSION:2.0
PRODID:-//Thames Yacht Club - ECPv6.15.20//NONSGML v1.0//EN
CALSCALE:GREGORIAN
METHOD:PUBLISH
X-WR-CALNAME:Thames Yacht Club
X-ORIGINAL-URL:https://thamesyc.org
X-WR-CALDESC:Events for Thames Yacht Club
REFRESH-INTERVAL;VALUE=DURATION:PT1H
X-Robots-Tag:noindex
X-PUBLISHED-TTL:PT1H
BEGIN:VTIMEZONE
TZID:America/New_York
BEGIN:DAYLIGHT
TZOFFSETFROM:-0500
TZOFFSETTO:-0400
TZNAME:EDT
DTSTART:20160313T070000
END:DAYLIGHT
BEGIN:STANDARD
TZOFFSETFROM:-0400
TZOFFSETTO:-0500
TZNAME:EST
DTSTART:20161106T060000
END:STANDARD
BEGIN:DAYLIGHT
TZOFFSETFROM:-0500
TZOFFSETTO:-0400
TZNAME:EDT
DTSTART:20170312T070000
END:DAYLIGHT
BEGIN:STANDARD
TZOFFSETFROM:-0400
TZOFFSETTO:-0500
TZNAME:EST
DTSTART:20171105T060000
END:STANDARD
BEGIN:DAYLIGHT
TZOFFSETFROM:-0500
TZOFFSETTO:-0400
TZNAME:EDT
DTSTART:20180311T070000
END:DAYLIGHT
BEGIN:STANDARD
TZOFFSETFROM:-0400
TZOFFSETTO:-0500
TZNAME:EST
DTSTART:20181104T060000
END:STANDARD
END:VTIMEZONE
BEGIN:VEVENT
DTSTART;TZID=America/New_York:20170701T090000
DTEND;TZID=America/New_York:20170701T210000
DTSTAMP:20260425T122925
CREATED:20170325T165125Z
LAST-MODIFIED:20170325T165125Z
UID:10034003-1498899600-1498942800@thamesyc.org
SUMMARY:TYC Launch Schedule
DESCRIPTION:The TYC Launch can be hailed on VHF Channel 71
URL:https://thamesyc.org/event/tyc-launch-schedule-69/2017-07-01/
LOCATION:Thames Yacht Club\, 396 Pequot Avenue\, New London\, CT\, 06320\, United States
CATEGORIES:TYC Launch Schedule
GEO:41.3308391;-72.0946565
X-APPLE-STRUCTURED-LOCATION;VALUE=URI;X-ADDRESS=Thames Yacht Club 396 Pequot Avenue New London CT 06320 United States;X-APPLE-RADIUS=500;X-TITLE=396 Pequot Avenue:geo:-72.0946565,41.3308391
END:VEVENT
BEGIN:VEVENT
DTSTART;TZID=America/New_York:20170702T090000
DTEND;TZID=America/New_York:20170702T210000
DTSTAMP:20260425T122925
CREATED:20170325T165125Z
LAST-MODIFIED:20170325T165125Z
UID:10034004-1498986000-1499029200@thamesyc.org
SUMMARY:TYC Launch Schedule
DESCRIPTION:The TYC Launch can be hailed on VHF Channel 71
URL:https://thamesyc.org/event/tyc-launch-schedule-69/2017-07-02/
LOCATION:Thames Yacht Club\, 396 Pequot Avenue\, New London\, CT\, 06320\, United States
CATEGORIES:TYC Launch Schedule
GEO:41.3308391;-72.0946565
X-APPLE-STRUCTURED-LOCATION;VALUE=URI;X-ADDRESS=Thames Yacht Club 396 Pequot Avenue New London CT 06320 United States;X-APPLE-RADIUS=500;X-TITLE=396 Pequot Avenue:geo:-72.0946565,41.3308391
END:VEVENT
BEGIN:VEVENT
DTSTART;TZID=America/New_York:20170702T120000
DTEND;TZID=America/New_York:20170702T173000
DTSTAMP:20260425T122925
CREATED:20170611T235314Z
LAST-MODIFIED:20170611T235314Z
UID:10034130-1498996800-1499016600@thamesyc.org
SUMMARY:Beach Party - Beach Rental - Codner
DESCRIPTION:
URL:https://thamesyc.org/event/beach-party-beach-rental-codner/
END:VEVENT
BEGIN:VEVENT
DTSTART;TZID=America/New_York:20170703T090000
DTEND;TZID=America/New_York:20170703T210000
DTSTAMP:20260425T122925
CREATED:20170325T165125Z
LAST-MODIFIED:20170325T165125Z
UID:10034005-1499072400-1499115600@thamesyc.org
SUMMARY:TYC Launch Schedule
DESCRIPTION:The TYC Launch can be hailed on VHF Channel 71
URL:https://thamesyc.org/event/tyc-launch-schedule-69/2017-07-03/
LOCATION:Thames Yacht Club\, 396 Pequot Avenue\, New London\, CT\, 06320\, United States
CATEGORIES:TYC Launch Schedule
GEO:41.3308391;-72.0946565
X-APPLE-STRUCTURED-LOCATION;VALUE=URI;X-ADDRESS=Thames Yacht Club 396 Pequot Avenue New London CT 06320 United States;X-APPLE-RADIUS=500;X-TITLE=396 Pequot Avenue:geo:-72.0946565,41.3308391
END:VEVENT
BEGIN:VEVENT
DTSTART;TZID=America/New_York:20170704T080000
DTEND;TZID=America/New_York:20170704T170000
DTSTAMP:20260425T122925
CREATED:20161228T002421Z
LAST-MODIFIED:20161228T002421Z
UID:10033944-1499155200-1499187600@thamesyc.org
SUMMARY:Bradbury Memorial Long Distance Race - TBA
DESCRIPTION:
URL:https://thamesyc.org/event/bradbury-memorial-long-distance-race-tba/
CATEGORIES:Party,Racing
END:VEVENT
BEGIN:VEVENT
DTSTART;TZID=America/New_York:20170704T090000
DTEND;TZID=America/New_York:20170704T210000
DTSTAMP:20260425T122925
CREATED:20170325T165125Z
LAST-MODIFIED:20170325T165125Z
UID:10034006-1499158800-1499202000@thamesyc.org
SUMMARY:TYC Launch Schedule
DESCRIPTION:The TYC Launch can be hailed on VHF Channel 71
URL:https://thamesyc.org/event/tyc-launch-schedule-69/2017-07-04/
LOCATION:Thames Yacht Club\, 396 Pequot Avenue\, New London\, CT\, 06320\, United States
CATEGORIES:TYC Launch Schedule
GEO:41.3308391;-72.0946565
X-APPLE-STRUCTURED-LOCATION;VALUE=URI;X-ADDRESS=Thames Yacht Club 396 Pequot Avenue New London CT 06320 United States;X-APPLE-RADIUS=500;X-TITLE=396 Pequot Avenue:geo:-72.0946565,41.3308391
END:VEVENT
BEGIN:VEVENT
DTSTART;TZID=America/New_York:20170705T090000
DTEND;TZID=America/New_York:20170705T210000
DTSTAMP:20260425T122925
CREATED:20170325T165125Z
LAST-MODIFIED:20170325T165125Z
UID:10034007-1499245200-1499288400@thamesyc.org
SUMMARY:TYC Launch Schedule
DESCRIPTION:The TYC Launch can be hailed on VHF Channel 71
URL:https://thamesyc.org/event/tyc-launch-schedule-69/2017-07-05/
LOCATION:Thames Yacht Club\, 396 Pequot Avenue\, New London\, CT\, 06320\, United States
CATEGORIES:TYC Launch Schedule
GEO:41.3308391;-72.0946565
X-APPLE-STRUCTURED-LOCATION;VALUE=URI;X-ADDRESS=Thames Yacht Club 396 Pequot Avenue New London CT 06320 United States;X-APPLE-RADIUS=500;X-TITLE=396 Pequot Avenue:geo:-72.0946565,41.3308391
END:VEVENT
BEGIN:VEVENT
DTSTART;TZID=America/New_York:20170705T173000
DTEND;TZID=America/New_York:20170705T210000
DTSTAMP:20260425T122925
CREATED:20170211T215229Z
LAST-MODIFIED:20170508T130424Z
UID:10033973-1499275800-1499288400@thamesyc.org
SUMMARY:Wednesday Night Spring Series
DESCRIPTION:
URL:https://thamesyc.org/event/wednesday-night-spring-series/2017-07-05/
CATEGORIES:Racing
END:VEVENT
BEGIN:VEVENT
DTSTART;TZID=America/New_York:20170706T090000
DTEND;TZID=America/New_York:20170706T210000
DTSTAMP:20260425T122925
CREATED:20170325T165125Z
LAST-MODIFIED:20170325T165125Z
UID:10034008-1499331600-1499374800@thamesyc.org
SUMMARY:TYC Launch Schedule
DESCRIPTION:The TYC Launch can be hailed on VHF Channel 71
URL:https://thamesyc.org/event/tyc-launch-schedule-69/2017-07-06/
LOCATION:Thames Yacht Club\, 396 Pequot Avenue\, New London\, CT\, 06320\, United States
CATEGORIES:TYC Launch Schedule
GEO:41.3308391;-72.0946565
X-APPLE-STRUCTURED-LOCATION;VALUE=URI;X-ADDRESS=Thames Yacht Club 396 Pequot Avenue New London CT 06320 United States;X-APPLE-RADIUS=500;X-TITLE=396 Pequot Avenue:geo:-72.0946565,41.3308391
END:VEVENT
BEGIN:VEVENT
DTSTART;TZID=America/New_York:20170706T173000
DTEND;TZID=America/New_York:20170706T210000
DTSTAMP:20260425T122925
CREATED:20170211T215954Z
LAST-MODIFIED:20170211T215954Z
UID:10033989-1499362200-1499374800@thamesyc.org
SUMMARY:Force Five Thursday Night Series
DESCRIPTION:
URL:https://thamesyc.org/event/force-five-thursday-night-series/2017-07-06/
CATEGORIES:Racing
END:VEVENT
BEGIN:VEVENT
DTSTART;VALUE=DATE:20170707
DTEND;VALUE=DATE:20170709
DTSTAMP:20260425T122925
CREATED:20170513T173813Z
LAST-MODIFIED:20170513T173813Z
UID:10034109-1499385600-1499558399@thamesyc.org
SUMMARY:Block Island Mooring reserved for SV Matou
DESCRIPTION:
URL:https://thamesyc.org/event/block-island-mooring-reserved-for-sv-matou/
CATEGORIES:Block Island Mooring Reservation.
END:VEVENT
BEGIN:VEVENT
DTSTART;TZID=America/New_York:20170707T090000
DTEND;TZID=America/New_York:20170707T210000
DTSTAMP:20260425T122925
CREATED:20170325T165125Z
LAST-MODIFIED:20170325T165125Z
UID:10034009-1499418000-1499461200@thamesyc.org
SUMMARY:TYC Launch Schedule
DESCRIPTION:The TYC Launch can be hailed on VHF Channel 71
URL:https://thamesyc.org/event/tyc-launch-schedule-69/2017-07-07/
LOCATION:Thames Yacht Club\, 396 Pequot Avenue\, New London\, CT\, 06320\, United States
CATEGORIES:TYC Launch Schedule
GEO:41.3308391;-72.0946565
X-APPLE-STRUCTURED-LOCATION;VALUE=URI;X-ADDRESS=Thames Yacht Club 396 Pequot Avenue New London CT 06320 United States;X-APPLE-RADIUS=500;X-TITLE=396 Pequot Avenue:geo:-72.0946565,41.3308391
END:VEVENT
BEGIN:VEVENT
DTSTART;VALUE=DATE:20170708
DTEND;VALUE=DATE:20170709
DTSTAMP:20260425T122925
CREATED:20161228T002538Z
LAST-MODIFIED:20161228T002538Z
UID:10033945-1499472000-1499558399@thamesyc.org
SUMMARY:New London Fireworks/Sailfest
DESCRIPTION:
URL:https://thamesyc.org/event/new-london-fireworkssailfest/
CATEGORIES:Club Wide Event,Party
END:VEVENT
BEGIN:VEVENT
DTSTART;TZID=America/New_York:20170708T090000
DTEND;TZID=America/New_York:20170708T210000
DTSTAMP:20260425T122925
CREATED:20170325T165125Z
LAST-MODIFIED:20170325T165125Z
UID:10034010-1499504400-1499547600@thamesyc.org
SUMMARY:TYC Launch Schedule
DESCRIPTION:The TYC Launch can be hailed on VHF Channel 71
URL:https://thamesyc.org/event/tyc-launch-schedule-69/2017-07-08/
LOCATION:Thames Yacht Club\, 396 Pequot Avenue\, New London\, CT\, 06320\, United States
CATEGORIES:TYC Launch Schedule
GEO:41.3308391;-72.0946565
X-APPLE-STRUCTURED-LOCATION;VALUE=URI;X-ADDRESS=Thames Yacht Club 396 Pequot Avenue New London CT 06320 United States;X-APPLE-RADIUS=500;X-TITLE=396 Pequot Avenue:geo:-72.0946565,41.3308391
END:VEVENT
BEGIN:VEVENT
DTSTART;TZID=America/New_York:20170709T080000
DTEND;TZID=America/New_York:20170710T170000
DTSTAMP:20260425T122925
CREATED:20170614T210013Z
LAST-MODIFIED:20170620T195630Z
UID:10034132-1499587200-1499706000@thamesyc.org
SUMMARY:Block Island Mooring Reserved for S/V PALLAS CAT
DESCRIPTION:
URL:https://thamesyc.org/event/block-island-mooring-reserved-for-sv-palacat/
CATEGORIES:Block Island Mooring Reservation.
END:VEVENT
BEGIN:VEVENT
DTSTART;TZID=America/New_York:20170709T090000
DTEND;TZID=America/New_York:20170709T210000
DTSTAMP:20260425T122925
CREATED:20170325T165125Z
LAST-MODIFIED:20170325T165125Z
UID:10034011-1499590800-1499634000@thamesyc.org
SUMMARY:TYC Launch Schedule
DESCRIPTION:The TYC Launch can be hailed on VHF Channel 71
URL:https://thamesyc.org/event/tyc-launch-schedule-69/2017-07-09/
LOCATION:Thames Yacht Club\, 396 Pequot Avenue\, New London\, CT\, 06320\, United States
CATEGORIES:TYC Launch Schedule
GEO:41.3308391;-72.0946565
X-APPLE-STRUCTURED-LOCATION;VALUE=URI;X-ADDRESS=Thames Yacht Club 396 Pequot Avenue New London CT 06320 United States;X-APPLE-RADIUS=500;X-TITLE=396 Pequot Avenue:geo:-72.0946565,41.3308391
END:VEVENT
BEGIN:VEVENT
DTSTART;TZID=America/New_York:20170709T160000
DTEND;TZID=America/New_York:20170709T200000
DTSTAMP:20260425T122925
CREATED:20161228T002717Z
LAST-MODIFIED:20161228T002717Z
UID:10033946-1499616000-1499630400@thamesyc.org
SUMMARY:General Membership Meeting/Potluck
DESCRIPTION:
URL:https://thamesyc.org/event/general-membership-meetingpotluck/
CATEGORIES:Club Wide Event,Party
END:VEVENT
BEGIN:VEVENT
DTSTART;TZID=America/New_York:20170710T090000
DTEND;TZID=America/New_York:20170710T210000
DTSTAMP:20260425T122925
CREATED:20170325T165125Z
LAST-MODIFIED:20170325T165125Z
UID:10034012-1499677200-1499720400@thamesyc.org
SUMMARY:TYC Launch Schedule
DESCRIPTION:The TYC Launch can be hailed on VHF Channel 71
URL:https://thamesyc.org/event/tyc-launch-schedule-69/2017-07-10/
LOCATION:Thames Yacht Club\, 396 Pequot Avenue\, New London\, CT\, 06320\, United States
CATEGORIES:TYC Launch Schedule
GEO:41.3308391;-72.0946565
X-APPLE-STRUCTURED-LOCATION;VALUE=URI;X-ADDRESS=Thames Yacht Club 396 Pequot Avenue New London CT 06320 United States;X-APPLE-RADIUS=500;X-TITLE=396 Pequot Avenue:geo:-72.0946565,41.3308391
END:VEVENT
BEGIN:VEVENT
DTSTART;TZID=America/New_York:20170711T090000
DTEND;TZID=America/New_York:20170711T210000
DTSTAMP:20260425T122925
CREATED:20170325T165125Z
LAST-MODIFIED:20170325T165125Z
UID:10034013-1499763600-1499806800@thamesyc.org
SUMMARY:TYC Launch Schedule
DESCRIPTION:The TYC Launch can be hailed on VHF Channel 71
URL:https://thamesyc.org/event/tyc-launch-schedule-69/2017-07-11/
LOCATION:Thames Yacht Club\, 396 Pequot Avenue\, New London\, CT\, 06320\, United States
CATEGORIES:TYC Launch Schedule
GEO:41.3308391;-72.0946565
X-APPLE-STRUCTURED-LOCATION;VALUE=URI;X-ADDRESS=Thames Yacht Club 396 Pequot Avenue New London CT 06320 United States;X-APPLE-RADIUS=500;X-TITLE=396 Pequot Avenue:geo:-72.0946565,41.3308391
END:VEVENT
BEGIN:VEVENT
DTSTART;TZID=America/New_York:20170712T090000
DTEND;TZID=America/New_York:20170712T210000
DTSTAMP:20260425T122925
CREATED:20170325T165125Z
LAST-MODIFIED:20170325T165125Z
UID:10034014-1499850000-1499893200@thamesyc.org
SUMMARY:TYC Launch Schedule
DESCRIPTION:The TYC Launch can be hailed on VHF Channel 71
URL:https://thamesyc.org/event/tyc-launch-schedule-69/2017-07-12/
LOCATION:Thames Yacht Club\, 396 Pequot Avenue\, New London\, CT\, 06320\, United States
CATEGORIES:TYC Launch Schedule
GEO:41.3308391;-72.0946565
X-APPLE-STRUCTURED-LOCATION;VALUE=URI;X-ADDRESS=Thames Yacht Club 396 Pequot Avenue New London CT 06320 United States;X-APPLE-RADIUS=500;X-TITLE=396 Pequot Avenue:geo:-72.0946565,41.3308391
END:VEVENT
BEGIN:VEVENT
DTSTART;TZID=America/New_York:20170712T173000
DTEND;TZID=America/New_York:20170712T210000
DTSTAMP:20260425T122925
CREATED:20170211T215229Z
LAST-MODIFIED:20170508T130424Z
UID:10033974-1499880600-1499893200@thamesyc.org
SUMMARY:Wednesday Night Spring Series
DESCRIPTION:
URL:https://thamesyc.org/event/wednesday-night-spring-series/2017-07-12/
CATEGORIES:Racing
END:VEVENT
BEGIN:VEVENT
DTSTART;TZID=America/New_York:20170713T090000
DTEND;TZID=America/New_York:20170713T210000
DTSTAMP:20260425T122925
CREATED:20170325T165125Z
LAST-MODIFIED:20170325T165125Z
UID:10034015-1499936400-1499979600@thamesyc.org
SUMMARY:TYC Launch Schedule
DESCRIPTION:The TYC Launch can be hailed on VHF Channel 71
URL:https://thamesyc.org/event/tyc-launch-schedule-69/2017-07-13/
LOCATION:Thames Yacht Club\, 396 Pequot Avenue\, New London\, CT\, 06320\, United States
CATEGORIES:TYC Launch Schedule
GEO:41.3308391;-72.0946565
X-APPLE-STRUCTURED-LOCATION;VALUE=URI;X-ADDRESS=Thames Yacht Club 396 Pequot Avenue New London CT 06320 United States;X-APPLE-RADIUS=500;X-TITLE=396 Pequot Avenue:geo:-72.0946565,41.3308391
END:VEVENT
BEGIN:VEVENT
DTSTART;TZID=America/New_York:20170713T173000
DTEND;TZID=America/New_York:20170713T210000
DTSTAMP:20260425T122925
CREATED:20170211T215954Z
LAST-MODIFIED:20170211T215954Z
UID:10033990-1499967000-1499979600@thamesyc.org
SUMMARY:Force Five Thursday Night Series
DESCRIPTION:
URL:https://thamesyc.org/event/force-five-thursday-night-series/2017-07-13/
CATEGORIES:Racing
END:VEVENT
BEGIN:VEVENT
DTSTART;VALUE=DATE:20170714
DTEND;VALUE=DATE:20170716
DTSTAMP:20260425T122925
CREATED:20170527T151436Z
LAST-MODIFIED:20170527T151436Z
UID:10034123-1499990400-1500163199@thamesyc.org
SUMMARY:Block Island Mooring reserved for S/V AVANTI
DESCRIPTION:
URL:https://thamesyc.org/event/block-island-mooring-reserved-for-sv-avanti/
CATEGORIES:Block Island Mooring Reservation.
END:VEVENT
BEGIN:VEVENT
DTSTART;TZID=America/New_York:20170714T090000
DTEND;TZID=America/New_York:20170714T210000
DTSTAMP:20260425T122925
CREATED:20170325T165125Z
LAST-MODIFIED:20170325T165125Z
UID:10034016-1500022800-1500066000@thamesyc.org
SUMMARY:TYC Launch Schedule
DESCRIPTION:The TYC Launch can be hailed on VHF Channel 71
URL:https://thamesyc.org/event/tyc-launch-schedule-69/2017-07-14/
LOCATION:Thames Yacht Club\, 396 Pequot Avenue\, New London\, CT\, 06320\, United States
CATEGORIES:TYC Launch Schedule
GEO:41.3308391;-72.0946565
X-APPLE-STRUCTURED-LOCATION;VALUE=URI;X-ADDRESS=Thames Yacht Club 396 Pequot Avenue New London CT 06320 United States;X-APPLE-RADIUS=500;X-TITLE=396 Pequot Avenue:geo:-72.0946565,41.3308391
END:VEVENT
BEGIN:VEVENT
DTSTART;TZID=America/New_York:20170715T090000
DTEND;TZID=America/New_York:20170715T210000
DTSTAMP:20260425T122925
CREATED:20170325T165125Z
LAST-MODIFIED:20170325T165125Z
UID:10034017-1500109200-1500152400@thamesyc.org
SUMMARY:TYC Launch Schedule
DESCRIPTION:The TYC Launch can be hailed on VHF Channel 71
URL:https://thamesyc.org/event/tyc-launch-schedule-69/2017-07-15/
LOCATION:Thames Yacht Club\, 396 Pequot Avenue\, New London\, CT\, 06320\, United States
CATEGORIES:TYC Launch Schedule
GEO:41.3308391;-72.0946565
X-APPLE-STRUCTURED-LOCATION;VALUE=URI;X-ADDRESS=Thames Yacht Club 396 Pequot Avenue New London CT 06320 United States;X-APPLE-RADIUS=500;X-TITLE=396 Pequot Avenue:geo:-72.0946565,41.3308391
END:VEVENT
BEGIN:VEVENT
DTSTART;TZID=America/New_York:20170715T120000
DTEND;TZID=America/New_York:20170715T150000
DTSTAMP:20260425T122925
CREATED:20161218T015019Z
LAST-MODIFIED:20161218T015019Z
UID:10033930-1500120000-1500130800@thamesyc.org
SUMMARY:TYC Pirate Rendezvouz - Flat Hammock\, NY
DESCRIPTION:
URL:https://thamesyc.org/event/tyc-pirate-rendezvouz-flat-hammock-ny/
CATEGORIES:Cruise Event
END:VEVENT
BEGIN:VEVENT
DTSTART;TZID=America/New_York:20170716T080000
DTEND;TZID=America/New_York:20170718T170000
DTSTAMP:20260425T122925
CREATED:20170516T223848Z
LAST-MODIFIED:20170516T223848Z
UID:10034111-1500192000-1500397200@thamesyc.org
SUMMARY:Block Island mooring reserved for S/V Pinga
DESCRIPTION:
URL:https://thamesyc.org/event/block-island-mooring-reserved-for-sv-pinga/
CATEGORIES:Block Island Mooring Reservation.
END:VEVENT
BEGIN:VEVENT
DTSTART;TZID=America/New_York:20170716T090000
DTEND;TZID=America/New_York:20170716T210000
DTSTAMP:20260425T122925
CREATED:20170325T165125Z
LAST-MODIFIED:20170325T165125Z
UID:10034018-1500195600-1500238800@thamesyc.org
SUMMARY:TYC Launch Schedule
DESCRIPTION:The TYC Launch can be hailed on VHF Channel 71
URL:https://thamesyc.org/event/tyc-launch-schedule-69/2017-07-16/
LOCATION:Thames Yacht Club\, 396 Pequot Avenue\, New London\, CT\, 06320\, United States
CATEGORIES:TYC Launch Schedule
GEO:41.3308391;-72.0946565
X-APPLE-STRUCTURED-LOCATION;VALUE=URI;X-ADDRESS=Thames Yacht Club 396 Pequot Avenue New London CT 06320 United States;X-APPLE-RADIUS=500;X-TITLE=396 Pequot Avenue:geo:-72.0946565,41.3308391
END:VEVENT
BEGIN:VEVENT
DTSTART;TZID=America/New_York:20170717T090000
DTEND;TZID=America/New_York:20170717T210000
DTSTAMP:20260425T122925
CREATED:20170325T165125Z
LAST-MODIFIED:20170325T165125Z
UID:10034019-1500282000-1500325200@thamesyc.org
SUMMARY:TYC Launch Schedule
DESCRIPTION:The TYC Launch can be hailed on VHF Channel 71
URL:https://thamesyc.org/event/tyc-launch-schedule-69/2017-07-17/
LOCATION:Thames Yacht Club\, 396 Pequot Avenue\, New London\, CT\, 06320\, United States
CATEGORIES:TYC Launch Schedule
GEO:41.3308391;-72.0946565
X-APPLE-STRUCTURED-LOCATION;VALUE=URI;X-ADDRESS=Thames Yacht Club 396 Pequot Avenue New London CT 06320 United States;X-APPLE-RADIUS=500;X-TITLE=396 Pequot Avenue:geo:-72.0946565,41.3308391
END:VEVENT
END:VCALENDAR