BEGIN:VCALENDAR
VERSION:2.0
PRODID:-//Thames Yacht Club - ECPv6.15.20//NONSGML v1.0//EN
CALSCALE:GREGORIAN
METHOD:PUBLISH
X-WR-CALNAME:Thames Yacht Club
X-ORIGINAL-URL:https://thamesyc.org
X-WR-CALDESC:Events for Thames Yacht Club
REFRESH-INTERVAL;VALUE=DURATION:PT1H
X-Robots-Tag:noindex
X-PUBLISHED-TTL:PT1H
BEGIN:VTIMEZONE
TZID:America/New_York
BEGIN:DAYLIGHT
TZOFFSETFROM:-0500
TZOFFSETTO:-0400
TZNAME:EDT
DTSTART:20130310T070000
END:DAYLIGHT
BEGIN:STANDARD
TZOFFSETFROM:-0400
TZOFFSETTO:-0500
TZNAME:EST
DTSTART:20131103T060000
END:STANDARD
BEGIN:DAYLIGHT
TZOFFSETFROM:-0500
TZOFFSETTO:-0400
TZNAME:EDT
DTSTART:20140309T070000
END:DAYLIGHT
BEGIN:STANDARD
TZOFFSETFROM:-0400
TZOFFSETTO:-0500
TZNAME:EST
DTSTART:20141102T060000
END:STANDARD
BEGIN:DAYLIGHT
TZOFFSETFROM:-0500
TZOFFSETTO:-0400
TZNAME:EDT
DTSTART:20150308T070000
END:DAYLIGHT
BEGIN:STANDARD
TZOFFSETFROM:-0400
TZOFFSETTO:-0500
TZNAME:EST
DTSTART:20151101T060000
END:STANDARD
END:VTIMEZONE
BEGIN:VEVENT
DTSTART;TZID=America/New_York:20141108T180000
DTEND;TZID=America/New_York:20141108T210000
DTSTAMP:20260425T193554
CREATED:20141005T201416Z
LAST-MODIFIED:20141005T201416Z
UID:10033545-1415469600-1415480400@thamesyc.org
SUMMARY:Skipper's Night
DESCRIPTION:
URL:https://thamesyc.org/event/skippers-night/
LOCATION:Thames Yacht Club\, 396 Pequot Avenue\, New London\, CT\, 06320\, United States
CATEGORIES:Club Wide Event
GEO:41.3308391;-72.0946565
X-APPLE-STRUCTURED-LOCATION;VALUE=URI;X-ADDRESS=Thames Yacht Club 396 Pequot Avenue New London CT 06320 United States;X-APPLE-RADIUS=500;X-TITLE=396 Pequot Avenue:geo:-72.0946565,41.3308391
END:VEVENT
BEGIN:VEVENT
DTSTART;TZID=America/New_York:20141107T183000
DTEND;TZID=America/New_York:20141107T210000
DTSTAMP:20260425T193554
CREATED:20141005T201302Z
LAST-MODIFIED:20141005T201942Z
UID:10033543-1415385000-1415394000@thamesyc.org
SUMMARY:General Membership Meeting
DESCRIPTION:6:00 pm Pot Luck Dinner/ 7:00 Meeting
URL:https://thamesyc.org/event/general-membership-meeting-4/
LOCATION:Thames Yacht Club\, 396 Pequot Avenue\, New London\, CT\, 06320\, United States
CATEGORIES:Club Wide Event
GEO:41.3308391;-72.0946565
X-APPLE-STRUCTURED-LOCATION;VALUE=URI;X-ADDRESS=Thames Yacht Club 396 Pequot Avenue New London CT 06320 United States;X-APPLE-RADIUS=500;X-TITLE=396 Pequot Avenue:geo:-72.0946565,41.3308391
END:VEVENT
BEGIN:VEVENT
DTSTART;TZID=America/New_York:20141101T183000
DTEND;TZID=America/New_York:20141101T210000
DTSTAMP:20260425T193554
CREATED:20141005T201128Z
LAST-MODIFIED:20141005T201128Z
UID:10033541-1414866600-1414875600@thamesyc.org
SUMMARY:Adult Halloween Party
DESCRIPTION:Please join us!
URL:https://thamesyc.org/event/adult-halloween-party/
LOCATION:Thames Yacht Club\, 396 Pequot Avenue\, New London\, CT\, 06320\, United States
CATEGORIES:Club Wide Event
GEO:41.3308391;-72.0946565
X-APPLE-STRUCTURED-LOCATION;VALUE=URI;X-ADDRESS=Thames Yacht Club 396 Pequot Avenue New London CT 06320 United States;X-APPLE-RADIUS=500;X-TITLE=396 Pequot Avenue:geo:-72.0946565,41.3308391
END:VEVENT
BEGIN:VEVENT
DTSTART;TZID=America/New_York:20141026T100000
DTEND;TZID=America/New_York:20141026T180000
DTSTAMP:20260425T193554
CREATED:20140422T025540Z
LAST-MODIFIED:20140923T145656Z
UID:10033539-1414317600-1414346400@thamesyc.org
SUMMARY:TYC Launch Schedule 1000 - 1800
DESCRIPTION:Our Launch is available to members and transients on Channel 71.
URL:https://thamesyc.org/event/tyc-launch-schedule-111/
LOCATION:Thames Yacht Club\, 396 Pequot Avenue\, New London\, CT\, 06320\, United States
CATEGORIES:TYC Launch Schedule
GEO:41.3308391;-72.0946565
X-APPLE-STRUCTURED-LOCATION;VALUE=URI;X-ADDRESS=Thames Yacht Club 396 Pequot Avenue New London CT 06320 United States;X-APPLE-RADIUS=500;X-TITLE=396 Pequot Avenue:geo:-72.0946565,41.3308391
END:VEVENT
BEGIN:VEVENT
DTSTART;TZID=America/New_York:20141025T100000
DTEND;TZID=America/New_York:20141025T180000
DTSTAMP:20260425T193554
CREATED:20140422T025401Z
LAST-MODIFIED:20140923T145522Z
UID:10033527-1414231200-1414260000@thamesyc.org
SUMMARY:TYC Launch Schedule 1000 - 1800
DESCRIPTION:Our Launch is available to members and transients on Channel 71.
URL:https://thamesyc.org/event/tyc-launch-schedule-110/
LOCATION:Thames Yacht Club\, 396 Pequot Avenue\, New London\, CT\, 06320\, United States
CATEGORIES:TYC Launch Schedule
GEO:41.3308391;-72.0946565
X-APPLE-STRUCTURED-LOCATION;VALUE=URI;X-ADDRESS=Thames Yacht Club 396 Pequot Avenue New London CT 06320 United States;X-APPLE-RADIUS=500;X-TITLE=396 Pequot Avenue:geo:-72.0946565,41.3308391
END:VEVENT
BEGIN:VEVENT
DTSTART;VALUE=DATE:20141025
DTEND;VALUE=DATE:20141026
DTSTAMP:20260425T193554
CREATED:20140426T131227Z
LAST-MODIFIED:20140429T122946Z
UID:10033570-1414195200-1414281599@thamesyc.org
SUMMARY:Reserved for Reinhart Wedding
DESCRIPTION:
URL:https://thamesyc.org/event/reserved-reinhart-wedding/
LOCATION:Thames Yacht Club\, 396 Pequot Avenue\, New London\, CT\, 06320\, United States
CATEGORIES:Club Wide Event,Party
GEO:41.3308391;-72.0946565
X-APPLE-STRUCTURED-LOCATION;VALUE=URI;X-ADDRESS=Thames Yacht Club 396 Pequot Avenue New London CT 06320 United States;X-APPLE-RADIUS=500;X-TITLE=396 Pequot Avenue:geo:-72.0946565,41.3308391
END:VEVENT
BEGIN:VEVENT
DTSTART;TZID=America/New_York:20141024T183000
DTEND;TZID=America/New_York:20141024T213000
DTSTAMP:20260425T193554
CREATED:20140916T040316Z
LAST-MODIFIED:20140916T040316Z
UID:10033564-1414175400-1414186200@thamesyc.org
SUMMARY:TYC Children's Halloween Party!
DESCRIPTION:Thames Yacht Club Friday\, October 24\, 2014 6:30 – 9:00 pm \nPizza & Soft Drinks for Children Adults: please bring a dish to share Everyone encouraged to wear a costume (adults included!) \nIn addition to all the regular fun\, we will have an informal talent showcase for any child or group of children who want to sing\, dance or share some other talent with your TYC friends!!! \nAdmission: children $5.00(maximum charge: $15 per family) \nAn RSVP to any committee member would be helpful: Melissa Root  or Tim Reilly 
URL:https://thamesyc.org/event/tyc-childrens-halloween-party/
LOCATION:Thames Yacht Club\, 396 Pequot Avenue\, New London\, CT\, 06320\, United States
CATEGORIES:Club Wide Event
GEO:41.3308391;-72.0946565
X-APPLE-STRUCTURED-LOCATION;VALUE=URI;X-ADDRESS=Thames Yacht Club 396 Pequot Avenue New London CT 06320 United States;X-APPLE-RADIUS=500;X-TITLE=396 Pequot Avenue:geo:-72.0946565,41.3308391
END:VEVENT
BEGIN:VEVENT
DTSTART;TZID=America/New_York:20141024T140000
DTEND;TZID=America/New_York:20141024T180000
DTSTAMP:20260425T193554
CREATED:20140923T144135Z
LAST-MODIFIED:20140923T144135Z
UID:10033540-1414159200-1414173600@thamesyc.org
SUMMARY:TYC Launch Schedule 1400 - 1800
DESCRIPTION:The TYC Launch is available to members and transients on Marine Channel 71.
URL:https://thamesyc.org/event/tyc-launch-schedule-1400-1800-5/
LOCATION:Thames Yacht Club\, 396 Pequot Avenue\, New London\, CT\, 06320\, United States
CATEGORIES:TYC Launch Schedule
GEO:41.3308391;-72.0946565
X-APPLE-STRUCTURED-LOCATION;VALUE=URI;X-ADDRESS=Thames Yacht Club 396 Pequot Avenue New London CT 06320 United States;X-APPLE-RADIUS=500;X-TITLE=396 Pequot Avenue:geo:-72.0946565,41.3308391
END:VEVENT
BEGIN:VEVENT
DTSTART;TZID=America/New_York:20141019T100000
DTEND;TZID=America/New_York:20141019T180000
DTSTAMP:20260425T193554
CREATED:20140422T025259Z
LAST-MODIFIED:20140923T145436Z
UID:10033526-1413712800-1413741600@thamesyc.org
SUMMARY:TYC Launch Schedule 1000 - 1800
DESCRIPTION:Our Launch is available to members and transients on Channel 71.
URL:https://thamesyc.org/event/tyc-launch-schedule-109/
LOCATION:Thames Yacht Club\, 396 Pequot Avenue\, New London\, CT\, 06320\, United States
CATEGORIES:TYC Launch Schedule
GEO:41.3308391;-72.0946565
X-APPLE-STRUCTURED-LOCATION;VALUE=URI;X-ADDRESS=Thames Yacht Club 396 Pequot Avenue New London CT 06320 United States;X-APPLE-RADIUS=500;X-TITLE=396 Pequot Avenue:geo:-72.0946565,41.3308391
END:VEVENT
BEGIN:VEVENT
DTSTART;TZID=America/New_York:20141018T100000
DTEND;TZID=America/New_York:20141018T180000
DTSTAMP:20260425T193554
CREATED:20140422T025202Z
LAST-MODIFIED:20140923T145234Z
UID:10033525-1413626400-1413655200@thamesyc.org
SUMMARY:TYC Launch Schedule 1000 - 1800
DESCRIPTION:Our Launch is available to members and transients on Channel 71.
URL:https://thamesyc.org/event/tyc-launch-schedule-108/
LOCATION:Thames Yacht Club\, 396 Pequot Avenue\, New London\, CT\, 06320\, United States
CATEGORIES:TYC Launch Schedule
GEO:41.3308391;-72.0946565
X-APPLE-STRUCTURED-LOCATION;VALUE=URI;X-ADDRESS=Thames Yacht Club 396 Pequot Avenue New London CT 06320 United States;X-APPLE-RADIUS=500;X-TITLE=396 Pequot Avenue:geo:-72.0946565,41.3308391
END:VEVENT
BEGIN:VEVENT
DTSTART;TZID=America/New_York:20141017T140000
DTEND;TZID=America/New_York:20141017T180000
DTSTAMP:20260425T193554
CREATED:20140923T143621Z
LAST-MODIFIED:20140923T143621Z
UID:10033561-1413554400-1413568800@thamesyc.org
SUMMARY:TYC Launch Schedule 1400 - 1800
DESCRIPTION:The TYC Launch is available to members and transients on Marine Channel 71.
URL:https://thamesyc.org/event/tyc-launch-schedule-1400-1800-4/
LOCATION:Thames Yacht Club\, 396 Pequot Avenue\, New London\, CT\, 06320\, United States
CATEGORIES:TYC Launch Schedule
GEO:41.3308391;-72.0946565
X-APPLE-STRUCTURED-LOCATION;VALUE=URI;X-ADDRESS=Thames Yacht Club 396 Pequot Avenue New London CT 06320 United States;X-APPLE-RADIUS=500;X-TITLE=396 Pequot Avenue:geo:-72.0946565,41.3308391
END:VEVENT
BEGIN:VEVENT
DTSTART;TZID=America/New_York:20141012T100000
DTEND;TZID=America/New_York:20141012T180000
DTSTAMP:20260425T193554
CREATED:20140422T025055Z
LAST-MODIFIED:20140923T145330Z
UID:10033524-1413108000-1413136800@thamesyc.org
SUMMARY:TYC Launch Schedule 1000 - 1800
DESCRIPTION:Our Launch is available to members and transients on Channel 71.
URL:https://thamesyc.org/event/tyc-launch-schedule-107/
LOCATION:Thames Yacht Club\, 396 Pequot Avenue\, New London\, CT\, 06320\, United States
CATEGORIES:TYC Launch Schedule
GEO:41.3308391;-72.0946565
X-APPLE-STRUCTURED-LOCATION;VALUE=URI;X-ADDRESS=Thames Yacht Club 396 Pequot Avenue New London CT 06320 United States;X-APPLE-RADIUS=500;X-TITLE=396 Pequot Avenue:geo:-72.0946565,41.3308391
END:VEVENT
BEGIN:VEVENT
DTSTART;TZID=America/New_York:20141011T100000
DTEND;TZID=America/New_York:20141011T180000
DTSTAMP:20260425T193554
CREATED:20140422T024901Z
LAST-MODIFIED:20140923T144632Z
UID:10033523-1413021600-1413050400@thamesyc.org
SUMMARY:TYC Launch Schedule 1000 - 1800
DESCRIPTION:Our Launch is available to members and transients on Channel 71.
URL:https://thamesyc.org/event/tyc-launch-schedule-106/
LOCATION:Thames Yacht Club\, 396 Pequot Avenue\, New London\, CT\, 06320\, United States
CATEGORIES:TYC Launch Schedule
GEO:41.3308391;-72.0946565
X-APPLE-STRUCTURED-LOCATION;VALUE=URI;X-ADDRESS=Thames Yacht Club 396 Pequot Avenue New London CT 06320 United States;X-APPLE-RADIUS=500;X-TITLE=396 Pequot Avenue:geo:-72.0946565,41.3308391
END:VEVENT
BEGIN:VEVENT
DTSTART;VALUE=DATE:20141011
DTEND;VALUE=DATE:20141014
DTSTAMP:20260425T193554
CREATED:20140827T174528Z
LAST-MODIFIED:20140827T174528Z
UID:10033565-1412985600-1413244799@thamesyc.org
SUMMARY:TYC Final Cruise of the season to Hamburg Cove on the CT River
DESCRIPTION:
URL:https://thamesyc.org/event/tyc-final-cruise-season-hamburg-cove-ct-river/
CATEGORIES:Cruise Event
END:VEVENT
BEGIN:VEVENT
DTSTART;TZID=America/New_York:20141010T140000
DTEND;TZID=America/New_York:20141010T180000
DTSTAMP:20260425T193554
CREATED:20140923T142459Z
LAST-MODIFIED:20140923T142459Z
UID:10033562-1412949600-1412964000@thamesyc.org
SUMMARY:TYC Launch Schedule 1400 - 1800
DESCRIPTION:The TYC Launch is available to members and transients on Marine Channel 71.
URL:https://thamesyc.org/event/tyc-launch-schedule-1400-1800-3/
LOCATION:Thames Yacht Club\, 396 Pequot Avenue\, New London\, CT\, 06320\, United States
CATEGORIES:TYC Launch Schedule
GEO:41.3308391;-72.0946565
X-APPLE-STRUCTURED-LOCATION;VALUE=URI;X-ADDRESS=Thames Yacht Club 396 Pequot Avenue New London CT 06320 United States;X-APPLE-RADIUS=500;X-TITLE=396 Pequot Avenue:geo:-72.0946565,41.3308391
END:VEVENT
BEGIN:VEVENT
DTSTART;TZID=America/New_York:20141005T100000
DTEND;TZID=America/New_York:20141005T180000
DTSTAMP:20260425T193554
CREATED:20140422T024803Z
LAST-MODIFIED:20140923T144412Z
UID:10033522-1412503200-1412532000@thamesyc.org
SUMMARY:TYC Launch Schedule 1000 - 1800
DESCRIPTION:Our Launch is available to members and transients on Channel 71.
URL:https://thamesyc.org/event/tyc-launch-schedule-105/
LOCATION:Thames Yacht Club\, 396 Pequot Avenue\, New London\, CT\, 06320\, United States
CATEGORIES:TYC Launch Schedule
GEO:41.3308391;-72.0946565
X-APPLE-STRUCTURED-LOCATION;VALUE=URI;X-ADDRESS=Thames Yacht Club 396 Pequot Avenue New London CT 06320 United States;X-APPLE-RADIUS=500;X-TITLE=396 Pequot Avenue:geo:-72.0946565,41.3308391
END:VEVENT
BEGIN:VEVENT
DTSTART;TZID=America/New_York:20141004T100000
DTEND;TZID=America/New_York:20141004T180000
DTSTAMP:20260425T193554
CREATED:20140422T024658Z
LAST-MODIFIED:20140923T144259Z
UID:10033521-1412416800-1412445600@thamesyc.org
SUMMARY:TYC Launch Schedule 1000 - 1800
DESCRIPTION:  \nClick here for a downloadable calendar \nOur Launch is available to members and transients on Channel 71.
URL:https://thamesyc.org/event/tyc-launch-schedule-104/
LOCATION:Thames Yacht Club\, 396 Pequot Avenue\, New London\, CT\, 06320\, United States
CATEGORIES:TYC Launch Schedule
GEO:41.3308391;-72.0946565
X-APPLE-STRUCTURED-LOCATION;VALUE=URI;X-ADDRESS=Thames Yacht Club 396 Pequot Avenue New London CT 06320 United States;X-APPLE-RADIUS=500;X-TITLE=396 Pequot Avenue:geo:-72.0946565,41.3308391
END:VEVENT
BEGIN:VEVENT
DTSTART;TZID=America/New_York:20141003T140000
DTEND;TZID=America/New_York:20141003T180000
DTSTAMP:20260425T193554
CREATED:20140923T141418Z
LAST-MODIFIED:20140923T141418Z
UID:10033563-1412344800-1412359200@thamesyc.org
SUMMARY:TYC Launch Schedule 1400 - 1800
DESCRIPTION:The TYC Launch is available to members and transients on Marine Channel 71
URL:https://thamesyc.org/event/tyc-launch-schedule-1400-1800-2/
LOCATION:Thames Yacht Club\, 396 Pequot Avenue\, New London\, CT\, 06320\, United States
CATEGORIES:TYC Launch Schedule
GEO:41.3308391;-72.0946565
X-APPLE-STRUCTURED-LOCATION;VALUE=URI;X-ADDRESS=Thames Yacht Club 396 Pequot Avenue New London CT 06320 United States;X-APPLE-RADIUS=500;X-TITLE=396 Pequot Avenue:geo:-72.0946565,41.3308391
END:VEVENT
BEGIN:VEVENT
DTSTART;TZID=America/New_York:20140928T100000
DTEND;TZID=America/New_York:20140928T190000
DTSTAMP:20260425T193554
CREATED:20140422T024413Z
LAST-MODIFIED:20140923T140041Z
UID:10033520-1411898400-1411930800@thamesyc.org
SUMMARY:TYC Launch Schedule 1000 - 1900
DESCRIPTION:Our Launch is available to members and transients on Channel 71.
URL:https://thamesyc.org/event/tyc-launch-event/
LOCATION:Thames Yacht Club\, 396 Pequot Avenue\, New London\, CT\, 06320\, United States
CATEGORIES:TYC Launch Schedule
GEO:41.3308391;-72.0946565
X-APPLE-STRUCTURED-LOCATION;VALUE=URI;X-ADDRESS=Thames Yacht Club 396 Pequot Avenue New London CT 06320 United States;X-APPLE-RADIUS=500;X-TITLE=396 Pequot Avenue:geo:-72.0946565,41.3308391
END:VEVENT
BEGIN:VEVENT
DTSTART;TZID=America/New_York:20140927T100000
DTEND;TZID=America/New_York:20140927T190000
DTSTAMP:20260425T193554
CREATED:20140422T024317Z
LAST-MODIFIED:20140923T135447Z
UID:10033519-1411812000-1411844400@thamesyc.org
SUMMARY:TYC Launch Schedule 1000 - 1900
DESCRIPTION:Our Launch is available to members and transients on Channel 71.
URL:https://thamesyc.org/event/tyc-launch-schedule-102/
LOCATION:Thames Yacht Club\, 396 Pequot Avenue\, New London\, CT\, 06320\, United States
CATEGORIES:TYC Launch Schedule
GEO:41.3308391;-72.0946565
X-APPLE-STRUCTURED-LOCATION;VALUE=URI;X-ADDRESS=Thames Yacht Club 396 Pequot Avenue New London CT 06320 United States;X-APPLE-RADIUS=500;X-TITLE=396 Pequot Avenue:geo:-72.0946565,41.3308391
END:VEVENT
BEGIN:VEVENT
DTSTART;TZID=America/New_York:20140926T150000
DTEND;TZID=America/New_York:20140926T190000
DTSTAMP:20260425T193554
CREATED:20140503T165211Z
LAST-MODIFIED:20140923T135550Z
UID:10033578-1411743600-1411758000@thamesyc.org
SUMMARY:TYC Launch Schedule 1500 - 1900
DESCRIPTION:Our Launch is available to members and transients on marine Channel 71.
URL:https://thamesyc.org/event/tyc-launch-schedule-1600-2000-3-2014-09-26/
LOCATION:Thames Yacht Club\, 396 Pequot Avenue\, New London\, CT\, 06320\, United States
CATEGORIES:TYC Launch Schedule
GEO:41.3308391;-72.0946565
X-APPLE-STRUCTURED-LOCATION;VALUE=URI;X-ADDRESS=Thames Yacht Club 396 Pequot Avenue New London CT 06320 United States;X-APPLE-RADIUS=500;X-TITLE=396 Pequot Avenue:geo:-72.0946565,41.3308391
END:VEVENT
BEGIN:VEVENT
DTSTART;TZID=America/New_York:20140922T100000
DTEND;TZID=America/New_York:20140922T200000
DTSTAMP:20260425T193554
CREATED:20140422T024142Z
LAST-MODIFIED:20140422T024142Z
UID:10033518-1411380000-1411416000@thamesyc.org
SUMMARY:TYC Launch Schedule
DESCRIPTION:Our Launch is available to members and transients on Channel 71.
URL:https://thamesyc.org/event/tyc-launch-schedule-101/
LOCATION:Thames Yacht Club\, 396 Pequot Avenue\, New London\, CT\, 06320\, United States
CATEGORIES:TYC Launch Schedule
GEO:41.3308391;-72.0946565
X-APPLE-STRUCTURED-LOCATION;VALUE=URI;X-ADDRESS=Thames Yacht Club 396 Pequot Avenue New London CT 06320 United States;X-APPLE-RADIUS=500;X-TITLE=396 Pequot Avenue:geo:-72.0946565,41.3308391
END:VEVENT
BEGIN:VEVENT
DTSTART;VALUE=DATE:20140922
DTEND;VALUE=DATE:20140927
DTSTAMP:20260425T193554
CREATED:20140828T100930Z
LAST-MODIFIED:20140828T100930Z
UID:10033566-1411344000-1411775999@thamesyc.org
SUMMARY:Block Island Mooring reserved for S/V LEDGELIGHT
DESCRIPTION:
URL:https://thamesyc.org/event/block-island-mooring-reserved-sv-ledgelight/
CATEGORIES:Block Island Mooring Reservation.
END:VEVENT
BEGIN:VEVENT
DTSTART;TZID=America/New_York:20140921T100000
DTEND;TZID=America/New_York:20140921T200000
DTSTAMP:20260425T193554
CREATED:20140422T024007Z
LAST-MODIFIED:20140422T024007Z
UID:10033517-1411293600-1411329600@thamesyc.org
SUMMARY:TYC Launch Schedule
DESCRIPTION:Our Launch is available to members and transients on Channel 71.
URL:https://thamesyc.org/event/tyc-launch-schedule-100/
LOCATION:Thames Yacht Club\, 396 Pequot Avenue\, New London\, CT\, 06320\, United States
CATEGORIES:TYC Launch Schedule
GEO:41.3308391;-72.0946565
X-APPLE-STRUCTURED-LOCATION;VALUE=URI;X-ADDRESS=Thames Yacht Club 396 Pequot Avenue New London CT 06320 United States;X-APPLE-RADIUS=500;X-TITLE=396 Pequot Avenue:geo:-72.0946565,41.3308391
END:VEVENT
BEGIN:VEVENT
DTSTART;TZID=America/New_York:20140920T100000
DTEND;TZID=America/New_York:20140920T200000
DTSTAMP:20260425T193554
CREATED:20140422T023812Z
LAST-MODIFIED:20140503T164928Z
UID:10033516-1411207200-1411243200@thamesyc.org
SUMMARY:TYC Launch Schedule 1000 - 2000
DESCRIPTION:Our Launch is available to members and transients on Channel 71.
URL:https://thamesyc.org/event/tyc-launch-schedule-99/
LOCATION:Thames Yacht Club\, 396 Pequot Avenue\, New London\, CT\, 06320\, United States
CATEGORIES:TYC Launch Schedule
GEO:41.3308391;-72.0946565
X-APPLE-STRUCTURED-LOCATION;VALUE=URI;X-ADDRESS=Thames Yacht Club 396 Pequot Avenue New London CT 06320 United States;X-APPLE-RADIUS=500;X-TITLE=396 Pequot Avenue:geo:-72.0946565,41.3308391
END:VEVENT
BEGIN:VEVENT
DTSTART;VALUE=DATE:20140920
DTEND;VALUE=DATE:20140922
DTSTAMP:20260425T193554
CREATED:20140422T021723Z
LAST-MODIFIED:20140422T021723Z
UID:10033505-1411171200-1411343999@thamesyc.org
SUMMARY:Mystic Seaport Cruise
DESCRIPTION:This slideshow requires JavaScript. \nMystic Seaport is the nation’s leading maritime museum and was Founded in 1929. Home to four National Historic Landmark vessels\, including the Charles W. Morgan\, the last wooden whaleship in the world\, Mystic Seaport also features a working preservation shipyard\, a re-created 19th-century seafaring village\, exhilarating exhibits and a planetarium. \nClick here for more.
URL:https://thamesyc.org/event/mystic-seaport-cruise/
CATEGORIES:Cruise Event
END:VEVENT
BEGIN:VEVENT
DTSTART;TZID=America/New_York:20140914T100000
DTEND;TZID=America/New_York:20140914T200000
DTSTAMP:20260425T193554
CREATED:20140422T023544Z
LAST-MODIFIED:20140422T023544Z
UID:10033515-1410688800-1410724800@thamesyc.org
SUMMARY:TYC Launch Schedule
DESCRIPTION:Our Launch is available to members and transients on Channel 71.
URL:https://thamesyc.org/event/tyc-launch-schedule-97/
LOCATION:Thames Yacht Club\, 396 Pequot Avenue\, New London\, CT\, 06320\, United States
CATEGORIES:TYC Launch Schedule
GEO:41.3308391;-72.0946565
X-APPLE-STRUCTURED-LOCATION;VALUE=URI;X-ADDRESS=Thames Yacht Club 396 Pequot Avenue New London CT 06320 United States;X-APPLE-RADIUS=500;X-TITLE=396 Pequot Avenue:geo:-72.0946565,41.3308391
END:VEVENT
BEGIN:VEVENT
DTSTART;TZID=America/New_York:20140913T100000
DTEND;TZID=America/New_York:20140913T200000
DTSTAMP:20260425T193554
CREATED:20140422T023340Z
LAST-MODIFIED:20140503T164654Z
UID:10033513-1410602400-1410638400@thamesyc.org
SUMMARY:TYC Launch Schedule 1000 - 2000
DESCRIPTION:Our Launch is available to members and transients on Channel 71. \n 
URL:https://thamesyc.org/event/tyc-launch-schedule-95/
LOCATION:Thames Yacht Club\, 396 Pequot Avenue\, New London\, CT\, 06320\, United States
CATEGORIES:TYC Launch Schedule
GEO:41.3308391;-72.0946565
X-APPLE-STRUCTURED-LOCATION;VALUE=URI;X-ADDRESS=Thames Yacht Club 396 Pequot Avenue New London CT 06320 United States;X-APPLE-RADIUS=500;X-TITLE=396 Pequot Avenue:geo:-72.0946565,41.3308391
END:VEVENT
BEGIN:VEVENT
DTSTART;TZID=America/New_York:20140912T160000
DTEND;TZID=America/New_York:20140912T200000
DTSTAMP:20260425T193554
CREATED:20140503T162718Z
LAST-MODIFIED:20140503T162718Z
UID:10033577-1410537600-1410552000@thamesyc.org
SUMMARY:TYC Launch Schedule 1600 - 2000
DESCRIPTION:Our launch is available to members and transients on marine Channel 71.
URL:https://thamesyc.org/event/tyc-launch-schedule-1600-2000-2/
LOCATION:Thames Yacht Club\, 396 Pequot Avenue\, New London\, CT\, 06320\, United States
CATEGORIES:TYC Launch Schedule
GEO:41.3308391;-72.0946565
X-APPLE-STRUCTURED-LOCATION;VALUE=URI;X-ADDRESS=Thames Yacht Club 396 Pequot Avenue New London CT 06320 United States;X-APPLE-RADIUS=500;X-TITLE=396 Pequot Avenue:geo:-72.0946565,41.3308391
END:VEVENT
BEGIN:VEVENT
DTSTART;TZID=America/New_York:20140912T070000
DTEND;TZID=America/New_York:20140912T090000
DTSTAMP:20260425T193554
CREATED:20140422T023201Z
LAST-MODIFIED:20140503T164431Z
UID:10033511-1410505200-1410512400@thamesyc.org
SUMMARY:TYC Launch Schedule 0700 - 0900
DESCRIPTION:Our Launch is available to members and transients on Channel 71.
URL:https://thamesyc.org/event/tyc-launch-schedule-94/
LOCATION:Thames Yacht Club\, 396 Pequot Avenue\, New London\, CT\, 06320\, United States
CATEGORIES:TYC Launch Schedule
GEO:41.3308391;-72.0946565
X-APPLE-STRUCTURED-LOCATION;VALUE=URI;X-ADDRESS=Thames Yacht Club 396 Pequot Avenue New London CT 06320 United States;X-APPLE-RADIUS=500;X-TITLE=396 Pequot Avenue:geo:-72.0946565,41.3308391
END:VEVENT
END:VCALENDAR