BEGIN:VCALENDAR
VERSION:2.0
PRODID:-//Thames Yacht Club - ECPv6.15.17//NONSGML v1.0//EN
CALSCALE:GREGORIAN
METHOD:PUBLISH
X-WR-CALNAME:Thames Yacht Club
X-ORIGINAL-URL:https://thamesyc.org
X-WR-CALDESC:Events for Thames Yacht Club
REFRESH-INTERVAL;VALUE=DURATION:PT1H
X-Robots-Tag:noindex
X-PUBLISHED-TTL:PT1H
BEGIN:VTIMEZONE
TZID:America/New_York
BEGIN:DAYLIGHT
TZOFFSETFROM:-0500
TZOFFSETTO:-0400
TZNAME:EDT
DTSTART:20150308T070000
END:DAYLIGHT
BEGIN:STANDARD
TZOFFSETFROM:-0400
TZOFFSETTO:-0500
TZNAME:EST
DTSTART:20151101T060000
END:STANDARD
BEGIN:DAYLIGHT
TZOFFSETFROM:-0500
TZOFFSETTO:-0400
TZNAME:EDT
DTSTART:20160313T070000
END:DAYLIGHT
BEGIN:STANDARD
TZOFFSETFROM:-0400
TZOFFSETTO:-0500
TZNAME:EST
DTSTART:20161106T060000
END:STANDARD
BEGIN:DAYLIGHT
TZOFFSETFROM:-0500
TZOFFSETTO:-0400
TZNAME:EDT
DTSTART:20170312T070000
END:DAYLIGHT
BEGIN:STANDARD
TZOFFSETFROM:-0400
TZOFFSETTO:-0500
TZNAME:EST
DTSTART:20171105T060000
END:STANDARD
BEGIN:DAYLIGHT
TZOFFSETFROM:-0500
TZOFFSETTO:-0400
TZNAME:EDT
DTSTART:20180311T070000
END:DAYLIGHT
BEGIN:STANDARD
TZOFFSETFROM:-0400
TZOFFSETTO:-0500
TZNAME:EST
DTSTART:20181104T060000
END:STANDARD
END:VTIMEZONE
BEGIN:VEVENT
DTSTART;TZID=America/New_York:20160930T120000
DTEND;TZID=America/New_York:20160930T190000
DTSTAMP:20260425T061924
CREATED:20160831T012032Z
LAST-MODIFIED:20160831T012032Z
UID:10033825-1475236800-1475262000@thamesyc.org
SUMMARY:TYC Launch Schedule
DESCRIPTION:The TYC Launch is hailed on Channel 71.
URL:https://thamesyc.org/event/tyc-launch-schedule-60/2016-09-30/
LOCATION:Thames Yacht Club\, 396 Pequot Avenue\, New London\, CT\, 06320\, United States
CATEGORIES:TYC Launch Schedule
GEO:41.3308391;-72.0946565
X-APPLE-STRUCTURED-LOCATION;VALUE=URI;X-ADDRESS=Thames Yacht Club 396 Pequot Avenue New London CT 06320 United States;X-APPLE-RADIUS=500;X-TITLE=396 Pequot Avenue:geo:-72.0946565,41.3308391
END:VEVENT
BEGIN:VEVENT
DTSTART;TZID=America/New_York:20161001T100000
DTEND;TZID=America/New_York:20161001T180000
DTSTAMP:20260425T061924
CREATED:20161001T020435Z
LAST-MODIFIED:20161001T020435Z
UID:10033826-1475316000-1475344800@thamesyc.org
SUMMARY:TYC Launch Schedule
DESCRIPTION:The TYC Launch is available on Channel 71
URL:https://thamesyc.org/event/tyc-launch-schedule-61/2016-10-01/
LOCATION:Thames Yacht Club\, 396 Pequot Avenue\, New London\, CT\, 06320\, United States
CATEGORIES:TYC Launch Schedule
GEO:41.3308391;-72.0946565
X-APPLE-STRUCTURED-LOCATION;VALUE=URI;X-ADDRESS=Thames Yacht Club 396 Pequot Avenue New London CT 06320 United States;X-APPLE-RADIUS=500;X-TITLE=396 Pequot Avenue:geo:-72.0946565,41.3308391
END:VEVENT
BEGIN:VEVENT
DTSTART;TZID=America/New_York:20161002T100000
DTEND;TZID=America/New_York:20161002T170000
DTSTAMP:20260425T061924
CREATED:20161001T020634Z
LAST-MODIFIED:20161001T020634Z
UID:10033831-1475402400-1475427600@thamesyc.org
SUMMARY:TYC Launch Schedule
DESCRIPTION:The TYC Launch is can be reached on Channel 71
URL:https://thamesyc.org/event/tyc-launch-schedule-62/2016-10-02/
LOCATION:Thames Yacht Club\, 396 Pequot Avenue\, New London\, CT\, 06320\, United States
CATEGORIES:TYC Launch Schedule
GEO:41.3308391;-72.0946565
X-APPLE-STRUCTURED-LOCATION;VALUE=URI;X-ADDRESS=Thames Yacht Club 396 Pequot Avenue New London CT 06320 United States;X-APPLE-RADIUS=500;X-TITLE=396 Pequot Avenue:geo:-72.0946565,41.3308391
END:VEVENT
BEGIN:VEVENT
DTSTART;TZID=America/New_York:20161002T130000
DTEND;TZID=America/New_York:20161002T170000
DTSTAMP:20260425T061924
CREATED:20160311T012608Z
LAST-MODIFIED:20160316T224956Z
UID:10033730-1475413200-1475427600@thamesyc.org
SUMMARY:Chowder Series
DESCRIPTION:
URL:https://thamesyc.org/event/chowder-series-2/2016-10-02/
CATEGORIES:Racing
END:VEVENT
BEGIN:VEVENT
DTSTART;TZID=America/New_York:20161007T000000
DTEND;TZID=America/New_York:20161007T170000
DTSTAMP:20260425T061924
CREATED:20161001T020809Z
LAST-MODIFIED:20161001T020809Z
UID:10033838-1475798400-1475859600@thamesyc.org
SUMMARY:TYC Launch Schedule
DESCRIPTION:The TYC Launch is available on Channel 71.
URL:https://thamesyc.org/event/tyc-launch-schedule-63/2016-10-07/
LOCATION:Thames Yacht Club\, 396 Pequot Avenue\, New London\, CT\, 06320\, United States
CATEGORIES:TYC Launch Schedule
GEO:41.3308391;-72.0946565
X-APPLE-STRUCTURED-LOCATION;VALUE=URI;X-ADDRESS=Thames Yacht Club 396 Pequot Avenue New London CT 06320 United States;X-APPLE-RADIUS=500;X-TITLE=396 Pequot Avenue:geo:-72.0946565,41.3308391
END:VEVENT
BEGIN:VEVENT
DTSTART;VALUE=DATE:20161008
DTEND;VALUE=DATE:20161011
DTSTAMP:20260425T061924
CREATED:20160221T202521Z
LAST-MODIFIED:20160221T202521Z
UID:10033697-1475884800-1476143999@thamesyc.org
SUMMARY:CT River Cruise
DESCRIPTION:
URL:https://thamesyc.org/event/ct-river-cruise/
CATEGORIES:Cruise Event
END:VEVENT
BEGIN:VEVENT
DTSTART;TZID=America/New_York:20161008T100000
DTEND;TZID=America/New_York:20161008T180000
DTSTAMP:20260425T061924
CREATED:20161001T020435Z
LAST-MODIFIED:20161001T020435Z
UID:10033827-1475920800-1475949600@thamesyc.org
SUMMARY:TYC Launch Schedule
DESCRIPTION:The TYC Launch is available on Channel 71
URL:https://thamesyc.org/event/tyc-launch-schedule-61/2016-10-08/
LOCATION:Thames Yacht Club\, 396 Pequot Avenue\, New London\, CT\, 06320\, United States
CATEGORIES:TYC Launch Schedule
GEO:41.3308391;-72.0946565
X-APPLE-STRUCTURED-LOCATION;VALUE=URI;X-ADDRESS=Thames Yacht Club 396 Pequot Avenue New London CT 06320 United States;X-APPLE-RADIUS=500;X-TITLE=396 Pequot Avenue:geo:-72.0946565,41.3308391
END:VEVENT
BEGIN:VEVENT
DTSTART;TZID=America/New_York:20161009T100000
DTEND;TZID=America/New_York:20161009T170000
DTSTAMP:20260425T061924
CREATED:20161001T020634Z
LAST-MODIFIED:20161001T020634Z
UID:10033832-1476007200-1476032400@thamesyc.org
SUMMARY:TYC Launch Schedule
DESCRIPTION:The TYC Launch is can be reached on Channel 71
URL:https://thamesyc.org/event/tyc-launch-schedule-62/2016-10-09/
LOCATION:Thames Yacht Club\, 396 Pequot Avenue\, New London\, CT\, 06320\, United States
CATEGORIES:TYC Launch Schedule
GEO:41.3308391;-72.0946565
X-APPLE-STRUCTURED-LOCATION;VALUE=URI;X-ADDRESS=Thames Yacht Club 396 Pequot Avenue New London CT 06320 United States;X-APPLE-RADIUS=500;X-TITLE=396 Pequot Avenue:geo:-72.0946565,41.3308391
END:VEVENT
BEGIN:VEVENT
DTSTART;TZID=America/New_York:20161009T130000
DTEND;TZID=America/New_York:20161009T170000
DTSTAMP:20260425T061924
CREATED:20160311T012608Z
LAST-MODIFIED:20160316T224956Z
UID:10033731-1476018000-1476032400@thamesyc.org
SUMMARY:Chowder Series
DESCRIPTION:
URL:https://thamesyc.org/event/chowder-series-2/2016-10-09/
CATEGORIES:Racing
END:VEVENT
BEGIN:VEVENT
DTSTART;TZID=America/New_York:20161010T120000
DTEND;TZID=America/New_York:20161010T180000
DTSTAMP:20260425T061924
CREATED:20161001T021013Z
LAST-MODIFIED:20161001T021013Z
UID:10033843-1476100800-1476122400@thamesyc.org
SUMMARY:TYC Launch Schedule
DESCRIPTION:The TYC Launch is available on Channel 71.
URL:https://thamesyc.org/event/tyc-launch-schedule-64/
LOCATION:Thames Yacht Club\, 396 Pequot Avenue\, New London\, CT\, 06320\, United States
CATEGORIES:TYC Launch Schedule
GEO:41.3308391;-72.0946565
X-APPLE-STRUCTURED-LOCATION;VALUE=URI;X-ADDRESS=Thames Yacht Club 396 Pequot Avenue New London CT 06320 United States;X-APPLE-RADIUS=500;X-TITLE=396 Pequot Avenue:geo:-72.0946565,41.3308391
END:VEVENT
BEGIN:VEVENT
DTSTART;TZID=America/New_York:20161014T000000
DTEND;TZID=America/New_York:20161014T170000
DTSTAMP:20260425T061924
CREATED:20161001T020809Z
LAST-MODIFIED:20161001T020809Z
UID:10033839-1476403200-1476464400@thamesyc.org
SUMMARY:TYC Launch Schedule
DESCRIPTION:The TYC Launch is available on Channel 71.
URL:https://thamesyc.org/event/tyc-launch-schedule-63/2016-10-14/
LOCATION:Thames Yacht Club\, 396 Pequot Avenue\, New London\, CT\, 06320\, United States
CATEGORIES:TYC Launch Schedule
GEO:41.3308391;-72.0946565
X-APPLE-STRUCTURED-LOCATION;VALUE=URI;X-ADDRESS=Thames Yacht Club 396 Pequot Avenue New London CT 06320 United States;X-APPLE-RADIUS=500;X-TITLE=396 Pequot Avenue:geo:-72.0946565,41.3308391
END:VEVENT
BEGIN:VEVENT
DTSTART;TZID=America/New_York:20161015T100000
DTEND;TZID=America/New_York:20161015T180000
DTSTAMP:20260425T061924
CREATED:20161001T020435Z
LAST-MODIFIED:20161001T020435Z
UID:10033828-1476525600-1476554400@thamesyc.org
SUMMARY:TYC Launch Schedule
DESCRIPTION:The TYC Launch is available on Channel 71
URL:https://thamesyc.org/event/tyc-launch-schedule-61/2016-10-15/
LOCATION:Thames Yacht Club\, 396 Pequot Avenue\, New London\, CT\, 06320\, United States
CATEGORIES:TYC Launch Schedule
GEO:41.3308391;-72.0946565
X-APPLE-STRUCTURED-LOCATION;VALUE=URI;X-ADDRESS=Thames Yacht Club 396 Pequot Avenue New London CT 06320 United States;X-APPLE-RADIUS=500;X-TITLE=396 Pequot Avenue:geo:-72.0946565,41.3308391
END:VEVENT
BEGIN:VEVENT
DTSTART;TZID=America/New_York:20161015T190000
DTEND;TZID=America/New_York:20161015T220000
DTSTAMP:20260425T061924
CREATED:20161005T223604Z
LAST-MODIFIED:20161005T223604Z
UID:10033846-1476558000-1476568800@thamesyc.org
SUMMARY:Movies Above the Beach - Showing: YOUNG FRANKINSTEIN
DESCRIPTION:Bring a friend and we will provide the movie and popcorn.  \nAll movies are open to all TYC members and their guest. There is no charge for the movies or popcorn.  Bring your own drinks and snacks.
URL:https://thamesyc.org/event/movies-above-the-beach-showing-young-frankinstein/
END:VEVENT
BEGIN:VEVENT
DTSTART;TZID=America/New_York:20161016T100000
DTEND;TZID=America/New_York:20161016T170000
DTSTAMP:20260425T061924
CREATED:20161001T020634Z
LAST-MODIFIED:20161001T020634Z
UID:10033833-1476612000-1476637200@thamesyc.org
SUMMARY:TYC Launch Schedule
DESCRIPTION:The TYC Launch is can be reached on Channel 71
URL:https://thamesyc.org/event/tyc-launch-schedule-62/2016-10-16/
LOCATION:Thames Yacht Club\, 396 Pequot Avenue\, New London\, CT\, 06320\, United States
CATEGORIES:TYC Launch Schedule
GEO:41.3308391;-72.0946565
X-APPLE-STRUCTURED-LOCATION;VALUE=URI;X-ADDRESS=Thames Yacht Club 396 Pequot Avenue New London CT 06320 United States;X-APPLE-RADIUS=500;X-TITLE=396 Pequot Avenue:geo:-72.0946565,41.3308391
END:VEVENT
BEGIN:VEVENT
DTSTART;TZID=America/New_York:20161016T130000
DTEND;TZID=America/New_York:20161016T170000
DTSTAMP:20260425T061924
CREATED:20160311T012608Z
LAST-MODIFIED:20160316T224956Z
UID:10033732-1476622800-1476637200@thamesyc.org
SUMMARY:Chowder Series
DESCRIPTION:
URL:https://thamesyc.org/event/chowder-series-2/2016-10-16/
CATEGORIES:Racing
END:VEVENT
BEGIN:VEVENT
DTSTART;TZID=America/New_York:20161021T000000
DTEND;TZID=America/New_York:20161021T170000
DTSTAMP:20260425T061924
CREATED:20161001T020809Z
LAST-MODIFIED:20161001T020809Z
UID:10033840-1477008000-1477069200@thamesyc.org
SUMMARY:TYC Launch Schedule
DESCRIPTION:The TYC Launch is available on Channel 71.
URL:https://thamesyc.org/event/tyc-launch-schedule-63/2016-10-21/
LOCATION:Thames Yacht Club\, 396 Pequot Avenue\, New London\, CT\, 06320\, United States
CATEGORIES:TYC Launch Schedule
GEO:41.3308391;-72.0946565
X-APPLE-STRUCTURED-LOCATION;VALUE=URI;X-ADDRESS=Thames Yacht Club 396 Pequot Avenue New London CT 06320 United States;X-APPLE-RADIUS=500;X-TITLE=396 Pequot Avenue:geo:-72.0946565,41.3308391
END:VEVENT
BEGIN:VEVENT
DTSTART;TZID=America/New_York:20161022T100000
DTEND;TZID=America/New_York:20161022T180000
DTSTAMP:20260425T061924
CREATED:20161001T020435Z
LAST-MODIFIED:20161001T020435Z
UID:10033829-1477130400-1477159200@thamesyc.org
SUMMARY:TYC Launch Schedule
DESCRIPTION:The TYC Launch is available on Channel 71
URL:https://thamesyc.org/event/tyc-launch-schedule-61/2016-10-22/
LOCATION:Thames Yacht Club\, 396 Pequot Avenue\, New London\, CT\, 06320\, United States
CATEGORIES:TYC Launch Schedule
GEO:41.3308391;-72.0946565
X-APPLE-STRUCTURED-LOCATION;VALUE=URI;X-ADDRESS=Thames Yacht Club 396 Pequot Avenue New London CT 06320 United States;X-APPLE-RADIUS=500;X-TITLE=396 Pequot Avenue:geo:-72.0946565,41.3308391
END:VEVENT
BEGIN:VEVENT
DTSTART;TZID=America/New_York:20161023T100000
DTEND;TZID=America/New_York:20161023T170000
DTSTAMP:20260425T061924
CREATED:20161001T020634Z
LAST-MODIFIED:20161001T020634Z
UID:10033834-1477216800-1477242000@thamesyc.org
SUMMARY:TYC Launch Schedule
DESCRIPTION:The TYC Launch is can be reached on Channel 71
URL:https://thamesyc.org/event/tyc-launch-schedule-62/2016-10-23/
LOCATION:Thames Yacht Club\, 396 Pequot Avenue\, New London\, CT\, 06320\, United States
CATEGORIES:TYC Launch Schedule
GEO:41.3308391;-72.0946565
X-APPLE-STRUCTURED-LOCATION;VALUE=URI;X-ADDRESS=Thames Yacht Club 396 Pequot Avenue New London CT 06320 United States;X-APPLE-RADIUS=500;X-TITLE=396 Pequot Avenue:geo:-72.0946565,41.3308391
END:VEVENT
BEGIN:VEVENT
DTSTART;TZID=America/New_York:20161023T130000
DTEND;TZID=America/New_York:20161023T170000
DTSTAMP:20260425T061924
CREATED:20160311T012608Z
LAST-MODIFIED:20160316T224956Z
UID:10033733-1477227600-1477242000@thamesyc.org
SUMMARY:Chowder Series
DESCRIPTION:
URL:https://thamesyc.org/event/chowder-series-2/2016-10-23/
CATEGORIES:Racing
END:VEVENT
BEGIN:VEVENT
DTSTART;TZID=America/New_York:20161025T080000
DTEND;TZID=America/New_York:20161025T170000
DTSTAMP:20260425T061924
CREATED:20161025T231545Z
LAST-MODIFIED:20161025T231545Z
UID:10033919-1477382400-1477414800@thamesyc.org
SUMMARY:Buy TYC Merchandise for your Favorite Sailor this Holiday Season
DESCRIPTION:Place your orders for new TYC shirts and hats. Orders will be taken through October 29th and will be in before the holidays. Long sleeve shirts and new colors have been added.  Check out the products below. To place an order\, call Eileen Cicchese 860 625 1024 or email victor_j_cicchese@sbcglobal.net
URL:https://thamesyc.org/event/buy-tyc-merchandise-for-your-favorite-sailor-this-holiday-season/
END:VEVENT
BEGIN:VEVENT
DTSTART;TZID=America/New_York:20161028T000000
DTEND;TZID=America/New_York:20161028T170000
DTSTAMP:20260425T061924
CREATED:20161001T020809Z
LAST-MODIFIED:20161001T020809Z
UID:10033841-1477612800-1477674000@thamesyc.org
SUMMARY:TYC Launch Schedule
DESCRIPTION:The TYC Launch is available on Channel 71.
URL:https://thamesyc.org/event/tyc-launch-schedule-63/2016-10-28/
LOCATION:Thames Yacht Club\, 396 Pequot Avenue\, New London\, CT\, 06320\, United States
CATEGORIES:TYC Launch Schedule
GEO:41.3308391;-72.0946565
X-APPLE-STRUCTURED-LOCATION;VALUE=URI;X-ADDRESS=Thames Yacht Club 396 Pequot Avenue New London CT 06320 United States;X-APPLE-RADIUS=500;X-TITLE=396 Pequot Avenue:geo:-72.0946565,41.3308391
END:VEVENT
BEGIN:VEVENT
DTSTART;TZID=America/New_York:20161029T100000
DTEND;TZID=America/New_York:20161029T180000
DTSTAMP:20260425T061924
CREATED:20161001T020435Z
LAST-MODIFIED:20161001T020435Z
UID:10033830-1477735200-1477764000@thamesyc.org
SUMMARY:TYC Launch Schedule
DESCRIPTION:The TYC Launch is available on Channel 71
URL:https://thamesyc.org/event/tyc-launch-schedule-61/2016-10-29/
LOCATION:Thames Yacht Club\, 396 Pequot Avenue\, New London\, CT\, 06320\, United States
CATEGORIES:TYC Launch Schedule
GEO:41.3308391;-72.0946565
X-APPLE-STRUCTURED-LOCATION;VALUE=URI;X-ADDRESS=Thames Yacht Club 396 Pequot Avenue New London CT 06320 United States;X-APPLE-RADIUS=500;X-TITLE=396 Pequot Avenue:geo:-72.0946565,41.3308391
END:VEVENT
BEGIN:VEVENT
DTSTART;TZID=America/New_York:20161029T190000
DTEND;TZID=America/New_York:20161029T220000
DTSTAMP:20260425T061924
CREATED:20161021T000123Z
LAST-MODIFIED:20161021T000123Z
UID:10033849-1477767600-1477778400@thamesyc.org
SUMMARY:Movies Above the Beach - Sleepy Hollow
DESCRIPTION:  \n\n 
URL:https://thamesyc.org/event/movies-above-the-beach-sleepy-hollow/
CATEGORIES:Club Wide Event
END:VEVENT
BEGIN:VEVENT
DTSTART;TZID=America/New_York:20161030T100000
DTEND;TZID=America/New_York:20161030T170000
DTSTAMP:20260425T061924
CREATED:20161001T020634Z
LAST-MODIFIED:20161001T020634Z
UID:10033835-1477821600-1477846800@thamesyc.org
SUMMARY:TYC Launch Schedule
DESCRIPTION:The TYC Launch is can be reached on Channel 71
URL:https://thamesyc.org/event/tyc-launch-schedule-62/2016-10-30/
LOCATION:Thames Yacht Club\, 396 Pequot Avenue\, New London\, CT\, 06320\, United States
CATEGORIES:TYC Launch Schedule
GEO:41.3308391;-72.0946565
X-APPLE-STRUCTURED-LOCATION;VALUE=URI;X-ADDRESS=Thames Yacht Club 396 Pequot Avenue New London CT 06320 United States;X-APPLE-RADIUS=500;X-TITLE=396 Pequot Avenue:geo:-72.0946565,41.3308391
END:VEVENT
BEGIN:VEVENT
DTSTART;TZID=America/New_York:20161030T130000
DTEND;TZID=America/New_York:20161030T170000
DTSTAMP:20260425T061924
CREATED:20160311T012608Z
LAST-MODIFIED:20160316T224956Z
UID:10033734-1477832400-1477846800@thamesyc.org
SUMMARY:Chowder Series
DESCRIPTION:
URL:https://thamesyc.org/event/chowder-series-2/2016-10-30/
CATEGORIES:Racing
END:VEVENT
BEGIN:VEVENT
DTSTART;TZID=America/New_York:20161105T180000
DTEND;TZID=America/New_York:20161105T210000
DTSTAMP:20260425T061924
CREATED:20161025T231103Z
LAST-MODIFIED:20161025T231103Z
UID:10033856-1478368800-1478379600@thamesyc.org
SUMMARY:General Membership Meeting
DESCRIPTION:Pot Luck Dinner at 6:00 PM \nfollowed by  \nGeneral Membership Meeting at 7:00 PM \nAgenda: 2017 Dues/Charges Proposal \n                Proposed By-Law Change. \n                 Election of Officers.
URL:https://thamesyc.org/event/general-membership-meeting-7/
CATEGORIES:Club Wide Event
END:VEVENT
BEGIN:VEVENT
DTSTART;TZID=America/New_York:20161112T160000
DTEND;TZID=America/New_York:20161112T173000
DTSTAMP:20260425T061924
CREATED:20161024T234934Z
LAST-MODIFIED:20161024T234934Z
UID:10033850-1478966400-1478971800@thamesyc.org
SUMMARY:Membership Planning Meeting
DESCRIPTION:Open to ALL members.  Bring your ideas to discuss and plan a strategy for a Fall and Winter Membership Drive.
URL:https://thamesyc.org/event/membership-planning-meeting/
CATEGORIES:Club Wide Event
END:VEVENT
BEGIN:VEVENT
DTSTART;TZID=America/New_York:20161112T180000
DTEND;TZID=America/New_York:20161112T230000
DTSTAMP:20260425T061924
CREATED:20161027T234633Z
LAST-MODIFIED:20161027T234801Z
UID:10033923-1478973600-1478991600@thamesyc.org
SUMMARY:Skippers Night
DESCRIPTION:Skippers Night -6pm \nDinner – 6:45 \nAwards ceremony following dinner
URL:https://thamesyc.org/event/skippers-night-2/
CATEGORIES:Club Wide Event,Party,Racing
END:VEVENT
BEGIN:VEVENT
DTSTART;TZID=America/New_York:20161210T190000
DTEND;TZID=America/New_York:20161210T230000
DTSTAMP:20260425T061924
CREATED:20161114T003654Z
LAST-MODIFIED:20161114T003654Z
UID:10033925-1481396400-1481410800@thamesyc.org
SUMMARY:TYC Christmas Party
DESCRIPTION:
URL:https://thamesyc.org/event/tyc-christmas-party/
CATEGORIES:Club Wide Event,Party
END:VEVENT
BEGIN:VEVENT
DTSTART;TZID=America/New_York:20170124T183000
DTEND;TZID=America/New_York:20170124T213000
DTSTAMP:20260425T061924
CREATED:20161227T234430Z
LAST-MODIFIED:20161227T234430Z
UID:10033934-1485282600-1485293400@thamesyc.org
SUMMARY:Executive Committee Meeting
DESCRIPTION:
URL:https://thamesyc.org/event/executive-committee-meeting-2/
END:VEVENT
END:VCALENDAR