BEGIN:VCALENDAR
VERSION:2.0
PRODID:-//Thames Yacht Club - ECPv6.15.20//NONSGML v1.0//EN
CALSCALE:GREGORIAN
METHOD:PUBLISH
X-ORIGINAL-URL:https://thamesyc.org
X-WR-CALDESC:Events for Thames Yacht Club
REFRESH-INTERVAL;VALUE=DURATION:PT1H
X-Robots-Tag:noindex
X-PUBLISHED-TTL:PT1H
BEGIN:VTIMEZONE
TZID:America/New_York
BEGIN:DAYLIGHT
TZOFFSETFROM:-0500
TZOFFSETTO:-0400
TZNAME:EDT
DTSTART:20240310T070000
END:DAYLIGHT
BEGIN:STANDARD
TZOFFSETFROM:-0400
TZOFFSETTO:-0500
TZNAME:EST
DTSTART:20241103T060000
END:STANDARD
BEGIN:DAYLIGHT
TZOFFSETFROM:-0500
TZOFFSETTO:-0400
TZNAME:EDT
DTSTART:20250309T070000
END:DAYLIGHT
BEGIN:STANDARD
TZOFFSETFROM:-0400
TZOFFSETTO:-0500
TZNAME:EST
DTSTART:20251102T060000
END:STANDARD
BEGIN:DAYLIGHT
TZOFFSETFROM:-0500
TZOFFSETTO:-0400
TZNAME:EDT
DTSTART:20260308T070000
END:DAYLIGHT
BEGIN:STANDARD
TZOFFSETFROM:-0400
TZOFFSETTO:-0500
TZNAME:EST
DTSTART:20261101T060000
END:STANDARD
END:VTIMEZONE
BEGIN:VEVENT
DTSTART;TZID=America/New_York:20250620T100000
DTEND;TZID=America/New_York:20250620T200000
DTSTAMP:20260425T093253
CREATED:20250526T003035Z
LAST-MODIFIED:20250526T003423Z
UID:10039346-1750413600-1750449600@thamesyc.org
SUMMARY:Launch Schedule
DESCRIPTION:
URL:https://thamesyc.org/event/launch-schedule-18/
CATEGORIES:TYC Launch Schedule
END:VEVENT
BEGIN:VEVENT
DTSTART;VALUE=DATE:20250621
DTEND;VALUE=DATE:20250623
DTSTAMP:20260425T093253
CREATED:20250624T234044Z
LAST-MODIFIED:20250624T234044Z
UID:10039392-1750464000-1750636799@thamesyc.org
SUMMARY:BI Mooring - Adeline
DESCRIPTION:
URL:https://thamesyc.org/event/bi-mooring-adeline-2/
CATEGORIES:Block Island Mooring Reservation.
END:VEVENT
BEGIN:VEVENT
DTSTART;VALUE=DATE:20250621
DTEND;VALUE=DATE:20250628
DTSTAMP:20260425T093253
CREATED:20250620T204642Z
LAST-MODIFIED:20250615T224345Z
UID:10039267-1750464000-1751068799@thamesyc.org
SUMMARY:SUMMER SOLSTICE CRUISE
DESCRIPTION:
URL:https://thamesyc.org/event/summer-solstice-cruise-3/
CATEGORIES:Cruise Event
END:VEVENT
BEGIN:VEVENT
DTSTART;TZID=America/New_York:20250621T090000
DTEND;TZID=America/New_York:20250621T150000
DTSTAMP:20260425T093253
CREATED:20250127T211936Z
LAST-MODIFIED:20250127T211936Z
UID:10039263-1750496400-1750518000@thamesyc.org
SUMMARY:ADULT SAILING - EARLY SUMMER
DESCRIPTION:
URL:https://thamesyc.org/event/adult-sailing-early-summer/
CATEGORIES:Training
END:VEVENT
BEGIN:VEVENT
DTSTART;TZID=America/New_York:20250621T100000
DTEND;TZID=America/New_York:20250621T200000
DTSTAMP:20260425T093253
CREATED:20250526T003035Z
LAST-MODIFIED:20250526T003423Z
UID:10039347-1750500000-1750536000@thamesyc.org
SUMMARY:Launch Schedule
DESCRIPTION:
URL:https://thamesyc.org/event/launch-schedule-18/
CATEGORIES:TYC Launch Schedule
END:VEVENT
BEGIN:VEVENT
DTSTART;TZID=America/New_York:20250622T090000
DTEND;TZID=America/New_York:20250622T150000
DTSTAMP:20260425T093253
CREATED:20250127T212048Z
LAST-MODIFIED:20250127T212048Z
UID:10039264-1750582800-1750604400@thamesyc.org
SUMMARY:ADULT SAILING - EARLY SUMMER
DESCRIPTION:
URL:https://thamesyc.org/event/adult-sailing-early-summer-2/
CATEGORIES:Training
END:VEVENT
BEGIN:VEVENT
DTSTART;TZID=America/New_York:20250622T090000
DTEND;TZID=America/New_York:20250622T210000
DTSTAMP:20260425T093253
CREATED:20250527T133034Z
LAST-MODIFIED:20250527T134227Z
UID:10039367-1750582800-1750626000@thamesyc.org
SUMMARY:Launch Schedule
DESCRIPTION:
URL:https://thamesyc.org/event/launch-schedule-20/2025-06-22/
CATEGORIES:TYC Launch Schedule
END:VEVENT
BEGIN:VEVENT
DTSTART;TZID=America/New_York:20250622T100000
DTEND;TZID=America/New_York:20250622T170000
DTSTAMP:20260425T093253
CREATED:20250526T233943Z
LAST-MODIFIED:20250526T234043Z
UID:10039360-1750586400-1750611600@thamesyc.org
SUMMARY:Club Rental - 2nd Floor - Gregg Wagman
DESCRIPTION:Graduation Party – 25 Attendees
URL:https://thamesyc.org/event/club-rental-2nd-floor-gregg-wagman/
CATEGORIES:Facility Rental
END:VEVENT
BEGIN:VEVENT
DTSTART;VALUE=DATE:20250623
DTEND;VALUE=DATE:20250628
DTSTAMP:20260425T093253
CREATED:20250127T202335Z
LAST-MODIFIED:20250127T202804Z
UID:10039243-1750636800-1751068799@thamesyc.org
SUMMARY:YOUTH SAILING
DESCRIPTION:
URL:https://thamesyc.org/event/deadline-removal-of-summer-marks/
CATEGORIES:Training
END:VEVENT
BEGIN:VEVENT
DTSTART;TZID=America/New_York:20250623T090000
DTEND;TZID=America/New_York:20250623T210000
DTSTAMP:20260425T093253
CREATED:20250527T133034Z
LAST-MODIFIED:20250527T134227Z
UID:10039368-1750669200-1750712400@thamesyc.org
SUMMARY:Launch Schedule
DESCRIPTION:
URL:https://thamesyc.org/event/launch-schedule-20/2025-06-23/
CATEGORIES:TYC Launch Schedule
END:VEVENT
BEGIN:VEVENT
DTSTART;TZID=America/New_York:20250623T173000
DTEND;TZID=America/New_York:20250623T200000
DTSTAMP:20260425T093253
CREATED:20250127T205655Z
LAST-MODIFIED:20250127T211246Z
UID:10039256-1750699800-1750708800@thamesyc.org
SUMMARY:ADULT SAILING - SPRING
DESCRIPTION:
URL:https://thamesyc.org/event/adult-sailing-5/
CATEGORIES:Training
END:VEVENT
BEGIN:VEVENT
DTSTART;TZID=America/New_York:20250624T080000
DTEND;TZID=America/New_York:20250626T170000
DTSTAMP:20260425T093253
CREATED:20250302T201545Z
LAST-MODIFIED:20250302T201545Z
UID:10039313-1750752000-1750957200@thamesyc.org
SUMMARY:Blue Note - Couture
DESCRIPTION:
URL:https://thamesyc.org/event/blue-note-couture/
CATEGORIES:Block Island Mooring Reservation.
END:VEVENT
BEGIN:VEVENT
DTSTART;TZID=America/New_York:20250624T080000
DTEND;TZID=America/New_York:20250626T170000
DTSTAMP:20260425T093253
CREATED:20250302T201712Z
LAST-MODIFIED:20250302T201712Z
UID:10039314-1750752000-1750957200@thamesyc.org
SUMMARY:Makani Nui - Weekley
DESCRIPTION:
URL:https://thamesyc.org/event/makani-nui-weekley/
CATEGORIES:Block Island Mooring Reservation.
END:VEVENT
BEGIN:VEVENT
DTSTART;TZID=America/New_York:20250624T090000
DTEND;TZID=America/New_York:20250624T210000
DTSTAMP:20260425T093253
CREATED:20250527T133034Z
LAST-MODIFIED:20250527T134227Z
UID:10039369-1750755600-1750798800@thamesyc.org
SUMMARY:Launch Schedule
DESCRIPTION:
URL:https://thamesyc.org/event/launch-schedule-20/2025-06-24/
CATEGORIES:TYC Launch Schedule
END:VEVENT
BEGIN:VEVENT
DTSTART;TZID=America/New_York:20250624T173000
DTEND;TZID=America/New_York:20250624T200000
DTSTAMP:20260425T093253
CREATED:20250127T205909Z
LAST-MODIFIED:20250127T211140Z
UID:10039257-1750786200-1750795200@thamesyc.org
SUMMARY:ADULT SAILING - SPRING - if needed
DESCRIPTION:
URL:https://thamesyc.org/event/adult-sailing-if-needed/
CATEGORIES:Training
END:VEVENT
BEGIN:VEVENT
DTSTART;VALUE=DATE:20250625
DTEND;VALUE=DATE:20250626
DTSTAMP:20260425T093253
CREATED:20250127T220927Z
LAST-MODIFIED:20250127T220927Z
UID:10039275-1750809600-1750895999@thamesyc.org
SUMMARY:WEDNESDAY NIGHT KEEL BOAT RACING SPRING SERIES
DESCRIPTION:
URL:https://thamesyc.org/event/wednesday-night-keel-boat-racing-spring-series-4/
CATEGORIES:Racing
END:VEVENT
BEGIN:VEVENT
DTSTART;TZID=America/New_York:20250625T090000
DTEND;TZID=America/New_York:20250625T213000
DTSTAMP:20260425T093253
CREATED:20250527T133306Z
LAST-MODIFIED:20250527T134111Z
UID:10039375-1750842000-1750887000@thamesyc.org
SUMMARY:Launch Schedule
DESCRIPTION:
URL:https://thamesyc.org/event/launch-schedule-21/
CATEGORIES:TYC Launch Schedule
END:VEVENT
BEGIN:VEVENT
DTSTART;VALUE=DATE:20250626
DTEND;VALUE=DATE:20250627
DTSTAMP:20260425T093253
CREATED:20250127T231337Z
LAST-MODIFIED:20250127T231337Z
UID:10039300-1750896000-1750982399@thamesyc.org
SUMMARY:THURSDAY NIGHT SPRING FORCE 5 RACE SERIES
DESCRIPTION:
URL:https://thamesyc.org/event/thursday-night-spring-force-5-race-series/
CATEGORIES:Racing
END:VEVENT
BEGIN:VEVENT
DTSTART;TZID=America/New_York:20250626T090000
DTEND;TZID=America/New_York:20250626T210000
DTSTAMP:20260425T093253
CREATED:20250527T133034Z
LAST-MODIFIED:20250527T134227Z
UID:10039370-1750928400-1750971600@thamesyc.org
SUMMARY:Launch Schedule
DESCRIPTION:
URL:https://thamesyc.org/event/launch-schedule-20/2025-06-26/
CATEGORIES:TYC Launch Schedule
END:VEVENT
BEGIN:VEVENT
DTSTART;TZID=America/New_York:20250627T090000
DTEND;TZID=America/New_York:20250627T210000
DTSTAMP:20260425T093253
CREATED:20250527T133034Z
LAST-MODIFIED:20250527T134227Z
UID:10039371-1751014800-1751058000@thamesyc.org
SUMMARY:Launch Schedule
DESCRIPTION:
URL:https://thamesyc.org/event/launch-schedule-20/2025-06-27/
CATEGORIES:TYC Launch Schedule
END:VEVENT
BEGIN:VEVENT
DTSTART;VALUE=DATE:20250628
DTEND;VALUE=DATE:20250629
DTSTAMP:20260425T093253
CREATED:20250127T222741Z
LAST-MODIFIED:20250127T225955Z
UID:10039286-1751068800-1751155199@thamesyc.org
SUMMARY:ECSA: CAL BROUWER MEMORIAL SHORTHANDED CHALLENGE
DESCRIPTION:
URL:https://thamesyc.org/event/cal-brouwer-memorial-shorthanded-challenge/
CATEGORIES:Club Wide Event,Party,Racing
END:VEVENT
BEGIN:VEVENT
DTSTART;VALUE=DATE:20250628
DTEND;VALUE=DATE:20250707
DTSTAMP:20260425T093253
CREATED:20250624T233615Z
LAST-MODIFIED:20250624T233615Z
UID:10039390-1751068800-1751846399@thamesyc.org
SUMMARY:BI Mooring - Max Satti
DESCRIPTION:
URL:https://thamesyc.org/event/bi-mooring-max-satti/
CATEGORIES:Block Island Mooring Reservation.
END:VEVENT
BEGIN:VEVENT
DTSTART;TZID=America/New_York:20250628T090000
DTEND;TZID=America/New_York:20250628T210000
DTSTAMP:20260425T093253
CREATED:20250527T133034Z
LAST-MODIFIED:20250527T134227Z
UID:10039372-1751101200-1751144400@thamesyc.org
SUMMARY:Launch Schedule
DESCRIPTION:
URL:https://thamesyc.org/event/launch-schedule-20/2025-06-28/
CATEGORIES:TYC Launch Schedule
END:VEVENT
BEGIN:VEVENT
DTSTART;TZID=America/New_York:20250629T090000
DTEND;TZID=America/New_York:20250629T210000
DTSTAMP:20260425T093253
CREATED:20250527T133034Z
LAST-MODIFIED:20250527T134227Z
UID:10039373-1751187600-1751230800@thamesyc.org
SUMMARY:Launch Schedule
DESCRIPTION:
URL:https://thamesyc.org/event/launch-schedule-20/2025-06-29/
CATEGORIES:TYC Launch Schedule
END:VEVENT
BEGIN:VEVENT
DTSTART;TZID=America/New_York:20250629T110000
DTEND;TZID=America/New_York:20250629T140000
DTSTAMP:20260425T093253
CREATED:20250527T002554Z
LAST-MODIFIED:20250527T002610Z
UID:10039365-1751194800-1751205600@thamesyc.org
SUMMARY:Galley Sunday Brunch
DESCRIPTION:
URL:https://thamesyc.org/event/galley-sunday-brunch-2/
CATEGORIES:Galley
END:VEVENT
BEGIN:VEVENT
DTSTART;TZID=America/New_York:20250630T090000
DTEND;TZID=America/New_York:20250630T210000
DTSTAMP:20260425T093253
CREATED:20250527T133034Z
LAST-MODIFIED:20250527T134227Z
UID:10039374-1751274000-1751317200@thamesyc.org
SUMMARY:Launch Schedule
DESCRIPTION:
URL:https://thamesyc.org/event/launch-schedule-20/2025-06-30/
CATEGORIES:TYC Launch Schedule
END:VEVENT
BEGIN:VEVENT
DTSTART;VALUE=DATE:20250702
DTEND;VALUE=DATE:20250703
DTSTAMP:20260425T093253
CREATED:20250127T221001Z
LAST-MODIFIED:20250127T221001Z
UID:10039276-1751414400-1751500799@thamesyc.org
SUMMARY:WEDNESDAY NIGHT KEEL BOAT RACING SPRING SERIES
DESCRIPTION:
URL:https://thamesyc.org/event/wednesday-night-keel-boat-racing-spring-series-5/
CATEGORIES:Racing
END:VEVENT
BEGIN:VEVENT
DTSTART;TZID=America/New_York:20250702T080000
DTEND;TZID=America/New_York:20250707T170000
DTSTAMP:20260425T093253
CREATED:20250615T223504Z
LAST-MODIFIED:20250615T223504Z
UID:10039378-1751443200-1751907600@thamesyc.org
SUMMARY:BI Mooring - Tiller the Hun
DESCRIPTION:
URL:https://thamesyc.org/event/bi-mooring-tiller-the-hun/
CATEGORIES:Block Island Mooring Reservation.
END:VEVENT
BEGIN:VEVENT
DTSTART;VALUE=DATE:20250703
DTEND;VALUE=DATE:20250704
DTSTAMP:20260425T093253
CREATED:20250127T231503Z
LAST-MODIFIED:20250127T231503Z
UID:10039301-1751500800-1751587199@thamesyc.org
SUMMARY:THURSDAY NIGHT SPRING FORCE 5 RACE SERIES
DESCRIPTION:
URL:https://thamesyc.org/event/thursday-night-spring-force-5-race-series-2/
CATEGORIES:Racing
END:VEVENT
BEGIN:VEVENT
DTSTART;VALUE=DATE:20250704
DTEND;VALUE=DATE:20250705
DTSTAMP:20260425T093253
CREATED:20250127T222927Z
LAST-MODIFIED:20250127T222927Z
UID:10039287-1751587200-1751673599@thamesyc.org
SUMMARY:FRANCIS T BRADBURY MEMORIAL LONG DISTANCE RACE
DESCRIPTION:
URL:https://thamesyc.org/event/francis-t-bradbury-memorial-long-distance-race-6/
CATEGORIES:Club Wide Event,Party,Racing
END:VEVENT
END:VCALENDAR