BEGIN:VCALENDAR
VERSION:2.0
PRODID:-//Thames Yacht Club - ECPv6.15.17//NONSGML v1.0//EN
CALSCALE:GREGORIAN
METHOD:PUBLISH
X-WR-CALNAME:Thames Yacht Club
X-ORIGINAL-URL:https://thamesyc.org
X-WR-CALDESC:Events for Thames Yacht Club
REFRESH-INTERVAL;VALUE=DURATION:PT1H
X-Robots-Tag:noindex
X-PUBLISHED-TTL:PT1H
BEGIN:VTIMEZONE
TZID:America/New_York
BEGIN:DAYLIGHT
TZOFFSETFROM:-0500
TZOFFSETTO:-0400
TZNAME:EDT
DTSTART:20240310T070000
END:DAYLIGHT
BEGIN:STANDARD
TZOFFSETFROM:-0400
TZOFFSETTO:-0500
TZNAME:EST
DTSTART:20241103T060000
END:STANDARD
BEGIN:DAYLIGHT
TZOFFSETFROM:-0500
TZOFFSETTO:-0400
TZNAME:EDT
DTSTART:20250309T070000
END:DAYLIGHT
BEGIN:STANDARD
TZOFFSETFROM:-0400
TZOFFSETTO:-0500
TZNAME:EST
DTSTART:20251102T060000
END:STANDARD
BEGIN:DAYLIGHT
TZOFFSETFROM:-0500
TZOFFSETTO:-0400
TZNAME:EDT
DTSTART:20260308T070000
END:DAYLIGHT
BEGIN:STANDARD
TZOFFSETFROM:-0400
TZOFFSETTO:-0500
TZNAME:EST
DTSTART:20261101T060000
END:STANDARD
END:VTIMEZONE
BEGIN:VEVENT
DTSTART;TZID=America/New_York:20250916T190000
DTEND;TZID=America/New_York:20250916T210000
DTSTAMP:20260424T122031
CREATED:20250127T004727Z
LAST-MODIFIED:20250127T004727Z
UID:10039214-1758049200-1758056400@thamesyc.org
SUMMARY:EXECUTIVE COMMITTEE MEETING
DESCRIPTION:
URL:https://thamesyc.org/event/executive-committee-meeting-33/
CATEGORIES:Executive Committee Mtg
END:VEVENT
BEGIN:VEVENT
DTSTART;TZID=America/New_York:20250914T100000
DTEND;TZID=America/New_York:20250914T200000
DTSTAMP:20260424T122031
CREATED:20250917T162448Z
LAST-MODIFIED:20250917T162448Z
UID:10039438-1757844000-1757880000@thamesyc.org
SUMMARY:Launch Hours
DESCRIPTION:
URL:https://thamesyc.org/event/launch-hours-45/
CATEGORIES:TYC Launch Schedule
END:VEVENT
BEGIN:VEVENT
DTSTART;TZID=America/New_York:20250913T100000
DTEND;TZID=America/New_York:20250913T200000
DTSTAMP:20260424T122031
CREATED:20250917T162358Z
LAST-MODIFIED:20250917T162358Z
UID:10039437-1757757600-1757793600@thamesyc.org
SUMMARY:Launch Hours
DESCRIPTION:
URL:https://thamesyc.org/event/launch-hours-44/
CATEGORIES:TYC Launch Schedule
END:VEVENT
BEGIN:VEVENT
DTSTART;TZID=America/New_York:20250912T070000
DTEND;TZID=America/New_York:20250912T190000
DTSTAMP:20260424T122031
CREATED:20250917T162317Z
LAST-MODIFIED:20250917T162317Z
UID:10039436-1757660400-1757703600@thamesyc.org
SUMMARY:Launch Hours
DESCRIPTION:
URL:https://thamesyc.org/event/launch-hours-43/
CATEGORIES:TYC Launch Schedule
END:VEVENT
BEGIN:VEVENT
DTSTART;VALUE=DATE:20250912
DTEND;VALUE=DATE:20250913
DTSTAMP:20260424T122031
CREATED:20250127T013044Z
LAST-MODIFIED:20250916T150016Z
UID:10039227-1757635200-1757721599@thamesyc.org
SUMMARY:Budget Info from Chairs due to Treasurer
DESCRIPTION:
URL:https://thamesyc.org/event/budget-info-from-chairs-due-to-treasurer/
CATEGORIES:Club Wide Event
END:VEVENT
BEGIN:VEVENT
DTSTART;TZID=America/New_York:20250911T100000
DTEND;TZID=America/New_York:20250911T200000
DTSTAMP:20260424T122031
CREATED:20250917T162235Z
LAST-MODIFIED:20250917T162235Z
UID:10039435-1757584800-1757620800@thamesyc.org
SUMMARY:Launch Hours
DESCRIPTION:
URL:https://thamesyc.org/event/launch-hours-42/
CATEGORIES:TYC Launch Schedule
END:VEVENT
BEGIN:VEVENT
DTSTART;TZID=America/New_York:20250910T110000
DTEND;TZID=America/New_York:20250910T190000
DTSTAMP:20260424T122031
CREATED:20250917T162148Z
LAST-MODIFIED:20250917T162148Z
UID:10039434-1757502000-1757530800@thamesyc.org
SUMMARY:Launch Hours
DESCRIPTION:
URL:https://thamesyc.org/event/launch-hours-41/
CATEGORIES:TYC Launch Schedule
END:VEVENT
BEGIN:VEVENT
DTSTART;TZID=America/New_York:20250909T110000
DTEND;TZID=America/New_York:20250909T190000
DTSTAMP:20260424T122031
CREATED:20250917T162107Z
LAST-MODIFIED:20250917T162107Z
UID:10039433-1757415600-1757444400@thamesyc.org
SUMMARY:Launch Hours
DESCRIPTION:
URL:https://thamesyc.org/event/launch-hours-40/
CATEGORIES:TYC Launch Schedule
END:VEVENT
BEGIN:VEVENT
DTSTART;VALUE=DATE:20250909
DTEND;VALUE=DATE:20250914
DTSTAMP:20260424T122031
CREATED:20250811T001717Z
LAST-MODIFIED:20250917T161407Z
UID:10039419-1757376000-1757807999@thamesyc.org
SUMMARY:BI Mooring - S/V Ledgelight
DESCRIPTION:
URL:https://thamesyc.org/event/bi-mooring-s-v-ledgelight-2/
CATEGORIES:Block Island Mooring Reservation.
END:VEVENT
BEGIN:VEVENT
DTSTART;VALUE=DATE:20250909
DTEND;VALUE=DATE:20250911
DTSTAMP:20260424T122031
CREATED:20250624T233407Z
LAST-MODIFIED:20250624T233503Z
UID:10039389-1757376000-1757548799@thamesyc.org
SUMMARY:BI Mooring - Aries
DESCRIPTION:
URL:https://thamesyc.org/event/bi-mooring-aries/
CATEGORIES:Block Island Mooring Reservation.
END:VEVENT
BEGIN:VEVENT
DTSTART;TZID=America/New_York:20250908T110000
DTEND;TZID=America/New_York:20250908T190000
DTSTAMP:20260424T122031
CREATED:20250917T162025Z
LAST-MODIFIED:20250917T162025Z
UID:10039432-1757329200-1757358000@thamesyc.org
SUMMARY:Launch Hours
DESCRIPTION:
URL:https://thamesyc.org/event/launch-hours-39/
CATEGORIES:TYC Launch Schedule
END:VEVENT
BEGIN:VEVENT
DTSTART;TZID=America/New_York:20250907T090000
DTEND;TZID=America/New_York:20250907T210000
DTSTAMP:20260424T122031
CREATED:20250917T161945Z
LAST-MODIFIED:20250917T161945Z
UID:10039431-1757235600-1757278800@thamesyc.org
SUMMARY:Launch Hours
DESCRIPTION:
URL:https://thamesyc.org/event/launch-hours-38/
CATEGORIES:TYC Launch Schedule
END:VEVENT
BEGIN:VEVENT
DTSTART;VALUE=DATE:20250907
DTEND;VALUE=DATE:20250908
DTSTAMP:20260424T122031
CREATED:20250127T223309Z
LAST-MODIFIED:20250127T223309Z
UID:10039289-1757203200-1757289599@thamesyc.org
SUMMARY:ECSA: COMMODORE'S TROPHY RACE
DESCRIPTION:
URL:https://thamesyc.org/event/ecsa-commodores-trophy-race/
CATEGORIES:Club Wide Event,Party,Racing
END:VEVENT
BEGIN:VEVENT
DTSTART;TZID=America/New_York:20250906T090000
DTEND;TZID=America/New_York:20250906T210000
DTSTAMP:20260424T122031
CREATED:20250917T161824Z
LAST-MODIFIED:20250917T161824Z
UID:10039430-1757149200-1757192400@thamesyc.org
SUMMARY:Launch Hours
DESCRIPTION:
URL:https://thamesyc.org/event/launch-hours-37/
CATEGORIES:TYC Launch Schedule
END:VEVENT
BEGIN:VEVENT
DTSTART;TZID=America/New_York:20250905T210000
DTEND;TZID=America/New_York:20250905T230000
DTSTAMP:20260424T122031
CREATED:20250715T135941Z
LAST-MODIFIED:20250729T163025Z
UID:10039403-1757106000-1757113200@thamesyc.org
SUMMARY:Movie Night on the Beach
DESCRIPTION:
URL:https://thamesyc.org/event/movie-night-on-the-beach-3/2025-09-05/
CATEGORIES:Club Wide Event
END:VEVENT
BEGIN:VEVENT
DTSTART;TZID=America/New_York:20250905T090000
DTEND;TZID=America/New_York:20250905T210000
DTSTAMP:20260424T122031
CREATED:20250917T161755Z
LAST-MODIFIED:20250917T161755Z
UID:10039429-1757062800-1757106000@thamesyc.org
SUMMARY:Launch Hours
DESCRIPTION:
URL:https://thamesyc.org/event/launch-hours-36/
CATEGORIES:TYC Launch Schedule
END:VEVENT
BEGIN:VEVENT
DTSTART;TZID=America/New_York:20250904T090000
DTEND;TZID=America/New_York:20250904T210000
DTSTAMP:20260424T122031
CREATED:20250917T161719Z
LAST-MODIFIED:20250917T161719Z
UID:10039428-1756976400-1757019600@thamesyc.org
SUMMARY:Launch Hours
DESCRIPTION:
URL:https://thamesyc.org/event/launch-hours-35/
CATEGORIES:TYC Launch Schedule
END:VEVENT
BEGIN:VEVENT
DTSTART;TZID=America/New_York:20250903T090000
DTEND;TZID=America/New_York:20250903T213000
DTSTAMP:20260424T122031
CREATED:20250917T161638Z
LAST-MODIFIED:20250917T161638Z
UID:10039427-1756890000-1756935000@thamesyc.org
SUMMARY:Launch Hours
DESCRIPTION:
URL:https://thamesyc.org/event/launch-hours-34/
CATEGORIES:TYC Launch Schedule
END:VEVENT
BEGIN:VEVENT
DTSTART;VALUE=DATE:20250903
DTEND;VALUE=DATE:20250904
DTSTAMP:20260424T122031
CREATED:20250127T222407Z
LAST-MODIFIED:20250127T222407Z
UID:10039285-1756857600-1756943999@thamesyc.org
SUMMARY:WEDNESDAY NIGHT KEEL BOAT RACING SUMMER SERIES
DESCRIPTION:
URL:https://thamesyc.org/event/wednesday-night-keel-boat-racing-summer-series-7/
CATEGORIES:Racing
END:VEVENT
BEGIN:VEVENT
DTSTART;TZID=America/New_York:20250902T090000
DTEND;TZID=America/New_York:20250902T210000
DTSTAMP:20260424T122031
CREATED:20250917T161558Z
LAST-MODIFIED:20250917T161558Z
UID:10039426-1756803600-1756846800@thamesyc.org
SUMMARY:Launch Hours
DESCRIPTION:
URL:https://thamesyc.org/event/launch-hours-33/
CATEGORIES:TYC Launch Schedule
END:VEVENT
BEGIN:VEVENT
DTSTART;TZID=America/New_York:20250901T090000
DTEND;TZID=America/New_York:20250901T210000
DTSTAMP:20260424T122031
CREATED:20250917T161517Z
LAST-MODIFIED:20250917T161517Z
UID:10039425-1756717200-1756760400@thamesyc.org
SUMMARY:Launch Hours
DESCRIPTION:
URL:https://thamesyc.org/event/launch-hours-32/
CATEGORIES:TYC Launch Schedule
END:VEVENT
BEGIN:VEVENT
DTSTART;VALUE=DATE:20250901
DTEND;VALUE=DATE:20250904
DTSTAMP:20260424T122031
CREATED:20250817T145241Z
LAST-MODIFIED:20250817T145241Z
UID:10039422-1756684800-1756943999@thamesyc.org
SUMMARY:BI Mooring - S/V Tiller the Hun
DESCRIPTION:
URL:https://thamesyc.org/event/bi-mooring-s-v-tiller-the-hun-2/
CATEGORIES:Block Island Mooring Reservation.
END:VEVENT
BEGIN:VEVENT
DTSTART;VALUE=DATE:20250901
DTEND;VALUE=DATE:20250902
DTSTAMP:20260424T122031
CREATED:20250127T012414Z
LAST-MODIFIED:20250127T012414Z
UID:10039224-1756684800-1756771199@thamesyc.org
SUMMARY:Deadline for Master Mariner Letters
DESCRIPTION:
URL:https://thamesyc.org/event/deadline-for-master-mariner-letters/
CATEGORIES:Club Wide Event
END:VEVENT
BEGIN:VEVENT
DTSTART;TZID=America/New_York:20250829T210000
DTEND;TZID=America/New_York:20250829T230000
DTSTAMP:20260424T122031
CREATED:20250715T135941Z
LAST-MODIFIED:20250729T163025Z
UID:10039402-1756501200-1756508400@thamesyc.org
SUMMARY:Movie Night on the Beach
DESCRIPTION:
URL:https://thamesyc.org/event/movie-night-on-the-beach-3/2025-08-29/
CATEGORIES:Club Wide Event
END:VEVENT
BEGIN:VEVENT
DTSTART;VALUE=DATE:20250829
DTEND;VALUE=DATE:20250831
DTSTAMP:20260424T122031
CREATED:20250817T145147Z
LAST-MODIFIED:20250817T145147Z
UID:10039421-1756425600-1756598399@thamesyc.org
SUMMARY:BI Mooring - S/V Dory
DESCRIPTION:
URL:https://thamesyc.org/event/bi-mooring-s-v-dory/
CATEGORIES:Block Island Mooring Reservation.
END:VEVENT
BEGIN:VEVENT
DTSTART;VALUE=DATE:20250828
DTEND;VALUE=DATE:20250901
DTSTAMP:20260424T122031
CREATED:20250805T003029Z
LAST-MODIFIED:20250805T003046Z
UID:10039417-1756339200-1756684799@thamesyc.org
SUMMARY:BI Mooring - S/V Vega
DESCRIPTION:
URL:https://thamesyc.org/event/bi-mooring-s-v-vega-2/
CATEGORIES:Block Island Mooring Reservation.
END:VEVENT
BEGIN:VEVENT
DTSTART;VALUE=DATE:20250828
DTEND;VALUE=DATE:20250829
DTSTAMP:20260424T122031
CREATED:20250127T232054Z
LAST-MODIFIED:20250127T232131Z
UID:10039309-1756339200-1756425599@thamesyc.org
SUMMARY:THURSDAY NIGHT SUMMER FORCE 5 RACE SERIES
DESCRIPTION:
URL:https://thamesyc.org/event/thursday-night-summer-force-5-race-series-6/
CATEGORIES:Racing
END:VEVENT
BEGIN:VEVENT
DTSTART;VALUE=DATE:20250827
DTEND;VALUE=DATE:20250828
DTSTAMP:20260424T122031
CREATED:20250127T222021Z
LAST-MODIFIED:20250127T222021Z
UID:10039284-1756252800-1756339199@thamesyc.org
SUMMARY:WEDNESDAY NIGHT KEEL BOAT RACING SUMMER SERIES
DESCRIPTION:
URL:https://thamesyc.org/event/wednesday-night-keel-boat-racing-summer-series-6/
CATEGORIES:Racing
END:VEVENT
BEGIN:VEVENT
DTSTART;VALUE=DATE:20250824
DTEND;VALUE=DATE:20250828
DTSTAMP:20260424T122031
CREATED:20250824T161727Z
LAST-MODIFIED:20250824T161727Z
UID:10039423-1755993600-1756339199@thamesyc.org
SUMMARY:BI Mooring - S/V Vamanos
DESCRIPTION:
URL:https://thamesyc.org/event/bi-mooring-s-v-vamanos/
CATEGORIES:Block Island Mooring Reservation.
END:VEVENT
BEGIN:VEVENT
DTSTART;TZID=America/New_York:20250822T210000
DTEND;TZID=America/New_York:20250822T230000
DTSTAMP:20260424T122031
CREATED:20250715T135941Z
LAST-MODIFIED:20250729T163025Z
UID:10039401-1755896400-1755903600@thamesyc.org
SUMMARY:Movie Night on the Beach
DESCRIPTION:
URL:https://thamesyc.org/event/movie-night-on-the-beach-3/2025-08-22/
CATEGORIES:Club Wide Event
END:VEVENT
END:VCALENDAR