BEGIN:VCALENDAR
VERSION:2.0
PRODID:-//Thames Yacht Club - ECPv6.15.20//NONSGML v1.0//EN
CALSCALE:GREGORIAN
METHOD:PUBLISH
X-WR-CALNAME:Thames Yacht Club
X-ORIGINAL-URL:https://thamesyc.org
X-WR-CALDESC:Events for Thames Yacht Club
REFRESH-INTERVAL;VALUE=DURATION:PT1H
X-Robots-Tag:noindex
X-PUBLISHED-TTL:PT1H
BEGIN:VTIMEZONE
TZID:America/New_York
BEGIN:DAYLIGHT
TZOFFSETFROM:-0500
TZOFFSETTO:-0400
TZNAME:EDT
DTSTART:20230312T070000
END:DAYLIGHT
BEGIN:STANDARD
TZOFFSETFROM:-0400
TZOFFSETTO:-0500
TZNAME:EST
DTSTART:20231105T060000
END:STANDARD
BEGIN:DAYLIGHT
TZOFFSETFROM:-0500
TZOFFSETTO:-0400
TZNAME:EDT
DTSTART:20240310T070000
END:DAYLIGHT
BEGIN:STANDARD
TZOFFSETFROM:-0400
TZOFFSETTO:-0500
TZNAME:EST
DTSTART:20241103T060000
END:STANDARD
BEGIN:DAYLIGHT
TZOFFSETFROM:-0500
TZOFFSETTO:-0400
TZNAME:EDT
DTSTART:20250309T070000
END:DAYLIGHT
BEGIN:STANDARD
TZOFFSETFROM:-0400
TZOFFSETTO:-0500
TZNAME:EST
DTSTART:20251102T060000
END:STANDARD
END:VTIMEZONE
BEGIN:VEVENT
DTSTART;VALUE=DATE:20240802
DTEND;VALUE=DATE:20240803
DTSTAMP:20260425T120318
CREATED:20231227T035452Z
LAST-MODIFIED:20231227T035452Z
UID:10036775-1722556800-1722643199@thamesyc.org
SUMMARY:Youth Sailing
DESCRIPTION:
URL:https://thamesyc.org/event/youth-sailing-2/2024-08-02/
CATEGORIES:Training
END:VEVENT
BEGIN:VEVENT
DTSTART;TZID=America/New_York:20240801T180000
DTEND;TZID=America/New_York:20240801T200000
DTSTAMP:20260425T120318
CREATED:20231220T231704Z
LAST-MODIFIED:20240604T125736Z
UID:10038473-1722535200-1722542400@thamesyc.org
SUMMARY:Force 5 Summer Series
DESCRIPTION:
URL:https://thamesyc.org/event/force-5-summer-series-4/2024-08-01/
CATEGORIES:Racing
END:VEVENT
BEGIN:VEVENT
DTSTART;VALUE=DATE:20240801
DTEND;VALUE=DATE:20240802
DTSTAMP:20260425T120318
CREATED:20231227T035452Z
LAST-MODIFIED:20231227T035452Z
UID:10036774-1722470400-1722556799@thamesyc.org
SUMMARY:Youth Sailing
DESCRIPTION:
URL:https://thamesyc.org/event/youth-sailing-2/2024-08-01/
CATEGORIES:Training
END:VEVENT
BEGIN:VEVENT
DTSTART;TZID=America/New_York:20240731T170000
DTEND;TZID=America/New_York:20240731T200000
DTSTAMP:20260425T120318
CREATED:20231220T214406Z
LAST-MODIFIED:20231220T214406Z
UID:10036694-1722445200-1722456000@thamesyc.org
SUMMARY:Wednesday Night Summer Race Series
DESCRIPTION:
URL:https://thamesyc.org/event/wednesday-night-summer-race-series/2024-07-31/
CATEGORIES:Racing
END:VEVENT
BEGIN:VEVENT
DTSTART;VALUE=DATE:20240731
DTEND;VALUE=DATE:20240801
DTSTAMP:20260425T120318
CREATED:20231227T035452Z
LAST-MODIFIED:20231227T035452Z
UID:10036773-1722384000-1722470399@thamesyc.org
SUMMARY:Youth Sailing
DESCRIPTION:
URL:https://thamesyc.org/event/youth-sailing-2/2024-07-31/
CATEGORIES:Training
END:VEVENT
BEGIN:VEVENT
DTSTART;TZID=America/New_York:20240730T173000
DTEND;TZID=America/New_York:20240730T200000
DTSTAMP:20260425T120318
CREATED:20231221T000905Z
LAST-MODIFIED:20231221T000905Z
UID:10036741-1722360600-1722369600@thamesyc.org
SUMMARY:Summer Adult Sailing - Evening
DESCRIPTION:
URL:https://thamesyc.org/event/summer-adult-sailing-evening/2024-07-30/
CATEGORIES:Training
END:VEVENT
BEGIN:VEVENT
DTSTART;VALUE=DATE:20240730
DTEND;VALUE=DATE:20240731
DTSTAMP:20260425T120318
CREATED:20231227T035452Z
LAST-MODIFIED:20231227T035452Z
UID:10036772-1722297600-1722383999@thamesyc.org
SUMMARY:Youth Sailing
DESCRIPTION:
URL:https://thamesyc.org/event/youth-sailing-2/2024-07-30/
CATEGORIES:Training
END:VEVENT
BEGIN:VEVENT
DTSTART;TZID=America/New_York:20240729T173000
DTEND;TZID=America/New_York:20240729T200000
DTSTAMP:20260425T120318
CREATED:20231221T000905Z
LAST-MODIFIED:20231221T000905Z
UID:10036740-1722274200-1722283200@thamesyc.org
SUMMARY:Summer Adult Sailing - Evening
DESCRIPTION:
URL:https://thamesyc.org/event/summer-adult-sailing-evening/2024-07-29/
CATEGORIES:Training
END:VEVENT
BEGIN:VEVENT
DTSTART;VALUE=DATE:20240729
DTEND;VALUE=DATE:20240730
DTSTAMP:20260425T120318
CREATED:20231227T035452Z
LAST-MODIFIED:20231227T035452Z
UID:10036771-1722211200-1722297599@thamesyc.org
SUMMARY:Youth Sailing
DESCRIPTION:
URL:https://thamesyc.org/event/youth-sailing-2/2024-07-29/
CATEGORIES:Training
END:VEVENT
BEGIN:VEVENT
DTSTART;TZID=America/New_York:20240727T190000
DTEND;TZID=America/New_York:20240727T220000
DTSTAMP:20260425T120318
CREATED:20240322T072158Z
LAST-MODIFIED:20240322T072158Z
UID:10036789-1722106800-1722117600@thamesyc.org
SUMMARY:Christmas in July Boat Parade and Party
DESCRIPTION:
URL:https://thamesyc.org/event/christmas-in-july-boat-parade-and-party/
CATEGORIES:Cruise Event
END:VEVENT
BEGIN:VEVENT
DTSTART;TZID=America/New_York:20240726T204500
DTEND;TZID=America/New_York:20240726T230000
DTSTAMP:20260425T120318
CREATED:20240710T003512Z
LAST-MODIFIED:20240710T003512Z
UID:10038811-1722026700-1722034800@thamesyc.org
SUMMARY:Movie Night On The Beach
DESCRIPTION:Join us on the Beach Friday’s this summer!
URL:https://thamesyc.org/event/movie-night-on-the-beach-5/2024-07-26/
LOCATION:Thames Yacht Club\, 396 Pequot Avenue\, New London\, CT\, 06320\, United States
CATEGORIES:Club Wide Event
GEO:41.3308391;-72.0946565
X-APPLE-STRUCTURED-LOCATION;VALUE=URI;X-ADDRESS=Thames Yacht Club 396 Pequot Avenue New London CT 06320 United States;X-APPLE-RADIUS=500;X-TITLE=396 Pequot Avenue:geo:-72.0946565,41.3308391
END:VEVENT
BEGIN:VEVENT
DTSTART;VALUE=DATE:20240726
DTEND;VALUE=DATE:20240727
DTSTAMP:20260425T120318
CREATED:20231227T035452Z
LAST-MODIFIED:20231227T035452Z
UID:10036770-1721952000-1722038399@thamesyc.org
SUMMARY:Youth Sailing
DESCRIPTION:
URL:https://thamesyc.org/event/youth-sailing-2/2024-07-26/
CATEGORIES:Training
END:VEVENT
BEGIN:VEVENT
DTSTART;TZID=America/New_York:20240725T180000
DTEND;TZID=America/New_York:20240725T200000
DTSTAMP:20260425T120318
CREATED:20231220T231704Z
LAST-MODIFIED:20240604T125736Z
UID:10038472-1721930400-1721937600@thamesyc.org
SUMMARY:Force 5 Summer Series
DESCRIPTION:
URL:https://thamesyc.org/event/force-5-summer-series-4/2024-07-25/
CATEGORIES:Racing
END:VEVENT
BEGIN:VEVENT
DTSTART;VALUE=DATE:20240725
DTEND;VALUE=DATE:20240726
DTSTAMP:20260425T120318
CREATED:20231227T035452Z
LAST-MODIFIED:20231227T035452Z
UID:10036769-1721865600-1721951999@thamesyc.org
SUMMARY:Youth Sailing
DESCRIPTION:
URL:https://thamesyc.org/event/youth-sailing-2/2024-07-25/
CATEGORIES:Training
END:VEVENT
BEGIN:VEVENT
DTSTART;TZID=America/New_York:20240724T170000
DTEND;TZID=America/New_York:20240724T200000
DTSTAMP:20260425T120318
CREATED:20231220T214406Z
LAST-MODIFIED:20231220T214406Z
UID:10036693-1721840400-1721851200@thamesyc.org
SUMMARY:Wednesday Night Summer Race Series
DESCRIPTION:
URL:https://thamesyc.org/event/wednesday-night-summer-race-series/2024-07-24/
CATEGORIES:Racing
END:VEVENT
BEGIN:VEVENT
DTSTART;VALUE=DATE:20240724
DTEND;VALUE=DATE:20240725
DTSTAMP:20260425T120318
CREATED:20231227T035452Z
LAST-MODIFIED:20231227T035452Z
UID:10036768-1721779200-1721865599@thamesyc.org
SUMMARY:Youth Sailing
DESCRIPTION:
URL:https://thamesyc.org/event/youth-sailing-2/2024-07-24/
CATEGORIES:Training
END:VEVENT
BEGIN:VEVENT
DTSTART;TZID=America/New_York:20240723T173000
DTEND;TZID=America/New_York:20240723T200000
DTSTAMP:20260425T120318
CREATED:20231221T000905Z
LAST-MODIFIED:20231221T000905Z
UID:10036739-1721755800-1721764800@thamesyc.org
SUMMARY:Summer Adult Sailing - Evening
DESCRIPTION:
URL:https://thamesyc.org/event/summer-adult-sailing-evening/2024-07-23/
CATEGORIES:Training
END:VEVENT
BEGIN:VEVENT
DTSTART;VALUE=DATE:20240723
DTEND;VALUE=DATE:20240725
DTSTAMP:20260425T120318
CREATED:20240628T024336Z
LAST-MODIFIED:20240628T024336Z
UID:10038488-1721692800-1721865599@thamesyc.org
SUMMARY:Block Island Mooring Reserved for S/V BILLERINA and JIB and TONIC
DESCRIPTION:
URL:https://thamesyc.org/event/block-island-mooring-reserved-for-s-v-billerina-and-jib-and-tonic/
CATEGORIES:Block Island Mooring Reservation.
END:VEVENT
BEGIN:VEVENT
DTSTART;VALUE=DATE:20240723
DTEND;VALUE=DATE:20240724
DTSTAMP:20260425T120318
CREATED:20231227T035452Z
LAST-MODIFIED:20231227T035452Z
UID:10036767-1721692800-1721779199@thamesyc.org
SUMMARY:Youth Sailing
DESCRIPTION:
URL:https://thamesyc.org/event/youth-sailing-2/2024-07-23/
CATEGORIES:Training
END:VEVENT
BEGIN:VEVENT
DTSTART;TZID=America/New_York:20240722T173000
DTEND;TZID=America/New_York:20240722T200000
DTSTAMP:20260425T120318
CREATED:20231221T000905Z
LAST-MODIFIED:20231221T000905Z
UID:10036738-1721669400-1721678400@thamesyc.org
SUMMARY:Summer Adult Sailing - Evening
DESCRIPTION:
URL:https://thamesyc.org/event/summer-adult-sailing-evening/2024-07-22/
CATEGORIES:Training
END:VEVENT
BEGIN:VEVENT
DTSTART;VALUE=DATE:20240722
DTEND;VALUE=DATE:20240723
DTSTAMP:20260425T120318
CREATED:20231227T035452Z
LAST-MODIFIED:20231227T035452Z
UID:10036766-1721606400-1721692799@thamesyc.org
SUMMARY:Youth Sailing
DESCRIPTION:
URL:https://thamesyc.org/event/youth-sailing-2/2024-07-22/
CATEGORIES:Training
END:VEVENT
BEGIN:VEVENT
DTSTART;TZID=America/New_York:20240721T170000
DTEND;TZID=America/New_York:20240721T200000
DTSTAMP:20260425T120318
CREATED:20231129T183704Z
LAST-MODIFIED:20231205T153338Z
UID:10036330-1721581200-1721592000@thamesyc.org
SUMMARY:General Membership Meeting (5 pm potluck / 6 pm meeting)
DESCRIPTION:The Potluck starts at 5:00 pm\, with the General Membership Meeting beginning at 6pm.
URL:https://thamesyc.org/event/general-membership-meeting-300-potluck-400-meeting-2/
LOCATION:Thames Yacht Club\, 396 Pequot Avenue\, New London\, CT\, 06320\, United States
CATEGORIES:Club Wide Event
GEO:41.3308391;-72.0946565
X-APPLE-STRUCTURED-LOCATION;VALUE=URI;X-ADDRESS=Thames Yacht Club 396 Pequot Avenue New London CT 06320 United States;X-APPLE-RADIUS=500;X-TITLE=396 Pequot Avenue:geo:-72.0946565,41.3308391
END:VEVENT
BEGIN:VEVENT
DTSTART;TZID=America/New_York:20240721T090000
DTEND;TZID=America/New_York:20240721T150000
DTSTAMP:20260425T120318
CREATED:20231221T002206Z
LAST-MODIFIED:20231221T002206Z
UID:10036745-1721552400-1721574000@thamesyc.org
SUMMARY:Mid-Summer Weekend Adult Sailing
DESCRIPTION:
URL:https://thamesyc.org/event/mid-summer-weekend-adult-sailing/2024-07-21/
CATEGORIES:Training
END:VEVENT
BEGIN:VEVENT
DTSTART;TZID=America/New_York:20240720T150000
DTEND;TZID=America/New_York:20240720T180000
DTSTAMP:20260425T120318
CREATED:20240520T231648Z
LAST-MODIFIED:20240520T231809Z
UID:10036802-1721487600-1721498400@thamesyc.org
SUMMARY:Lou Leverone - Celebration of Life
DESCRIPTION:Rental of the 1st and 2nd floors
URL:https://thamesyc.org/event/lou-leverone-celebration-of-life/
CATEGORIES:Facility Rental
END:VEVENT
BEGIN:VEVENT
DTSTART;TZID=America/New_York:20240720T090000
DTEND;TZID=America/New_York:20240720T150000
DTSTAMP:20260425T120318
CREATED:20231221T002206Z
LAST-MODIFIED:20231221T002206Z
UID:10036744-1721466000-1721487600@thamesyc.org
SUMMARY:Mid-Summer Weekend Adult Sailing
DESCRIPTION:
URL:https://thamesyc.org/event/mid-summer-weekend-adult-sailing/2024-07-20/
CATEGORIES:Training
END:VEVENT
BEGIN:VEVENT
DTSTART;TZID=America/New_York:20240719T204500
DTEND;TZID=America/New_York:20240719T230000
DTSTAMP:20260425T120318
CREATED:20240710T003512Z
LAST-MODIFIED:20240710T003512Z
UID:10038810-1721421900-1721430000@thamesyc.org
SUMMARY:Movie Night On The Beach
DESCRIPTION:Join us on the Beach Friday’s this summer!
URL:https://thamesyc.org/event/movie-night-on-the-beach-5/2024-07-19/
LOCATION:Thames Yacht Club\, 396 Pequot Avenue\, New London\, CT\, 06320\, United States
CATEGORIES:Club Wide Event
GEO:41.3308391;-72.0946565
X-APPLE-STRUCTURED-LOCATION;VALUE=URI;X-ADDRESS=Thames Yacht Club 396 Pequot Avenue New London CT 06320 United States;X-APPLE-RADIUS=500;X-TITLE=396 Pequot Avenue:geo:-72.0946565,41.3308391
END:VEVENT
BEGIN:VEVENT
DTSTART;VALUE=DATE:20240719
DTEND;VALUE=DATE:20240721
DTSTAMP:20260425T120318
CREATED:20240711T133418Z
LAST-MODIFIED:20240716T205046Z
UID:10038819-1721347200-1721519999@thamesyc.org
SUMMARY:Block Island Mooring Reserved for S/V TILLER the HUN and VEGA
DESCRIPTION:
URL:https://thamesyc.org/event/block-island-mooring-reserved-for-s-v-tiller-the-hun-and-vega/
CATEGORIES:Block Island Mooring Reservation.
END:VEVENT
BEGIN:VEVENT
DTSTART;VALUE=DATE:20240719
DTEND;VALUE=DATE:20240720
DTSTAMP:20260425T120318
CREATED:20231227T035452Z
LAST-MODIFIED:20231227T035452Z
UID:10036765-1721347200-1721433599@thamesyc.org
SUMMARY:Youth Sailing
DESCRIPTION:
URL:https://thamesyc.org/event/youth-sailing-2/2024-07-19/
CATEGORIES:Training
END:VEVENT
BEGIN:VEVENT
DTSTART;TZID=America/New_York:20240718T180000
DTEND;TZID=America/New_York:20240718T200000
DTSTAMP:20260425T120318
CREATED:20231220T231704Z
LAST-MODIFIED:20240604T125736Z
UID:10038471-1721325600-1721332800@thamesyc.org
SUMMARY:Force 5 Summer Series
DESCRIPTION:
URL:https://thamesyc.org/event/force-5-summer-series-4/2024-07-18/
CATEGORIES:Racing
END:VEVENT
BEGIN:VEVENT
DTSTART;VALUE=DATE:20240718
DTEND;VALUE=DATE:20240719
DTSTAMP:20260425T120318
CREATED:20231227T035452Z
LAST-MODIFIED:20231227T035452Z
UID:10036764-1721260800-1721347199@thamesyc.org
SUMMARY:Youth Sailing
DESCRIPTION:
URL:https://thamesyc.org/event/youth-sailing-2/2024-07-18/
CATEGORIES:Training
END:VEVENT
END:VCALENDAR