BEGIN:VCALENDAR
VERSION:2.0
PRODID:-//Thames Yacht Club - ECPv6.15.17//NONSGML v1.0//EN
CALSCALE:GREGORIAN
METHOD:PUBLISH
X-WR-CALNAME:Thames Yacht Club
X-ORIGINAL-URL:https://thamesyc.org
X-WR-CALDESC:Events for Thames Yacht Club
REFRESH-INTERVAL;VALUE=DURATION:PT1H
X-Robots-Tag:noindex
X-PUBLISHED-TTL:PT1H
BEGIN:VTIMEZONE
TZID:America/New_York
BEGIN:DAYLIGHT
TZOFFSETFROM:-0500
TZOFFSETTO:-0400
TZNAME:EDT
DTSTART:20150308T070000
END:DAYLIGHT
BEGIN:STANDARD
TZOFFSETFROM:-0400
TZOFFSETTO:-0500
TZNAME:EST
DTSTART:20151101T060000
END:STANDARD
BEGIN:DAYLIGHT
TZOFFSETFROM:-0500
TZOFFSETTO:-0400
TZNAME:EDT
DTSTART:20160313T070000
END:DAYLIGHT
BEGIN:STANDARD
TZOFFSETFROM:-0400
TZOFFSETTO:-0500
TZNAME:EST
DTSTART:20161106T060000
END:STANDARD
BEGIN:DAYLIGHT
TZOFFSETFROM:-0500
TZOFFSETTO:-0400
TZNAME:EDT
DTSTART:20170312T070000
END:DAYLIGHT
BEGIN:STANDARD
TZOFFSETFROM:-0400
TZOFFSETTO:-0500
TZNAME:EST
DTSTART:20171105T060000
END:STANDARD
END:VTIMEZONE
BEGIN:VEVENT
DTSTART;TZID=America/New_York:20160810T180000
DTEND;TZID=America/New_York:20160810T200000
DTSTAMP:20260425T062000
CREATED:20160311T011555Z
LAST-MODIFIED:20160316T221151Z
UID:10033707-1470852000-1470859200@thamesyc.org
SUMMARY:Wednesday PHRF & Ensign Summer Series Racing
DESCRIPTION:
URL:https://thamesyc.org/event/wednesday-phrf-ensign-summer-series-racing/2016-08-10/
CATEGORIES:Racing
END:VEVENT
BEGIN:VEVENT
DTSTART;VALUE=DATE:20160809
DTEND;VALUE=DATE:20160812
DTSTAMP:20260425T062000
CREATED:20160809T194820Z
LAST-MODIFIED:20160809T194820Z
UID:10033815-1470700800-1470959999@thamesyc.org
SUMMARY:Block Island Mooring Reserved for S/V BORN TO RUN
DESCRIPTION:
URL:https://thamesyc.org/event/block-island-mooring-reserved-sv-born-run/
CATEGORIES:Block Island Mooring Reservation.
END:VEVENT
BEGIN:VEVENT
DTSTART;TZID=America/New_York:20160807T080000
DTEND;TZID=America/New_York:20160808T170000
DTSTAMP:20260425T062000
CREATED:20160709T200848Z
LAST-MODIFIED:20160709T200848Z
UID:10033793-1470556800-1470675600@thamesyc.org
SUMMARY:Block Island Mooring Reserved for S/V Caper
DESCRIPTION:
URL:https://thamesyc.org/event/block-island-mooring-reserved-sv-caper/
CATEGORIES:Block Island Mooring Reservation.
END:VEVENT
BEGIN:VEVENT
DTSTART;TZID=America/New_York:20160804T180000
DTEND;TZID=America/New_York:20160804T200000
DTSTAMP:20260425T062000
CREATED:20160311T011832Z
LAST-MODIFIED:20160316T222445Z
UID:10033720-1470333600-1470340800@thamesyc.org
SUMMARY:Force 5 Summer Series Racing
DESCRIPTION:
URL:https://thamesyc.org/event/force-5-summer-series-racing/2016-08-04/
CATEGORIES:Racing
END:VEVENT
BEGIN:VEVENT
DTSTART;TZID=America/New_York:20160804T080000
DTEND;TZID=America/New_York:20160806T170000
DTSTAMP:20260425T062000
CREATED:20160322T201510Z
LAST-MODIFIED:20160322T201510Z
UID:10033765-1470297600-1470502800@thamesyc.org
SUMMARY:Block Island Mooring reserved S/V Two Hours
DESCRIPTION:
URL:https://thamesyc.org/event/block-island-mooring-reserved-sv-two-hours-2/
CATEGORIES:Block Island Mooring Reservation.
END:VEVENT
BEGIN:VEVENT
DTSTART;TZID=America/New_York:20160803T180000
DTEND;TZID=America/New_York:20160803T200000
DTSTAMP:20260425T062000
CREATED:20160311T011555Z
LAST-MODIFIED:20160316T221151Z
UID:10033706-1470247200-1470254400@thamesyc.org
SUMMARY:Wednesday PHRF & Ensign Summer Series Racing
DESCRIPTION:
URL:https://thamesyc.org/event/wednesday-phrf-ensign-summer-series-racing/2016-08-03/
CATEGORIES:Racing
END:VEVENT
BEGIN:VEVENT
DTSTART;VALUE=DATE:20160801
DTEND;VALUE=DATE:20160804
DTSTAMP:20260425T062000
CREATED:20160530T192545Z
LAST-MODIFIED:20160530T192545Z
UID:10033785-1470009600-1470268799@thamesyc.org
SUMMARY:Block Island Mooring Reserved for S/V THRASHER
DESCRIPTION:
URL:https://thamesyc.org/event/block-island-mooring-reserved-sv-thrasher/
CATEGORIES:Block Island Mooring Reservation.
END:VEVENT
BEGIN:VEVENT
DTSTART;TZID=America/New_York:20160729T210000
DTEND;TZID=America/New_York:20160729T230000
DTSTAMP:20260425T062000
CREATED:20160725T011148Z
LAST-MODIFIED:20160725T011148Z
UID:10033801-1469826000-1469833200@thamesyc.org
SUMMARY:Movie on the Beach - 9:00PM - JAWS
DESCRIPTION:
URL:https://thamesyc.org/event/movie-beach-900pm-jaws/
CATEGORIES:Club Wide Event
END:VEVENT
BEGIN:VEVENT
DTSTART;TZID=America/New_York:20160729T080000
DTEND;TZID=America/New_York:20160730T170000
DTSTAMP:20260425T062000
CREATED:20160322T201345Z
LAST-MODIFIED:20160322T201345Z
UID:10033764-1469779200-1469898000@thamesyc.org
SUMMARY:Block Island Mooring reserved S/V Avanti
DESCRIPTION:
URL:https://thamesyc.org/event/block-island-mooring-reserved-sv-avanti/
CATEGORIES:Block Island Mooring Reservation.
END:VEVENT
BEGIN:VEVENT
DTSTART;TZID=America/New_York:20160728T180000
DTEND;TZID=America/New_York:20160728T200000
DTSTAMP:20260425T062000
CREATED:20160311T011832Z
LAST-MODIFIED:20160316T222445Z
UID:10033719-1469728800-1469736000@thamesyc.org
SUMMARY:Force 5 Summer Series Racing
DESCRIPTION:
URL:https://thamesyc.org/event/force-5-summer-series-racing/2016-07-28/
CATEGORIES:Racing
END:VEVENT
BEGIN:VEVENT
DTSTART;TZID=America/New_York:20160727T180000
DTEND;TZID=America/New_York:20160727T200000
DTSTAMP:20260425T062000
CREATED:20160311T011555Z
LAST-MODIFIED:20160316T221151Z
UID:10033705-1469642400-1469649600@thamesyc.org
SUMMARY:Wednesday PHRF & Ensign Summer Series Racing
DESCRIPTION:
URL:https://thamesyc.org/event/wednesday-phrf-ensign-summer-series-racing/2016-07-27/
CATEGORIES:Racing
END:VEVENT
BEGIN:VEVENT
DTSTART;TZID=America/New_York:20160726T080000
DTEND;TZID=America/New_York:20160728T170000
DTSTAMP:20260425T062000
CREATED:20160705T120209Z
LAST-MODIFIED:20160705T120209Z
UID:10033792-1469520000-1469725200@thamesyc.org
SUMMARY:Block Island Mooring reserved for S/V PINGA
DESCRIPTION:
URL:https://thamesyc.org/event/block-island-mooring-reserved-sv-pinga/
CATEGORIES:Block Island Mooring Reservation.
END:VEVENT
BEGIN:VEVENT
DTSTART;VALUE=DATE:20160724
DTEND;VALUE=DATE:20160725
DTSTAMP:20260425T062000
CREATED:20160720T215614Z
LAST-MODIFIED:20160720T215614Z
UID:10033797-1469318400-1469404799@thamesyc.org
SUMMARY:BLOCK ISLAND Mooring Reserved for S/V SKIRR
DESCRIPTION:
URL:https://thamesyc.org/event/block-island-mooring-reserved-sv-skirr-2/
CATEGORIES:Block Island Mooring Reservation.
END:VEVENT
BEGIN:VEVENT
DTSTART;TZID=America/New_York:20160722T210000
DTEND;TZID=America/New_York:20160722T230000
DTSTAMP:20260425T062000
CREATED:20160720T223154Z
LAST-MODIFIED:20160720T223154Z
UID:10033799-1469221200-1469228400@thamesyc.org
SUMMARY:Friday Night Movie - Ice Age
DESCRIPTION:
URL:https://thamesyc.org/event/friday-night-movie-ice-age/
CATEGORIES:Club Wide Event
END:VEVENT
BEGIN:VEVENT
DTSTART;VALUE=DATE:20160722
DTEND;VALUE=DATE:20160724
DTSTAMP:20260425T062000
CREATED:20160420T135713Z
LAST-MODIFIED:20160420T135713Z
UID:10033776-1469145600-1469318399@thamesyc.org
SUMMARY:Block Island Mooring Reserved for S/V ATALANTA
DESCRIPTION:
URL:https://thamesyc.org/event/block-island-mooring-reserved-sv-atalanta/
CATEGORIES:Block Island Mooring Reservation.
END:VEVENT
BEGIN:VEVENT
DTSTART;TZID=America/New_York:20160721T180000
DTEND;TZID=America/New_York:20160721T200000
DTSTAMP:20260425T062000
CREATED:20160311T011832Z
LAST-MODIFIED:20160316T222445Z
UID:10033718-1469124000-1469131200@thamesyc.org
SUMMARY:Force 5 Summer Series Racing
DESCRIPTION:
URL:https://thamesyc.org/event/force-5-summer-series-racing/2016-07-21/
CATEGORIES:Racing
END:VEVENT
BEGIN:VEVENT
DTSTART;TZID=America/New_York:20160720T180000
DTEND;TZID=America/New_York:20160720T200000
DTSTAMP:20260425T062000
CREATED:20160311T011555Z
LAST-MODIFIED:20160316T221151Z
UID:10033704-1469037600-1469044800@thamesyc.org
SUMMARY:Wednesday PHRF & Ensign Summer Series Racing
DESCRIPTION:
URL:https://thamesyc.org/event/wednesday-phrf-ensign-summer-series-racing/2016-07-20/
CATEGORIES:Racing
END:VEVENT
BEGIN:VEVENT
DTSTART;TZID=America/New_York:20160720T080000
DTEND;TZID=America/New_York:20160721T170000
DTSTAMP:20260425T062000
CREATED:20160605T142931Z
LAST-MODIFIED:20160709T201234Z
UID:10033787-1469001600-1469120400@thamesyc.org
SUMMARY:Block Island Mooring Reserved for S/V ADELINE
DESCRIPTION:
URL:https://thamesyc.org/event/block-island-mooring-reserved-sv-adeline-2/
CATEGORIES:Block Island Mooring Reservation.
END:VEVENT
BEGIN:VEVENT
DTSTART;TZID=America/New_York:20160717T080000
DTEND;TZID=America/New_York:20160719T170000
DTSTAMP:20260425T062000
CREATED:20160703T011510Z
LAST-MODIFIED:20160709T201345Z
UID:10033791-1468742400-1468947600@thamesyc.org
SUMMARY:Block Island Mooring reserved SV LEDGELIGHT
DESCRIPTION:
URL:https://thamesyc.org/event/block-island-mooring-reserved-sv-ledgelight-2/
CATEGORIES:Block Island Mooring Reservation.
END:VEVENT
BEGIN:VEVENT
DTSTART;VALUE=DATE:20160716
DTEND;VALUE=DATE:20160718
DTSTAMP:20260425T062000
CREATED:20160221T201229Z
LAST-MODIFIED:20160221T201229Z
UID:10033605-1468627200-1468799999@thamesyc.org
SUMMARY:Pirate Rendezvous & Napatree/Watch Hill\, RI Cruise
DESCRIPTION:
URL:https://thamesyc.org/event/pirate-rendezvous-napatree-ct-cruise/
CATEGORIES:Cruise Event
END:VEVENT
BEGIN:VEVENT
DTSTART;TZID=America/New_York:20160714T180000
DTEND;TZID=America/New_York:20160714T200000
DTSTAMP:20260425T062000
CREATED:20160311T011724Z
LAST-MODIFIED:20160316T221001Z
UID:10033717-1468519200-1468526400@thamesyc.org
SUMMARY:Force 5 Spring Series Racing
DESCRIPTION:
URL:https://thamesyc.org/event/force-5-spring-series-racing/2016-07-14/
CATEGORIES:Racing
END:VEVENT
BEGIN:VEVENT
DTSTART;TZID=America/New_York:20160709T180000
DTEND;TZID=America/New_York:20160709T220000
DTSTAMP:20260425T062000
CREATED:20160420T015518Z
LAST-MODIFIED:20160420T015817Z
UID:10033772-1468087200-1468101600@thamesyc.org
SUMMARY:New London Sail Fest - Fireworks
DESCRIPTION:
URL:https://thamesyc.org/event/new-london-sail-fest/
CATEGORIES:Club Wide Event
END:VEVENT
BEGIN:VEVENT
DTSTART;TZID=America/New_York:20160708T180000
DTEND;TZID=America/New_York:20160710T170000
DTSTAMP:20260425T062000
CREATED:20160420T021042Z
LAST-MODIFIED:20160420T021042Z
UID:10033775-1468000800-1468170000@thamesyc.org
SUMMARY:New London Sail Fest Weekend
DESCRIPTION:
URL:https://thamesyc.org/event/london-sail-fest/
CATEGORIES:Club Wide Event
END:VEVENT
BEGIN:VEVENT
DTSTART;TZID=America/New_York:20160707T180000
DTEND;TZID=America/New_York:20160707T200000
DTSTAMP:20260425T062000
CREATED:20160311T011724Z
LAST-MODIFIED:20160316T221001Z
UID:10033716-1467914400-1467921600@thamesyc.org
SUMMARY:Force 5 Spring Series Racing
DESCRIPTION:
URL:https://thamesyc.org/event/force-5-spring-series-racing/2016-07-07/
CATEGORIES:Racing
END:VEVENT
BEGIN:VEVENT
DTSTART;TZID=America/New_York:20160704T103000
DTEND;TZID=America/New_York:20160704T170000
DTSTAMP:20260425T062000
CREATED:20160311T012144Z
LAST-MODIFIED:20160316T222256Z
UID:10033727-1467628200-1467651600@thamesyc.org
SUMMARY:Francis T. Bradbury Memorial Long Distance Race
DESCRIPTION:
URL:https://thamesyc.org/event/francis-t-bradbury-memorial-long-distance-race/
CATEGORIES:Racing
END:VEVENT
BEGIN:VEVENT
DTSTART;TZID=America/New_York:20160702T080000
DTEND;TZID=America/New_York:20160709T170000
DTSTAMP:20260425T062000
CREATED:20160322T202756Z
LAST-MODIFIED:20160705T113216Z
UID:10033766-1467446400-1468083600@thamesyc.org
SUMMARY:Block Island Mooring reserved S/V VOYAGER
DESCRIPTION:
URL:https://thamesyc.org/event/block-island-mooring-reserved-sv-voyager/
CATEGORIES:Block Island Mooring Reservation.
END:VEVENT
BEGIN:VEVENT
DTSTART;TZID=America/New_York:20160630T180000
DTEND;TZID=America/New_York:20160630T200000
DTSTAMP:20260425T062000
CREATED:20160311T011724Z
LAST-MODIFIED:20160316T221001Z
UID:10033715-1467309600-1467316800@thamesyc.org
SUMMARY:Force 5 Spring Series Racing
DESCRIPTION:
URL:https://thamesyc.org/event/force-5-spring-series-racing/2016-06-30/
CATEGORIES:Racing
END:VEVENT
BEGIN:VEVENT
DTSTART;VALUE=DATE:20160628
DTEND;VALUE=DATE:20160629
DTSTAMP:20260425T062000
CREATED:20160628T164823Z
LAST-MODIFIED:20160628T164823Z
UID:10033790-1467072000-1467158399@thamesyc.org
SUMMARY:Block Island Mooring Reserved by S/V Luff Song
DESCRIPTION:
URL:https://thamesyc.org/event/block-island-mooring-reserved-sv-luff-song/
CATEGORIES:Block Island Mooring Reservation.
END:VEVENT
BEGIN:VEVENT
DTSTART;TZID=America/New_York:20160625T115500
DTEND;TZID=America/New_York:20160625T170000
DTSTAMP:20260425T062000
CREATED:20160311T013002Z
LAST-MODIFIED:20160316T221053Z
UID:10033735-1466855700-1466874000@thamesyc.org
SUMMARY:Calvin K Brouwer Memorial Regatta
DESCRIPTION:
URL:https://thamesyc.org/event/calvin-k-brouwer-memorial-regatta/
CATEGORIES:Racing
END:VEVENT
BEGIN:VEVENT
DTSTART;TZID=America/New_York:20160624T080000
DTEND;TZID=America/New_York:20160625T170000
DTSTAMP:20260425T062000
CREATED:20160424T231008Z
LAST-MODIFIED:20160424T231008Z
UID:10033778-1466755200-1466874000@thamesyc.org
SUMMARY:Block Island Mooring Reserved for S/V LAND HO
DESCRIPTION:
URL:https://thamesyc.org/event/block-island-mooring-reserved-sv-land-ho/
CATEGORIES:Block Island Mooring Reservation.
END:VEVENT
END:VCALENDAR