BEGIN:VCALENDAR
VERSION:2.0
PRODID:-//Thames Yacht Club - ECPv6.15.20//NONSGML v1.0//EN
CALSCALE:GREGORIAN
METHOD:PUBLISH
X-WR-CALNAME:Thames Yacht Club
X-ORIGINAL-URL:https://thamesyc.org
X-WR-CALDESC:Events for Thames Yacht Club
REFRESH-INTERVAL;VALUE=DURATION:PT1H
X-Robots-Tag:noindex
X-PUBLISHED-TTL:PT1H
BEGIN:VTIMEZONE
TZID:America/New_York
BEGIN:DAYLIGHT
TZOFFSETFROM:-0500
TZOFFSETTO:-0400
TZNAME:EDT
DTSTART:20150308T070000
END:DAYLIGHT
BEGIN:STANDARD
TZOFFSETFROM:-0400
TZOFFSETTO:-0500
TZNAME:EST
DTSTART:20151101T060000
END:STANDARD
BEGIN:DAYLIGHT
TZOFFSETFROM:-0500
TZOFFSETTO:-0400
TZNAME:EDT
DTSTART:20160313T070000
END:DAYLIGHT
BEGIN:STANDARD
TZOFFSETFROM:-0400
TZOFFSETTO:-0500
TZNAME:EST
DTSTART:20161106T060000
END:STANDARD
BEGIN:DAYLIGHT
TZOFFSETFROM:-0500
TZOFFSETTO:-0400
TZNAME:EDT
DTSTART:20170312T070000
END:DAYLIGHT
BEGIN:STANDARD
TZOFFSETFROM:-0400
TZOFFSETTO:-0500
TZNAME:EST
DTSTART:20171105T060000
END:STANDARD
END:VTIMEZONE
BEGIN:VEVENT
DTSTART;TZID=America/New_York:20160919T120000
DTEND;TZID=America/New_York:20160919T190000
DTSTAMP:20260425T110229
CREATED:20160831T011609Z
LAST-MODIFIED:20160831T011609Z
UID:10033677-1474286400-1474311600@thamesyc.org
SUMMARY:TYC Launch Schedule
DESCRIPTION:The TYC Launch is hailed on Channel 71.
URL:https://thamesyc.org/event/tyc-launch-schedule-57/
LOCATION:Thames Yacht Club\, 396 Pequot Avenue\, New London\, CT\, 06320\, United States
CATEGORIES:TYC Launch Schedule
GEO:41.3308391;-72.0946565
X-APPLE-STRUCTURED-LOCATION;VALUE=URI;X-ADDRESS=Thames Yacht Club 396 Pequot Avenue New London CT 06320 United States;X-APPLE-RADIUS=500;X-TITLE=396 Pequot Avenue:geo:-72.0946565,41.3308391
END:VEVENT
BEGIN:VEVENT
DTSTART;TZID=America/New_York:20160919T080000
DTEND;TZID=America/New_York:20160924T170000
DTSTAMP:20260425T110229
CREATED:20160731T202632Z
LAST-MODIFIED:20160731T202632Z
UID:10033807-1474272000-1474736400@thamesyc.org
SUMMARY:Block Island Mooring Reserved - S/V Ledgelight
DESCRIPTION:
URL:https://thamesyc.org/event/block-island-mooring-reserved-sv-ledgelight-3/
CATEGORIES:Block Island Mooring Reservation.
END:VEVENT
BEGIN:VEVENT
DTSTART;TZID=America/New_York:20160918T090000
DTEND;TZID=America/New_York:20160918T190000
DTSTAMP:20260425T110229
CREATED:20160831T011350Z
LAST-MODIFIED:20160831T011350Z
UID:10033675-1474189200-1474225200@thamesyc.org
SUMMARY:TYC Launch Schedule
DESCRIPTION:The TYC Launch is hailed on Channel 71.
URL:https://thamesyc.org/event/tyc-launch-schedule-56/2016-09-18/
LOCATION:Thames Yacht Club\, 396 Pequot Avenue\, New London\, CT\, 06320\, United States
CATEGORIES:TYC Launch Schedule
GEO:41.3308391;-72.0946565
X-APPLE-STRUCTURED-LOCATION;VALUE=URI;X-ADDRESS=Thames Yacht Club 396 Pequot Avenue New London CT 06320 United States;X-APPLE-RADIUS=500;X-TITLE=396 Pequot Avenue:geo:-72.0946565,41.3308391
END:VEVENT
BEGIN:VEVENT
DTSTART;TZID=America/New_York:20160917T090000
DTEND;TZID=America/New_York:20160917T190000
DTSTAMP:20260425T110229
CREATED:20160831T011350Z
LAST-MODIFIED:20160831T011350Z
UID:10033674-1474102800-1474138800@thamesyc.org
SUMMARY:TYC Launch Schedule
DESCRIPTION:The TYC Launch is hailed on Channel 71.
URL:https://thamesyc.org/event/tyc-launch-schedule-56/2016-09-17/
LOCATION:Thames Yacht Club\, 396 Pequot Avenue\, New London\, CT\, 06320\, United States
CATEGORIES:TYC Launch Schedule
GEO:41.3308391;-72.0946565
X-APPLE-STRUCTURED-LOCATION;VALUE=URI;X-ADDRESS=Thames Yacht Club 396 Pequot Avenue New London CT 06320 United States;X-APPLE-RADIUS=500;X-TITLE=396 Pequot Avenue:geo:-72.0946565,41.3308391
END:VEVENT
BEGIN:VEVENT
DTSTART;VALUE=DATE:20160917
DTEND;VALUE=DATE:20160920
DTSTAMP:20260425T110229
CREATED:20160221T202329Z
LAST-MODIFIED:20160221T202329Z
UID:10033696-1474070400-1474329599@thamesyc.org
SUMMARY:Mystic Seaport Cruise
DESCRIPTION:
URL:https://thamesyc.org/event/mystic-seaport-cruise-3/
CATEGORIES:Cruise Event
END:VEVENT
BEGIN:VEVENT
DTSTART;TZID=America/New_York:20160916T120000
DTEND;TZID=America/New_York:20160916T190000
DTSTAMP:20260425T110229
CREATED:20160831T011204Z
LAST-MODIFIED:20160831T011204Z
UID:10033672-1474027200-1474052400@thamesyc.org
SUMMARY:TYC Launch Schedule
DESCRIPTION:The TYC Launch is hailed on Channel 71.
URL:https://thamesyc.org/event/tyc-launch-schedule-55/
LOCATION:Thames Yacht Club\, 396 Pequot Avenue\, New London\, CT\, 06320\, United States
CATEGORIES:TYC Launch Schedule
GEO:41.3308391;-72.0946565
X-APPLE-STRUCTURED-LOCATION;VALUE=URI;X-ADDRESS=Thames Yacht Club 396 Pequot Avenue New London CT 06320 United States;X-APPLE-RADIUS=500;X-TITLE=396 Pequot Avenue:geo:-72.0946565,41.3308391
END:VEVENT
BEGIN:VEVENT
DTSTART;TZID=America/New_York:20160916T073000
DTEND;TZID=America/New_York:20160916T100000
DTSTAMP:20260425T110229
CREATED:20160831T011042Z
LAST-MODIFIED:20160831T011042Z
UID:10033670-1474011000-1474020000@thamesyc.org
SUMMARY:TYC Launch Schedule
DESCRIPTION:The TYC Launch is hailed on Channel 71.
URL:https://thamesyc.org/event/tyc-launch-schedule-54/
LOCATION:Thames Yacht Club\, 396 Pequot Avenue\, New London\, CT\, 06320\, United States
CATEGORIES:TYC Launch Schedule
GEO:41.3308391;-72.0946565
X-APPLE-STRUCTURED-LOCATION;VALUE=URI;X-ADDRESS=Thames Yacht Club 396 Pequot Avenue New London CT 06320 United States;X-APPLE-RADIUS=500;X-TITLE=396 Pequot Avenue:geo:-72.0946565,41.3308391
END:VEVENT
BEGIN:VEVENT
DTSTART;TZID=America/New_York:20160915T120000
DTEND;TZID=America/New_York:20160915T190000
DTSTAMP:20260425T110229
CREATED:20160831T010830Z
LAST-MODIFIED:20160831T010830Z
UID:10033668-1473940800-1473966000@thamesyc.org
SUMMARY:TYC Launch Schedule
DESCRIPTION:The TYC Launch is hailed on Channel 71.
URL:https://thamesyc.org/event/tyc-launch-schedule-53/2016-09-15/
LOCATION:Thames Yacht Club\, 396 Pequot Avenue\, New London\, CT\, 06320\, United States
CATEGORIES:TYC Launch Schedule
GEO:41.3308391;-72.0946565
X-APPLE-STRUCTURED-LOCATION;VALUE=URI;X-ADDRESS=Thames Yacht Club 396 Pequot Avenue New London CT 06320 United States;X-APPLE-RADIUS=500;X-TITLE=396 Pequot Avenue:geo:-72.0946565,41.3308391
END:VEVENT
BEGIN:VEVENT
DTSTART;TZID=America/New_York:20160914T120000
DTEND;TZID=America/New_York:20160914T190000
DTSTAMP:20260425T110229
CREATED:20160831T010830Z
LAST-MODIFIED:20160831T010830Z
UID:10033667-1473854400-1473879600@thamesyc.org
SUMMARY:TYC Launch Schedule
DESCRIPTION:The TYC Launch is hailed on Channel 71.
URL:https://thamesyc.org/event/tyc-launch-schedule-53/2016-09-14/
LOCATION:Thames Yacht Club\, 396 Pequot Avenue\, New London\, CT\, 06320\, United States
CATEGORIES:TYC Launch Schedule
GEO:41.3308391;-72.0946565
X-APPLE-STRUCTURED-LOCATION;VALUE=URI;X-ADDRESS=Thames Yacht Club 396 Pequot Avenue New London CT 06320 United States;X-APPLE-RADIUS=500;X-TITLE=396 Pequot Avenue:geo:-72.0946565,41.3308391
END:VEVENT
BEGIN:VEVENT
DTSTART;TZID=America/New_York:20160911T105500
DTEND;TZID=America/New_York:20160911T170000
DTSTAMP:20260425T110229
CREATED:20160311T013156Z
LAST-MODIFIED:20160316T223026Z
UID:10033744-1473591300-1473613200@thamesyc.org
SUMMARY:Commodore's Trophy Race
DESCRIPTION:
URL:https://thamesyc.org/event/commodores-trophy-race-2/
CATEGORIES:Racing
END:VEVENT
BEGIN:VEVENT
DTSTART;TZID=America/New_York:20160911T090000
DTEND;TZID=America/New_York:20160911T190000
DTSTAMP:20260425T110229
CREATED:20160831T010433Z
LAST-MODIFIED:20160831T010433Z
UID:10033665-1473584400-1473620400@thamesyc.org
SUMMARY:TYC Launch Schedule
DESCRIPTION:The TYC Launch is hailed on Channel 71.
URL:https://thamesyc.org/event/tyc-launch-schedule-52/2016-09-11/
LOCATION:Thames Yacht Club\, 396 Pequot Avenue\, New London\, CT\, 06320\, United States
CATEGORIES:TYC Launch Schedule
GEO:41.3308391;-72.0946565
X-APPLE-STRUCTURED-LOCATION;VALUE=URI;X-ADDRESS=Thames Yacht Club 396 Pequot Avenue New London CT 06320 United States;X-APPLE-RADIUS=500;X-TITLE=396 Pequot Avenue:geo:-72.0946565,41.3308391
END:VEVENT
BEGIN:VEVENT
DTSTART;TZID=America/New_York:20160910T090000
DTEND;TZID=America/New_York:20160910T190000
DTSTAMP:20260425T110229
CREATED:20160831T010433Z
LAST-MODIFIED:20160831T010433Z
UID:10033664-1473498000-1473534000@thamesyc.org
SUMMARY:TYC Launch Schedule
DESCRIPTION:The TYC Launch is hailed on Channel 71.
URL:https://thamesyc.org/event/tyc-launch-schedule-52/2016-09-10/
LOCATION:Thames Yacht Club\, 396 Pequot Avenue\, New London\, CT\, 06320\, United States
CATEGORIES:TYC Launch Schedule
GEO:41.3308391;-72.0946565
X-APPLE-STRUCTURED-LOCATION;VALUE=URI;X-ADDRESS=Thames Yacht Club 396 Pequot Avenue New London CT 06320 United States;X-APPLE-RADIUS=500;X-TITLE=396 Pequot Avenue:geo:-72.0946565,41.3308391
END:VEVENT
BEGIN:VEVENT
DTSTART;TZID=America/New_York:20160909T120000
DTEND;TZID=America/New_York:20160909T190000
DTSTAMP:20260425T110229
CREATED:20160831T010155Z
LAST-MODIFIED:20160831T010155Z
UID:10033662-1473422400-1473447600@thamesyc.org
SUMMARY:TYC Launch Schedule
DESCRIPTION:The TYC Launch is hailed on Channel 71
URL:https://thamesyc.org/event/tyc-launch-schedule-51/2016-09-09/
LOCATION:Thames Yacht Club\, 396 Pequot Avenue\, New London\, CT\, 06320\, United States
CATEGORIES:TYC Launch Schedule
GEO:41.3308391;-72.0946565
X-APPLE-STRUCTURED-LOCATION;VALUE=URI;X-ADDRESS=Thames Yacht Club 396 Pequot Avenue New London CT 06320 United States;X-APPLE-RADIUS=500;X-TITLE=396 Pequot Avenue:geo:-72.0946565,41.3308391
END:VEVENT
BEGIN:VEVENT
DTSTART;TZID=America/New_York:20160908T120000
DTEND;TZID=America/New_York:20160908T190000
DTSTAMP:20260425T110229
CREATED:20160831T010155Z
LAST-MODIFIED:20160831T010155Z
UID:10033661-1473336000-1473361200@thamesyc.org
SUMMARY:TYC Launch Schedule
DESCRIPTION:The TYC Launch is hailed on Channel 71
URL:https://thamesyc.org/event/tyc-launch-schedule-51/2016-09-08/
LOCATION:Thames Yacht Club\, 396 Pequot Avenue\, New London\, CT\, 06320\, United States
CATEGORIES:TYC Launch Schedule
GEO:41.3308391;-72.0946565
X-APPLE-STRUCTURED-LOCATION;VALUE=URI;X-ADDRESS=Thames Yacht Club 396 Pequot Avenue New London CT 06320 United States;X-APPLE-RADIUS=500;X-TITLE=396 Pequot Avenue:geo:-72.0946565,41.3308391
END:VEVENT
BEGIN:VEVENT
DTSTART;TZID=America/New_York:20160907T120000
DTEND;TZID=America/New_York:20160907T190000
DTSTAMP:20260425T110229
CREATED:20160831T010155Z
LAST-MODIFIED:20160831T010155Z
UID:10033660-1473249600-1473274800@thamesyc.org
SUMMARY:TYC Launch Schedule
DESCRIPTION:The TYC Launch is hailed on Channel 71
URL:https://thamesyc.org/event/tyc-launch-schedule-51/2016-09-07/
LOCATION:Thames Yacht Club\, 396 Pequot Avenue\, New London\, CT\, 06320\, United States
CATEGORIES:TYC Launch Schedule
GEO:41.3308391;-72.0946565
X-APPLE-STRUCTURED-LOCATION;VALUE=URI;X-ADDRESS=Thames Yacht Club 396 Pequot Avenue New London CT 06320 United States;X-APPLE-RADIUS=500;X-TITLE=396 Pequot Avenue:geo:-72.0946565,41.3308391
END:VEVENT
BEGIN:VEVENT
DTSTART;TZID=America/New_York:20160905T090000
DTEND;TZID=America/New_York:20160905T200000
DTSTAMP:20260425T110229
CREATED:20160831T003823Z
LAST-MODIFIED:20160831T003823Z
UID:10033658-1473066000-1473105600@thamesyc.org
SUMMARY:TYC Launch Schedule
DESCRIPTION:The TYC Launch is hailed on channel 71.
URL:https://thamesyc.org/event/tyc-launch-schedule-50/2016-09-05/
LOCATION:Thames Yacht Club\, 396 Pequot Avenue\, New London\, CT\, 06320\, United States
CATEGORIES:TYC Launch Schedule
GEO:41.3308391;-72.0946565
X-APPLE-STRUCTURED-LOCATION;VALUE=URI;X-ADDRESS=Thames Yacht Club 396 Pequot Avenue New London CT 06320 United States;X-APPLE-RADIUS=500;X-TITLE=396 Pequot Avenue:geo:-72.0946565,41.3308391
END:VEVENT
BEGIN:VEVENT
DTSTART;TZID=America/New_York:20160904T090000
DTEND;TZID=America/New_York:20160904T200000
DTSTAMP:20260425T110229
CREATED:20160831T003823Z
LAST-MODIFIED:20160831T003823Z
UID:10033657-1472979600-1473019200@thamesyc.org
SUMMARY:TYC Launch Schedule
DESCRIPTION:The TYC Launch is hailed on channel 71.
URL:https://thamesyc.org/event/tyc-launch-schedule-50/2016-09-04/
LOCATION:Thames Yacht Club\, 396 Pequot Avenue\, New London\, CT\, 06320\, United States
CATEGORIES:TYC Launch Schedule
GEO:41.3308391;-72.0946565
X-APPLE-STRUCTURED-LOCATION;VALUE=URI;X-ADDRESS=Thames Yacht Club 396 Pequot Avenue New London CT 06320 United States;X-APPLE-RADIUS=500;X-TITLE=396 Pequot Avenue:geo:-72.0946565,41.3308391
END:VEVENT
BEGIN:VEVENT
DTSTART;TZID=America/New_York:20160903T073000
DTEND;TZID=America/New_York:20160903T200000
DTSTAMP:20260425T110229
CREATED:20160831T003431Z
LAST-MODIFIED:20160831T003431Z
UID:10033654-1472887800-1472932800@thamesyc.org
SUMMARY:TYC Launch Schedule
DESCRIPTION:The TYC Launch can be hailed on Channel 71
URL:https://thamesyc.org/event/tyc-launch-schedule-49/
LOCATION:Thames Yacht Club\, 396 Pequot Avenue\, New London\, CT\, 06320\, United States
CATEGORIES:TYC Launch Schedule
GEO:41.3308391;-72.0946565
X-APPLE-STRUCTURED-LOCATION;VALUE=URI;X-ADDRESS=Thames Yacht Club 396 Pequot Avenue New London CT 06320 United States;X-APPLE-RADIUS=500;X-TITLE=396 Pequot Avenue:geo:-72.0946565,41.3308391
END:VEVENT
BEGIN:VEVENT
DTSTART;TZID=America/New_York:20160902T090000
DTEND;TZID=America/New_York:20160902T200000
DTSTAMP:20260425T110229
CREATED:20160831T003022Z
LAST-MODIFIED:20160831T003022Z
UID:10033820-1472806800-1472846400@thamesyc.org
SUMMARY:TYC Launch Schedule
DESCRIPTION:TYC Launch can be hailed on Channel 71.
URL:https://thamesyc.org/event/tyc-launch-schedule-26/2016-09-02/
LOCATION:Thames Yacht Club\, 396 Pequot Avenue\, New London\, CT\, 06320\, United States
CATEGORIES:TYC Launch Schedule
GEO:41.3308391;-72.0946565
X-APPLE-STRUCTURED-LOCATION;VALUE=URI;X-ADDRESS=Thames Yacht Club 396 Pequot Avenue New London CT 06320 United States;X-APPLE-RADIUS=500;X-TITLE=396 Pequot Avenue:geo:-72.0946565,41.3308391
END:VEVENT
BEGIN:VEVENT
DTSTART;VALUE=DATE:20160902
DTEND;VALUE=DATE:20160904
DTSTAMP:20260425T110229
CREATED:20160612T233943Z
LAST-MODIFIED:20160612T233943Z
UID:10033789-1472774400-1472947199@thamesyc.org
SUMMARY:Block Island Mooring Reserved for S/V Pallas Cat
DESCRIPTION:
URL:https://thamesyc.org/event/block-island-mooring-reserved-sv-pallas-cat/
CATEGORIES:Block Island Mooring Reservation.
END:VEVENT
BEGIN:VEVENT
DTSTART;TZID=America/New_York:20160901T180000
DTEND;TZID=America/New_York:20160901T200000
DTSTAMP:20260425T110229
CREATED:20160311T011832Z
LAST-MODIFIED:20160316T222445Z
UID:10033724-1472752800-1472760000@thamesyc.org
SUMMARY:Force 5 Summer Series Racing
DESCRIPTION:
URL:https://thamesyc.org/event/force-5-summer-series-racing/2016-09-01/
CATEGORIES:Racing
END:VEVENT
BEGIN:VEVENT
DTSTART;TZID=America/New_York:20160901T090000
DTEND;TZID=America/New_York:20160901T200000
DTSTAMP:20260425T110229
CREATED:20160831T003022Z
LAST-MODIFIED:20160831T003022Z
UID:10033819-1472720400-1472760000@thamesyc.org
SUMMARY:TYC Launch Schedule
DESCRIPTION:TYC Launch can be hailed on Channel 71.
URL:https://thamesyc.org/event/tyc-launch-schedule-26/2016-09-01/
LOCATION:Thames Yacht Club\, 396 Pequot Avenue\, New London\, CT\, 06320\, United States
CATEGORIES:TYC Launch Schedule
GEO:41.3308391;-72.0946565
X-APPLE-STRUCTURED-LOCATION;VALUE=URI;X-ADDRESS=Thames Yacht Club 396 Pequot Avenue New London CT 06320 United States;X-APPLE-RADIUS=500;X-TITLE=396 Pequot Avenue:geo:-72.0946565,41.3308391
END:VEVENT
BEGIN:VEVENT
DTSTART;TZID=America/New_York:20160831T180000
DTEND;TZID=America/New_York:20160831T200000
DTSTAMP:20260425T110229
CREATED:20160311T011555Z
LAST-MODIFIED:20160316T221151Z
UID:10033710-1472666400-1472673600@thamesyc.org
SUMMARY:Wednesday PHRF & Ensign Summer Series Racing
DESCRIPTION:
URL:https://thamesyc.org/event/wednesday-phrf-ensign-summer-series-racing/2016-08-31/
CATEGORIES:Racing
END:VEVENT
BEGIN:VEVENT
DTSTART;TZID=America/New_York:20160826T203000
DTEND;TZID=America/New_York:20160826T230000
DTSTAMP:20260425T110229
CREATED:20160814T234602Z
LAST-MODIFIED:20160814T234602Z
UID:10033818-1472243400-1472252400@thamesyc.org
SUMMARY:Movie on the Beach - "The Bee Movie"
DESCRIPTION:
URL:https://thamesyc.org/event/movie-beach-bee-movie/
CATEGORIES:Club Wide Event
END:VEVENT
BEGIN:VEVENT
DTSTART;TZID=America/New_York:20160825T180000
DTEND;TZID=America/New_York:20160825T200000
DTSTAMP:20260425T110229
CREATED:20160311T011832Z
LAST-MODIFIED:20160316T222445Z
UID:10033723-1472148000-1472155200@thamesyc.org
SUMMARY:Force 5 Summer Series Racing
DESCRIPTION:
URL:https://thamesyc.org/event/force-5-summer-series-racing/2016-08-25/
CATEGORIES:Racing
END:VEVENT
BEGIN:VEVENT
DTSTART;TZID=America/New_York:20160824T180000
DTEND;TZID=America/New_York:20160824T200000
DTSTAMP:20260425T110229
CREATED:20160311T011555Z
LAST-MODIFIED:20160316T221151Z
UID:10033709-1472061600-1472068800@thamesyc.org
SUMMARY:Wednesday PHRF & Ensign Summer Series Racing
DESCRIPTION:
URL:https://thamesyc.org/event/wednesday-phrf-ensign-summer-series-racing/2016-08-24/
CATEGORIES:Racing
END:VEVENT
BEGIN:VEVENT
DTSTART;VALUE=DATE:20160820
DTEND;VALUE=DATE:20160828
DTSTAMP:20260425T110229
CREATED:20160221T201428Z
LAST-MODIFIED:20160222T115205Z
UID:10033695-1471651200-1472342399@thamesyc.org
SUMMARY:Long Island\, NY Cruise
DESCRIPTION:
URL:https://thamesyc.org/event/long-island-cruise/
CATEGORIES:Cruise Event
END:VEVENT
BEGIN:VEVENT
DTSTART;TZID=America/New_York:20160819T200000
DTEND;TZID=America/New_York:20160819T230000
DTSTAMP:20260425T110229
CREATED:20160814T234424Z
LAST-MODIFIED:20160814T234710Z
UID:10033817-1471636800-1471647600@thamesyc.org
SUMMARY:Movie on Beach - "Ghostbusters"
DESCRIPTION:
URL:https://thamesyc.org/event/movie-beach-ghostbusters/
CATEGORIES:Club Wide Event
END:VEVENT
BEGIN:VEVENT
DTSTART;TZID=America/New_York:20160818T180000
DTEND;TZID=America/New_York:20160818T200000
DTSTAMP:20260425T110229
CREATED:20160311T011832Z
LAST-MODIFIED:20160316T222445Z
UID:10033722-1471543200-1471550400@thamesyc.org
SUMMARY:Force 5 Summer Series Racing
DESCRIPTION:
URL:https://thamesyc.org/event/force-5-summer-series-racing/2016-08-18/
CATEGORIES:Racing
END:VEVENT
BEGIN:VEVENT
DTSTART;TZID=America/New_York:20160817T180000
DTEND;TZID=America/New_York:20160817T200000
DTSTAMP:20260425T110229
CREATED:20160311T011555Z
LAST-MODIFIED:20160316T221151Z
UID:10033708-1471456800-1471464000@thamesyc.org
SUMMARY:Wednesday PHRF & Ensign Summer Series Racing
DESCRIPTION:
URL:https://thamesyc.org/event/wednesday-phrf-ensign-summer-series-racing/2016-08-17/
CATEGORIES:Racing
END:VEVENT
END:VCALENDAR