BEGIN:VCALENDAR
VERSION:2.0
PRODID:-//Thames Yacht Club - ECPv6.15.17//NONSGML v1.0//EN
CALSCALE:GREGORIAN
METHOD:PUBLISH
X-WR-CALNAME:Thames Yacht Club
X-ORIGINAL-URL:https://thamesyc.org
X-WR-CALDESC:Events for Thames Yacht Club
REFRESH-INTERVAL;VALUE=DURATION:PT1H
X-Robots-Tag:noindex
X-PUBLISHED-TTL:PT1H
BEGIN:VTIMEZONE
TZID:America/New_York
BEGIN:DAYLIGHT
TZOFFSETFROM:-0500
TZOFFSETTO:-0400
TZNAME:EDT
DTSTART:20240310T070000
END:DAYLIGHT
BEGIN:STANDARD
TZOFFSETFROM:-0400
TZOFFSETTO:-0500
TZNAME:EST
DTSTART:20241103T060000
END:STANDARD
BEGIN:DAYLIGHT
TZOFFSETFROM:-0500
TZOFFSETTO:-0400
TZNAME:EDT
DTSTART:20250309T070000
END:DAYLIGHT
BEGIN:STANDARD
TZOFFSETFROM:-0400
TZOFFSETTO:-0500
TZNAME:EST
DTSTART:20251102T060000
END:STANDARD
BEGIN:DAYLIGHT
TZOFFSETFROM:-0500
TZOFFSETTO:-0400
TZNAME:EDT
DTSTART:20260308T070000
END:DAYLIGHT
BEGIN:STANDARD
TZOFFSETFROM:-0400
TZOFFSETTO:-0500
TZNAME:EST
DTSTART:20261101T060000
END:STANDARD
END:VTIMEZONE
BEGIN:VEVENT
DTSTART;TZID=America/New_York:20251014T190000
DTEND;TZID=America/New_York:20251014T210000
DTSTAMP:20260424T093101
CREATED:20250127T012755Z
LAST-MODIFIED:20250127T012755Z
UID:10039226-1760468400-1760475600@thamesyc.org
SUMMARY:Budget & LRP Discussion
DESCRIPTION:
URL:https://thamesyc.org/event/budget-lrp-discussion-2/
CATEGORIES:Executive Committee Mtg
END:VEVENT
BEGIN:VEVENT
DTSTART;TZID=America/New_York:20251014T190000
DTEND;TZID=America/New_York:20251014T210000
DTSTAMP:20260424T093101
CREATED:20250127T004843Z
LAST-MODIFIED:20250127T004843Z
UID:10039215-1760468400-1760475600@thamesyc.org
SUMMARY:EXECUTIVE COMMITTEE MEETING
DESCRIPTION:
URL:https://thamesyc.org/event/executive-committee-meeting-34/
CATEGORIES:Executive Committee Mtg
END:VEVENT
BEGIN:VEVENT
DTSTART;TZID=America/New_York:20251013T100000
DTEND;TZID=America/New_York:20251013T180000
DTSTAMP:20260424T093101
CREATED:20250921T211500Z
LAST-MODIFIED:20250921T211500Z
UID:10039465-1760349600-1760378400@thamesyc.org
SUMMARY:Launch Hours
DESCRIPTION:
URL:https://thamesyc.org/event/launch-hours-60/
CATEGORIES:TYC Launch Schedule
END:VEVENT
BEGIN:VEVENT
DTSTART;TZID=America/New_York:20251012T100000
DTEND;TZID=America/New_York:20251012T180000
DTSTAMP:20260424T093101
CREATED:20250921T211321Z
LAST-MODIFIED:20250921T211335Z
UID:10039464-1760263200-1760292000@thamesyc.org
SUMMARY:Launch Hours
DESCRIPTION:
URL:https://thamesyc.org/event/launch-hours-59/
CATEGORIES:TYC Launch Schedule,Work Party Event
END:VEVENT
BEGIN:VEVENT
DTSTART;VALUE=DATE:20251012
DTEND;VALUE=DATE:20251013
DTSTAMP:20260424T093101
CREATED:20250127T230414Z
LAST-MODIFIED:20250127T230414Z
UID:10039293-1760227200-1760313599@thamesyc.org
SUMMARY:SUNDAY AFTERNOON CHOWDER SERIES
DESCRIPTION:
URL:https://thamesyc.org/event/sunday-afternoon-chowder-series-4/
CATEGORIES:Racing
END:VEVENT
BEGIN:VEVENT
DTSTART;TZID=America/New_York:20251011T100000
DTEND;TZID=America/New_York:20251011T180000
DTSTAMP:20260424T093101
CREATED:20250921T211247Z
LAST-MODIFIED:20250921T211247Z
UID:10039463-1760176800-1760205600@thamesyc.org
SUMMARY:Launch Hours
DESCRIPTION:
URL:https://thamesyc.org/event/launch-hours-58/
CATEGORIES:TYC Launch Schedule
END:VEVENT
BEGIN:VEVENT
DTSTART;VALUE=DATE:20251007
DTEND;VALUE=DATE:20251008
DTSTAMP:20260424T093101
CREATED:20250127T013328Z
LAST-MODIFIED:20250127T013328Z
UID:10039229-1759795200-1759881599@thamesyc.org
SUMMARY:Deadline to Email Candidates to General Membership
DESCRIPTION:
URL:https://thamesyc.org/event/deadline-to-email-candidates-to-general-membership/
CATEGORIES:Club Wide Event
END:VEVENT
BEGIN:VEVENT
DTSTART;TZID=America/New_York:20251005T100000
DTEND;TZID=America/New_York:20251005T180000
DTSTAMP:20260424T093101
CREATED:20250921T211122Z
LAST-MODIFIED:20250921T211122Z
UID:10039462-1759658400-1759687200@thamesyc.org
SUMMARY:Launch Hours
DESCRIPTION:
URL:https://thamesyc.org/event/launch-hours-57/
CATEGORIES:TYC Launch Schedule
END:VEVENT
BEGIN:VEVENT
DTSTART;VALUE=DATE:20251005
DTEND;VALUE=DATE:20251006
DTSTAMP:20260424T093101
CREATED:20250127T230334Z
LAST-MODIFIED:20250127T230334Z
UID:10039292-1759622400-1759708799@thamesyc.org
SUMMARY:SUNDAY AFTERNOON CHOWDER SERIES
DESCRIPTION:
URL:https://thamesyc.org/event/sunday-afternoon-chowder-series-3/
CATEGORIES:Racing
END:VEVENT
BEGIN:VEVENT
DTSTART;TZID=America/New_York:20251004T100000
DTEND;TZID=America/New_York:20251004T180000
DTSTAMP:20260424T093101
CREATED:20250921T211003Z
LAST-MODIFIED:20250921T211003Z
UID:10039461-1759572000-1759600800@thamesyc.org
SUMMARY:Launch Hours
DESCRIPTION:
URL:https://thamesyc.org/event/launch-hours-56/
CATEGORIES:TYC Launch Schedule
END:VEVENT
BEGIN:VEVENT
DTSTART;VALUE=DATE:20251001
DTEND;VALUE=DATE:20251002
DTSTAMP:20260424T093101
CREATED:20250127T013203Z
LAST-MODIFIED:20250127T013203Z
UID:10039228-1759276800-1759363199@thamesyc.org
SUMMARY:Deadline to Email Secretary Candidates for Nominations
DESCRIPTION:
URL:https://thamesyc.org/event/deadline-to-email-secretary-candidates-for-nominations/
CATEGORIES:Club Wide Event
END:VEVENT
BEGIN:VEVENT
DTSTART;TZID=America/New_York:20250928T110000
DTEND;TZID=America/New_York:20250928T190000
DTSTAMP:20260424T093101
CREATED:20250917T174512Z
LAST-MODIFIED:20250917T174512Z
UID:10039460-1759057200-1759086000@thamesyc.org
SUMMARY:Launch Hours
DESCRIPTION:
URL:https://thamesyc.org/event/launch-hours-55/
CATEGORIES:TYC Launch Schedule
END:VEVENT
BEGIN:VEVENT
DTSTART;VALUE=DATE:20250928
DTEND;VALUE=DATE:20250929
DTSTAMP:20260424T093101
CREATED:20250127T230227Z
LAST-MODIFIED:20250127T230227Z
UID:10039291-1759017600-1759103999@thamesyc.org
SUMMARY:SUNDAY AFTERNOON CHOWDER SERIES
DESCRIPTION:
URL:https://thamesyc.org/event/sunday-afternoon-chowder-series-2/
CATEGORIES:Racing
END:VEVENT
BEGIN:VEVENT
DTSTART;TZID=America/New_York:20250927T110000
DTEND;TZID=America/New_York:20250927T190000
DTSTAMP:20260424T093101
CREATED:20250917T174155Z
LAST-MODIFIED:20250917T174155Z
UID:10039459-1758970800-1758999600@thamesyc.org
SUMMARY:Launch Hours
DESCRIPTION:
URL:https://thamesyc.org/event/launch-hours-54/
CATEGORIES:TYC Launch Schedule
END:VEVENT
BEGIN:VEVENT
DTSTART;TZID=America/New_York:20250926T110000
DTEND;TZID=America/New_York:20250926T190000
DTSTAMP:20260424T093101
CREATED:20250917T174107Z
LAST-MODIFIED:20250917T174107Z
UID:10039458-1758884400-1758913200@thamesyc.org
SUMMARY:Launch Hours
DESCRIPTION:
URL:https://thamesyc.org/event/launch-hours-53/
CATEGORIES:TYC Launch Schedule
END:VEVENT
BEGIN:VEVENT
DTSTART;TZID=America/New_York:20250925T110000
DTEND;TZID=America/New_York:20250925T190000
DTSTAMP:20260424T093101
CREATED:20250917T174013Z
LAST-MODIFIED:20250917T174013Z
UID:10039457-1758798000-1758826800@thamesyc.org
SUMMARY:Launch Hours
DESCRIPTION:
URL:https://thamesyc.org/event/launch-hours-52/
CATEGORIES:TYC Launch Schedule
END:VEVENT
BEGIN:VEVENT
DTSTART;TZID=America/New_York:20250924T110000
DTEND;TZID=America/New_York:20250924T190000
DTSTAMP:20260424T093101
CREATED:20250917T173904Z
LAST-MODIFIED:20250917T173904Z
UID:10039456-1758711600-1758740400@thamesyc.org
SUMMARY:Launch Hours
DESCRIPTION:
URL:https://thamesyc.org/event/launch-hours-51/
CATEGORIES:TYC Launch Schedule
END:VEVENT
BEGIN:VEVENT
DTSTART;TZID=America/New_York:20250921T100000
DTEND;TZID=America/New_York:20250921T200000
DTSTAMP:20260424T093101
CREATED:20250917T173752Z
LAST-MODIFIED:20250917T173752Z
UID:10039455-1758448800-1758484800@thamesyc.org
SUMMARY:Launch Hours
DESCRIPTION:
URL:https://thamesyc.org/event/launch-hours-50/
CATEGORIES:TYC Launch Schedule
END:VEVENT
BEGIN:VEVENT
DTSTART;VALUE=DATE:20250921
DTEND;VALUE=DATE:20250922
DTSTAMP:20260424T093101
CREATED:20250127T230138Z
LAST-MODIFIED:20250127T230138Z
UID:10039290-1758412800-1758499199@thamesyc.org
SUMMARY:SUNDAY AFTERNOON CHOWDER SERIES
DESCRIPTION:
URL:https://thamesyc.org/event/sunday-afternoon-chowder-series/
CATEGORIES:Racing
END:VEVENT
BEGIN:VEVENT
DTSTART;TZID=America/New_York:20250920T100000
DTEND;TZID=America/New_York:20250920T200000
DTSTAMP:20260424T093101
CREATED:20250917T173700Z
LAST-MODIFIED:20250917T173700Z
UID:10039454-1758362400-1758398400@thamesyc.org
SUMMARY:Launch Hours
DESCRIPTION:
URL:https://thamesyc.org/event/launch-hours-49/
CATEGORIES:TYC Launch Schedule
END:VEVENT
BEGIN:VEVENT
DTSTART;TZID=America/New_York:20250919T180000
DTEND;TZID=America/New_York:20250919T210000
DTSTAMP:20260424T093101
CREATED:20250526T234506Z
LAST-MODIFIED:20250526T234506Z
UID:10039361-1758304800-1758315600@thamesyc.org
SUMMARY:Club Rental - 2nd Floor - Ed Roland
DESCRIPTION:USCG Academy Homecoming Party – 20 to 30 Attendees
URL:https://thamesyc.org/event/club-rental-2nd-floor-ed-roland/
CATEGORIES:Facility Rental
END:VEVENT
BEGIN:VEVENT
DTSTART;TZID=America/New_York:20250919T110000
DTEND;TZID=America/New_York:20250919T190000
DTSTAMP:20260424T093101
CREATED:20250917T173559Z
LAST-MODIFIED:20250917T173559Z
UID:10039453-1758279600-1758308400@thamesyc.org
SUMMARY:Launch Hours
DESCRIPTION:
URL:https://thamesyc.org/event/launch-hours-48/
CATEGORIES:TYC Launch Schedule
END:VEVENT
BEGIN:VEVENT
DTSTART;TZID=America/New_York:20250918T110000
DTEND;TZID=America/New_York:20250918T190000
DTSTAMP:20260424T093101
CREATED:20250917T173421Z
LAST-MODIFIED:20250917T173421Z
UID:10039452-1758193200-1758222000@thamesyc.org
SUMMARY:Launch Hours
DESCRIPTION:
URL:https://thamesyc.org/event/launch-hours-47/
CATEGORIES:TYC Launch Schedule
END:VEVENT
BEGIN:VEVENT
DTSTART;TZID=America/New_York:20250917T110000
DTEND;TZID=America/New_York:20250917T190000
DTSTAMP:20260424T093101
CREATED:20250917T172356Z
LAST-MODIFIED:20250917T172356Z
UID:10039450-1758106800-1758135600@thamesyc.org
SUMMARY:Launch Hours
DESCRIPTION:
URL:https://thamesyc.org/event/launch-hours-46/
CATEGORIES:TYC Launch Schedule
END:VEVENT
BEGIN:VEVENT
DTSTART;VALUE=DATE:20250917
DTEND;VALUE=DATE:20250919
DTSTAMP:20260424T093101
CREATED:20250901T151218Z
LAST-MODIFIED:20250901T151218Z
UID:10039424-1758067200-1758239999@thamesyc.org
SUMMARY:BL Mooring - S/V Aries
DESCRIPTION:
URL:https://thamesyc.org/event/bl-mooring-s-v-aries/
CATEGORIES:Block Island Mooring Reservation.
END:VEVENT
BEGIN:VEVENT
DTSTART;TZID=America/New_York:20250916T190000
DTEND;TZID=America/New_York:20250916T210000
DTSTAMP:20260424T093101
CREATED:20250127T012651Z
LAST-MODIFIED:20250127T012651Z
UID:10039225-1758049200-1758056400@thamesyc.org
SUMMARY:Budget & LRP Discussion
DESCRIPTION:
URL:https://thamesyc.org/event/budget-lrp-discussion/
CATEGORIES:Executive Committee Mtg
END:VEVENT
BEGIN:VEVENT
DTSTART;TZID=America/New_York:20250916T190000
DTEND;TZID=America/New_York:20250916T210000
DTSTAMP:20260424T093101
CREATED:20250127T004727Z
LAST-MODIFIED:20250127T004727Z
UID:10039214-1758049200-1758056400@thamesyc.org
SUMMARY:EXECUTIVE COMMITTEE MEETING
DESCRIPTION:
URL:https://thamesyc.org/event/executive-committee-meeting-33/
CATEGORIES:Executive Committee Mtg
END:VEVENT
BEGIN:VEVENT
DTSTART;TZID=America/New_York:20250914T100000
DTEND;TZID=America/New_York:20250914T200000
DTSTAMP:20260424T093101
CREATED:20250917T162448Z
LAST-MODIFIED:20250917T162448Z
UID:10039438-1757844000-1757880000@thamesyc.org
SUMMARY:Launch Hours
DESCRIPTION:
URL:https://thamesyc.org/event/launch-hours-45/
CATEGORIES:TYC Launch Schedule
END:VEVENT
BEGIN:VEVENT
DTSTART;TZID=America/New_York:20250913T100000
DTEND;TZID=America/New_York:20250913T200000
DTSTAMP:20260424T093101
CREATED:20250917T162358Z
LAST-MODIFIED:20250917T162358Z
UID:10039437-1757757600-1757793600@thamesyc.org
SUMMARY:Launch Hours
DESCRIPTION:
URL:https://thamesyc.org/event/launch-hours-44/
CATEGORIES:TYC Launch Schedule
END:VEVENT
BEGIN:VEVENT
DTSTART;TZID=America/New_York:20250912T070000
DTEND;TZID=America/New_York:20250912T190000
DTSTAMP:20260424T093101
CREATED:20250917T162317Z
LAST-MODIFIED:20250917T162317Z
UID:10039436-1757660400-1757703600@thamesyc.org
SUMMARY:Launch Hours
DESCRIPTION:
URL:https://thamesyc.org/event/launch-hours-43/
CATEGORIES:TYC Launch Schedule
END:VEVENT
END:VCALENDAR