BEGIN:VCALENDAR
VERSION:2.0
PRODID:-//Thames Yacht Club - ECPv6.15.20//NONSGML v1.0//EN
CALSCALE:GREGORIAN
METHOD:PUBLISH
X-WR-CALNAME:Thames Yacht Club
X-ORIGINAL-URL:https://thamesyc.org
X-WR-CALDESC:Events for Thames Yacht Club
REFRESH-INTERVAL;VALUE=DURATION:PT1H
X-Robots-Tag:noindex
X-PUBLISHED-TTL:PT1H
BEGIN:VTIMEZONE
TZID:America/New_York
BEGIN:DAYLIGHT
TZOFFSETFROM:-0500
TZOFFSETTO:-0400
TZNAME:EDT
DTSTART:20230312T070000
END:DAYLIGHT
BEGIN:STANDARD
TZOFFSETFROM:-0400
TZOFFSETTO:-0500
TZNAME:EST
DTSTART:20231105T060000
END:STANDARD
BEGIN:DAYLIGHT
TZOFFSETFROM:-0500
TZOFFSETTO:-0400
TZNAME:EDT
DTSTART:20240310T070000
END:DAYLIGHT
BEGIN:STANDARD
TZOFFSETFROM:-0400
TZOFFSETTO:-0500
TZNAME:EST
DTSTART:20241103T060000
END:STANDARD
BEGIN:DAYLIGHT
TZOFFSETFROM:-0500
TZOFFSETTO:-0400
TZNAME:EDT
DTSTART:20250309T070000
END:DAYLIGHT
BEGIN:STANDARD
TZOFFSETFROM:-0400
TZOFFSETTO:-0500
TZNAME:EST
DTSTART:20251102T060000
END:STANDARD
END:VTIMEZONE
BEGIN:VEVENT
DTSTART;TZID=America/New_York:20240828T170000
DTEND;TZID=America/New_York:20240828T200000
DTSTAMP:20260425T113005
CREATED:20231220T214406Z
LAST-MODIFIED:20231220T214406Z
UID:10036698-1724864400-1724875200@thamesyc.org
SUMMARY:Wednesday Night Summer Race Series
DESCRIPTION:
URL:https://thamesyc.org/event/wednesday-night-summer-race-series/2024-08-28/
CATEGORIES:Racing
END:VEVENT
BEGIN:VEVENT
DTSTART;TZID=America/New_York:20240826T193000
DTEND;TZID=America/New_York:20240826T213000
DTSTAMP:20260425T113005
CREATED:20240602T004022Z
LAST-MODIFIED:20240602T004022Z
UID:10038371-1724700600-1724707800@thamesyc.org
SUMMARY:Quiz Night - 2nd Floor
DESCRIPTION:
URL:https://thamesyc.org/event/quiz-night-2nd-floor-3/
CATEGORIES:Club Wide Event
END:VEVENT
BEGIN:VEVENT
DTSTART;VALUE=DATE:20240825
DTEND;VALUE=DATE:20240831
DTSTAMP:20260425T113005
CREATED:20240715T214331Z
LAST-MODIFIED:20240715T214331Z
UID:10038820-1724544000-1725062399@thamesyc.org
SUMMARY:Block Island Mooring Reserved for S/V Ledgelight
DESCRIPTION:
URL:https://thamesyc.org/event/block-island-mooring-reserved-for-s-v-ledgelight-6/
CATEGORIES:Block Island Mooring Reservation.
END:VEVENT
BEGIN:VEVENT
DTSTART;TZID=America/New_York:20240823T204500
DTEND;TZID=America/New_York:20240823T230000
DTSTAMP:20260425T113005
CREATED:20240710T003512Z
LAST-MODIFIED:20240710T003512Z
UID:10038815-1724445900-1724454000@thamesyc.org
SUMMARY:Movie Night On The Beach
DESCRIPTION:Join us on the Beach Friday’s this summer!
URL:https://thamesyc.org/event/movie-night-on-the-beach-5/2024-08-23/
LOCATION:Thames Yacht Club\, 396 Pequot Avenue\, New London\, CT\, 06320\, United States
CATEGORIES:Club Wide Event
GEO:41.3308391;-72.0946565
X-APPLE-STRUCTURED-LOCATION;VALUE=URI;X-ADDRESS=Thames Yacht Club 396 Pequot Avenue New London CT 06320 United States;X-APPLE-RADIUS=500;X-TITLE=396 Pequot Avenue:geo:-72.0946565,41.3308391
END:VEVENT
BEGIN:VEVENT
DTSTART;TZID=America/New_York:20240822T180000
DTEND;TZID=America/New_York:20240822T200000
DTSTAMP:20260425T113005
CREATED:20231220T231704Z
LAST-MODIFIED:20240604T125736Z
UID:10038476-1724349600-1724356800@thamesyc.org
SUMMARY:Force 5 Summer Series
DESCRIPTION:
URL:https://thamesyc.org/event/force-5-summer-series-4/2024-08-22/
CATEGORIES:Racing
END:VEVENT
BEGIN:VEVENT
DTSTART;TZID=America/New_York:20240821T170000
DTEND;TZID=America/New_York:20240821T200000
DTSTAMP:20260425T113005
CREATED:20231220T214406Z
LAST-MODIFIED:20231220T214406Z
UID:10036697-1724259600-1724270400@thamesyc.org
SUMMARY:Wednesday Night Summer Race Series
DESCRIPTION:
URL:https://thamesyc.org/event/wednesday-night-summer-race-series/2024-08-21/
CATEGORIES:Racing
END:VEVENT
BEGIN:VEVENT
DTSTART;TZID=America/New_York:20240820T190000
DTEND;TZID=America/New_York:20240820T210000
DTSTAMP:20260425T113005
CREATED:20231129T185341Z
LAST-MODIFIED:20231129T185341Z
UID:10036339-1724180400-1724187600@thamesyc.org
SUMMARY:Executive Committee Meeting
DESCRIPTION:
URL:https://thamesyc.org/event/executive-committee-meeting-20/
END:VEVENT
BEGIN:VEVENT
DTSTART;TZID=America/New_York:20240819T180000
DTEND;TZID=America/New_York:20240819T200000
DTSTAMP:20260425T113005
CREATED:20240602T201635Z
LAST-MODIFIED:20240602T201635Z
UID:10038404-1724090400-1724097600@thamesyc.org
SUMMARY:Bingo - 2nd Floor
DESCRIPTION:
URL:https://thamesyc.org/event/bingo-2nd-floor-3/
CATEGORIES:Club Wide Event
END:VEVENT
BEGIN:VEVENT
DTSTART;TZID=America/New_York:20240816T204500
DTEND;TZID=America/New_York:20240816T230000
DTSTAMP:20260425T113005
CREATED:20240710T003512Z
LAST-MODIFIED:20240710T003512Z
UID:10038814-1723841100-1723849200@thamesyc.org
SUMMARY:Movie Night On The Beach
DESCRIPTION:Join us on the Beach Friday’s this summer!
URL:https://thamesyc.org/event/movie-night-on-the-beach-5/2024-08-16/
LOCATION:Thames Yacht Club\, 396 Pequot Avenue\, New London\, CT\, 06320\, United States
CATEGORIES:Club Wide Event
GEO:41.3308391;-72.0946565
X-APPLE-STRUCTURED-LOCATION;VALUE=URI;X-ADDRESS=Thames Yacht Club 396 Pequot Avenue New London CT 06320 United States;X-APPLE-RADIUS=500;X-TITLE=396 Pequot Avenue:geo:-72.0946565,41.3308391
END:VEVENT
BEGIN:VEVENT
DTSTART;VALUE=DATE:20240816
DTEND;VALUE=DATE:20240817
DTSTAMP:20260425T113005
CREATED:20231227T035452Z
LAST-MODIFIED:20231227T035452Z
UID:10036785-1723766400-1723852799@thamesyc.org
SUMMARY:Youth Sailing
DESCRIPTION:
URL:https://thamesyc.org/event/youth-sailing-2/2024-08-16/
CATEGORIES:Training
END:VEVENT
BEGIN:VEVENT
DTSTART;TZID=America/New_York:20240815T180000
DTEND;TZID=America/New_York:20240815T200000
DTSTAMP:20260425T113005
CREATED:20231220T231704Z
LAST-MODIFIED:20240604T125736Z
UID:10038475-1723744800-1723752000@thamesyc.org
SUMMARY:Force 5 Summer Series
DESCRIPTION:
URL:https://thamesyc.org/event/force-5-summer-series-4/2024-08-15/
CATEGORIES:Racing
END:VEVENT
BEGIN:VEVENT
DTSTART;VALUE=DATE:20240815
DTEND;VALUE=DATE:20240816
DTSTAMP:20260425T113005
CREATED:20231227T035452Z
LAST-MODIFIED:20231227T035452Z
UID:10036784-1723680000-1723766399@thamesyc.org
SUMMARY:Youth Sailing
DESCRIPTION:
URL:https://thamesyc.org/event/youth-sailing-2/2024-08-15/
CATEGORIES:Training
END:VEVENT
BEGIN:VEVENT
DTSTART;TZID=America/New_York:20240814T170000
DTEND;TZID=America/New_York:20240814T200000
DTSTAMP:20260425T113005
CREATED:20231220T214406Z
LAST-MODIFIED:20231220T214406Z
UID:10036696-1723654800-1723665600@thamesyc.org
SUMMARY:Wednesday Night Summer Race Series
DESCRIPTION:
URL:https://thamesyc.org/event/wednesday-night-summer-race-series/2024-08-14/
CATEGORIES:Racing
END:VEVENT
BEGIN:VEVENT
DTSTART;VALUE=DATE:20240814
DTEND;VALUE=DATE:20240815
DTSTAMP:20260425T113005
CREATED:20231227T035452Z
LAST-MODIFIED:20231227T035452Z
UID:10036783-1723593600-1723679999@thamesyc.org
SUMMARY:Youth Sailing
DESCRIPTION:
URL:https://thamesyc.org/event/youth-sailing-2/2024-08-14/
CATEGORIES:Training
END:VEVENT
BEGIN:VEVENT
DTSTART;VALUE=DATE:20240813
DTEND;VALUE=DATE:20240814
DTSTAMP:20260425T113005
CREATED:20231227T035452Z
LAST-MODIFIED:20231227T035452Z
UID:10036782-1723507200-1723593599@thamesyc.org
SUMMARY:Youth Sailing
DESCRIPTION:
URL:https://thamesyc.org/event/youth-sailing-2/2024-08-13/
CATEGORIES:Training
END:VEVENT
BEGIN:VEVENT
DTSTART;VALUE=DATE:20240812
DTEND;VALUE=DATE:20240813
DTSTAMP:20260425T113005
CREATED:20231227T035452Z
LAST-MODIFIED:20231227T035452Z
UID:10036781-1723420800-1723507199@thamesyc.org
SUMMARY:Youth Sailing
DESCRIPTION:
URL:https://thamesyc.org/event/youth-sailing-2/2024-08-12/
CATEGORIES:Training
END:VEVENT
BEGIN:VEVENT
DTSTART;TZID=America/New_York:20240810T170000
DTEND;TZID=America/New_York:20240810T200000
DTSTAMP:20260425T113005
CREATED:20240805T220100Z
LAST-MODIFIED:20240805T220552Z
UID:10038823-1723309200-1723320000@thamesyc.org
SUMMARY:Memorial for Tommy Welsh
DESCRIPTION:
URL:https://thamesyc.org/event/memorial-for-tommy-welsh/
CATEGORIES:Club Wide Event
END:VEVENT
BEGIN:VEVENT
DTSTART;TZID=America/New_York:20240809T204500
DTEND;TZID=America/New_York:20240809T230000
DTSTAMP:20260425T113005
CREATED:20240710T003512Z
LAST-MODIFIED:20240710T003512Z
UID:10038813-1723236300-1723244400@thamesyc.org
SUMMARY:Movie Night On The Beach
DESCRIPTION:Join us on the Beach Friday’s this summer!
URL:https://thamesyc.org/event/movie-night-on-the-beach-5/2024-08-09/
LOCATION:Thames Yacht Club\, 396 Pequot Avenue\, New London\, CT\, 06320\, United States
CATEGORIES:Club Wide Event
GEO:41.3308391;-72.0946565
X-APPLE-STRUCTURED-LOCATION;VALUE=URI;X-ADDRESS=Thames Yacht Club 396 Pequot Avenue New London CT 06320 United States;X-APPLE-RADIUS=500;X-TITLE=396 Pequot Avenue:geo:-72.0946565,41.3308391
END:VEVENT
BEGIN:VEVENT
DTSTART;VALUE=DATE:20240809
DTEND;VALUE=DATE:20240810
DTSTAMP:20260425T113005
CREATED:20231227T035452Z
LAST-MODIFIED:20231227T035452Z
UID:10036780-1723161600-1723247999@thamesyc.org
SUMMARY:Youth Sailing
DESCRIPTION:
URL:https://thamesyc.org/event/youth-sailing-2/2024-08-09/
CATEGORIES:Training
END:VEVENT
BEGIN:VEVENT
DTSTART;TZID=America/New_York:20240808T180000
DTEND;TZID=America/New_York:20240808T200000
DTSTAMP:20260425T113005
CREATED:20231220T231704Z
LAST-MODIFIED:20240604T125736Z
UID:10038474-1723140000-1723147200@thamesyc.org
SUMMARY:Force 5 Summer Series
DESCRIPTION:
URL:https://thamesyc.org/event/force-5-summer-series-4/2024-08-08/
CATEGORIES:Racing
END:VEVENT
BEGIN:VEVENT
DTSTART;VALUE=DATE:20240808
DTEND;VALUE=DATE:20240818
DTSTAMP:20260425T113005
CREATED:20240724T221159Z
LAST-MODIFIED:20240724T221159Z
UID:10038822-1723075200-1723939199@thamesyc.org
SUMMARY:Block Island Mooring Reserved for S/V ADELINE
DESCRIPTION:
URL:https://thamesyc.org/event/block-island-mooring-reserved-for-s-v-adeline-7/
CATEGORIES:Block Island Mooring Reservation.
END:VEVENT
BEGIN:VEVENT
DTSTART;VALUE=DATE:20240808
DTEND;VALUE=DATE:20240809
DTSTAMP:20260425T113005
CREATED:20231227T035452Z
LAST-MODIFIED:20231227T035452Z
UID:10036779-1723075200-1723161599@thamesyc.org
SUMMARY:Youth Sailing
DESCRIPTION:
URL:https://thamesyc.org/event/youth-sailing-2/2024-08-08/
CATEGORIES:Training
END:VEVENT
BEGIN:VEVENT
DTSTART;TZID=America/New_York:20240807T170000
DTEND;TZID=America/New_York:20240807T200000
DTSTAMP:20260425T113005
CREATED:20231220T214406Z
LAST-MODIFIED:20231220T214406Z
UID:10036695-1723050000-1723060800@thamesyc.org
SUMMARY:Wednesday Night Summer Race Series
DESCRIPTION:
URL:https://thamesyc.org/event/wednesday-night-summer-race-series/2024-08-07/
CATEGORIES:Racing
END:VEVENT
BEGIN:VEVENT
DTSTART;VALUE=DATE:20240807
DTEND;VALUE=DATE:20240808
DTSTAMP:20260425T113005
CREATED:20231227T035452Z
LAST-MODIFIED:20231227T035452Z
UID:10036778-1722988800-1723075199@thamesyc.org
SUMMARY:Youth Sailing
DESCRIPTION:
URL:https://thamesyc.org/event/youth-sailing-2/2024-08-07/
CATEGORIES:Training
END:VEVENT
BEGIN:VEVENT
DTSTART;TZID=America/New_York:20240806T080000
DTEND;TZID=America/New_York:20240816T170000
DTSTAMP:20260425T113005
CREATED:20240322T072430Z
LAST-MODIFIED:20240322T072430Z
UID:10036790-1722931200-1723827600@thamesyc.org
SUMMARY:Long Island\, Long Distance Cruise
DESCRIPTION:
URL:https://thamesyc.org/event/long-island-long-distance-cruise/
CATEGORIES:Cruise Event
END:VEVENT
BEGIN:VEVENT
DTSTART;VALUE=DATE:20240806
DTEND;VALUE=DATE:20240807
DTSTAMP:20260425T113005
CREATED:20231227T035452Z
LAST-MODIFIED:20231227T035452Z
UID:10036777-1722902400-1722988799@thamesyc.org
SUMMARY:Youth Sailing
DESCRIPTION:
URL:https://thamesyc.org/event/youth-sailing-2/2024-08-06/
CATEGORIES:Training
END:VEVENT
BEGIN:VEVENT
DTSTART;VALUE=DATE:20240805
DTEND;VALUE=DATE:20240806
DTSTAMP:20260425T113005
CREATED:20231227T035452Z
LAST-MODIFIED:20231227T035452Z
UID:10036776-1722816000-1722902399@thamesyc.org
SUMMARY:Youth Sailing
DESCRIPTION:
URL:https://thamesyc.org/event/youth-sailing-2/2024-08-05/
CATEGORIES:Training
END:VEVENT
BEGIN:VEVENT
DTSTART;TZID=America/New_York:20240804T110000
DTEND;TZID=America/New_York:20240804T150000
DTSTAMP:20260425T113005
CREATED:20240322T072813Z
LAST-MODIFIED:20240322T072813Z
UID:10036791-1722769200-1722783600@thamesyc.org
SUMMARY:Pirate Rendezvous and Party
DESCRIPTION:
URL:https://thamesyc.org/event/pirate-rendezvous-and-party/
CATEGORIES:Club Wide Event
END:VEVENT
BEGIN:VEVENT
DTSTART;VALUE=DATE:20240803
DTEND;VALUE=DATE:20240805
DTSTAMP:20260425T113005
CREATED:20231220T232213Z
LAST-MODIFIED:20240121T171425Z
UID:10036708-1722643200-1722815999@thamesyc.org
SUMMARY:Members Weekend
DESCRIPTION:
URL:https://thamesyc.org/event/members-weekend-6/
CATEGORIES:Club Wide Event,Party
END:VEVENT
BEGIN:VEVENT
DTSTART;VALUE=DATE:20240803
DTEND;VALUE=DATE:20240804
DTSTAMP:20260425T113006
CREATED:20231220T232006Z
LAST-MODIFIED:20240121T171644Z
UID:10036707-1722643200-1722729599@thamesyc.org
SUMMARY:Oscar Kerman Race
DESCRIPTION:
URL:https://thamesyc.org/event/oscar-kerman-race-4/
CATEGORIES:Racing
END:VEVENT
END:VCALENDAR