BEGIN:VCALENDAR
VERSION:2.0
PRODID:-//Thames Yacht Club - ECPv6.15.20//NONSGML v1.0//EN
CALSCALE:GREGORIAN
METHOD:PUBLISH
X-ORIGINAL-URL:https://thamesyc.org
X-WR-CALDESC:Events for Thames Yacht Club
REFRESH-INTERVAL;VALUE=DURATION:PT1H
X-Robots-Tag:noindex
X-PUBLISHED-TTL:PT1H
BEGIN:VTIMEZONE
TZID:America/New_York
BEGIN:DAYLIGHT
TZOFFSETFROM:-0500
TZOFFSETTO:-0400
TZNAME:EDT
DTSTART:20250309T070000
END:DAYLIGHT
BEGIN:STANDARD
TZOFFSETFROM:-0400
TZOFFSETTO:-0500
TZNAME:EST
DTSTART:20251102T060000
END:STANDARD
BEGIN:DAYLIGHT
TZOFFSETFROM:-0500
TZOFFSETTO:-0400
TZNAME:EDT
DTSTART:20260308T070000
END:DAYLIGHT
BEGIN:STANDARD
TZOFFSETFROM:-0400
TZOFFSETTO:-0500
TZNAME:EST
DTSTART:20261101T060000
END:STANDARD
BEGIN:DAYLIGHT
TZOFFSETFROM:-0500
TZOFFSETTO:-0400
TZNAME:EDT
DTSTART:20270314T070000
END:DAYLIGHT
BEGIN:STANDARD
TZOFFSETFROM:-0400
TZOFFSETTO:-0500
TZNAME:EST
DTSTART:20271107T060000
END:STANDARD
END:VTIMEZONE
BEGIN:VEVENT
DTSTART;TZID=America/New_York:20260927T110000
DTEND;TZID=America/New_York:20260927T190000
DTSTAMP:20260425T115034
CREATED:20260421T010601Z
LAST-MODIFIED:20260421T010639Z
UID:10039741-1790506800-1790535600@thamesyc.org
SUMMARY:Launch Hours
DESCRIPTION:
URL:https://thamesyc.org/event/launch-hours-179/
CATEGORIES:TYC Launch Schedule
END:VEVENT
BEGIN:VEVENT
DTSTART;TZID=America/New_York:20261003T120000
DTEND;TZID=America/New_York:20261003T180000
DTSTAMP:20260425T115034
CREATED:20260417T231659Z
LAST-MODIFIED:20260420T230306Z
UID:10039575-1791028800-1791050400@thamesyc.org
SUMMARY:Launch Hours
DESCRIPTION:
URL:https://thamesyc.org/event/launch-schedule-36/
CATEGORIES:TYC Launch Schedule
END:VEVENT
BEGIN:VEVENT
DTSTART;VALUE=DATE:20261004
DTEND;VALUE=DATE:20261005
DTSTAMP:20260425T115034
CREATED:20260420T223553Z
LAST-MODIFIED:20260420T223553Z
UID:10039622-1791072000-1791158399@thamesyc.org
SUMMARY:Fall Chowder Series - Afternoons
DESCRIPTION:
URL:https://thamesyc.org/event/fall-chowder-series-afternoons-3/
CATEGORIES:Racing
END:VEVENT
BEGIN:VEVENT
DTSTART;TZID=America/New_York:20261004T100000
DTEND;TZID=America/New_York:20261004T180000
DTSTAMP:20260425T115034
CREATED:20260417T231809Z
LAST-MODIFIED:20260420T232301Z
UID:10039576-1791108000-1791136800@thamesyc.org
SUMMARY:Launch Hours
DESCRIPTION:
URL:https://thamesyc.org/event/launch-schedule-37/
CATEGORIES:TYC Launch Schedule
END:VEVENT
BEGIN:VEVENT
DTSTART;TZID=America/New_York:20261010T100000
DTEND;TZID=America/New_York:20261010T180000
DTSTAMP:20260425T115034
CREATED:20260417T231901Z
LAST-MODIFIED:20260420T232434Z
UID:10039626-1791626400-1791655200@thamesyc.org
SUMMARY:Launch Hours
DESCRIPTION:
URL:https://thamesyc.org/event/launch-schedule-38/
CATEGORIES:TYC Launch Schedule
END:VEVENT
BEGIN:VEVENT
DTSTART;TZID=America/New_York:20261010T100000
DTEND;TZID=America/New_York:20261010T180000
DTSTAMP:20260425T115034
CREATED:20260417T233639Z
LAST-MODIFIED:20260417T233639Z
UID:10039584-1791626400-1791655200@thamesyc.org
SUMMARY:Launch Schedule
DESCRIPTION:
URL:https://thamesyc.org/event/launch-schedule-46/
CATEGORIES:TYC Launch Schedule
END:VEVENT
BEGIN:VEVENT
DTSTART;VALUE=DATE:20261011
DTEND;VALUE=DATE:20261012
DTSTAMP:20260425T115034
CREATED:20260420T223632Z
LAST-MODIFIED:20260420T223632Z
UID:10039623-1791676800-1791763199@thamesyc.org
SUMMARY:Fall Chowder Series - Afternoons
DESCRIPTION:
URL:https://thamesyc.org/event/fall-chowder-series-afternoons-4/
CATEGORIES:Racing
END:VEVENT
BEGIN:VEVENT
DTSTART;TZID=America/New_York:20261011T100000
DTEND;TZID=America/New_York:20261011T180000
DTSTAMP:20260425T115034
CREATED:20260417T231939Z
LAST-MODIFIED:20260420T232521Z
UID:10039578-1791712800-1791741600@thamesyc.org
SUMMARY:Launch Hours
DESCRIPTION:
URL:https://thamesyc.org/event/launch-schedule-39/
CATEGORIES:TYC Launch Schedule
END:VEVENT
BEGIN:VEVENT
DTSTART;TZID=America/New_York:20261012T100000
DTEND;TZID=America/New_York:20261012T180000
DTSTAMP:20260425T115034
CREATED:20260417T232046Z
LAST-MODIFIED:20260417T232659Z
UID:10039577-1791799200-1791828000@thamesyc.org
SUMMARY:Launch Schedule
DESCRIPTION:
URL:https://thamesyc.org/event/launch-schedule-40/
CATEGORIES:TYC Launch Schedule
END:VEVENT
BEGIN:VEVENT
DTSTART;TZID=America/New_York:20261013T190000
DTEND;TZID=America/New_York:20261013T210000
DTSTAMP:20260425T115034
CREATED:20260111T193142Z
LAST-MODIFIED:20260111T193142Z
UID:10039480-1791918000-1791925200@thamesyc.org
SUMMARY:Executive Committee Meeting
DESCRIPTION:
URL:https://thamesyc.org/event/executive-committee-meeting-46/
CATEGORIES:Executive Committee Mtg
END:VEVENT
BEGIN:VEVENT
DTSTART;TZID=America/New_York:20261017T100000
DTEND;TZID=America/New_York:20261017T180000
DTSTAMP:20260425T115034
CREATED:20260417T232737Z
LAST-MODIFIED:20260420T232606Z
UID:10039579-1792231200-1792260000@thamesyc.org
SUMMARY:Launch Hours
DESCRIPTION:
URL:https://thamesyc.org/event/launch-schedule-41/
CATEGORIES:TYC Launch Schedule
END:VEVENT
BEGIN:VEVENT
DTSTART;VALUE=DATE:20261018
DTEND;VALUE=DATE:20261019
DTSTAMP:20260425T115034
CREATED:20260420T223711Z
LAST-MODIFIED:20260420T223711Z
UID:10039624-1792281600-1792367999@thamesyc.org
SUMMARY:Fall Chowder Series - Afternoons
DESCRIPTION:
URL:https://thamesyc.org/event/fall-chowder-series-afternoons-5/
CATEGORIES:Racing
END:VEVENT
BEGIN:VEVENT
DTSTART;TZID=America/New_York:20261018T100000
DTEND;TZID=America/New_York:20261018T180000
DTSTAMP:20260425T115034
CREATED:20260417T232835Z
LAST-MODIFIED:20260420T232735Z
UID:10039580-1792317600-1792346400@thamesyc.org
SUMMARY:Launch Hours
DESCRIPTION:
URL:https://thamesyc.org/event/launch-schedule-42/
CATEGORIES:TYC Launch Schedule
END:VEVENT
BEGIN:VEVENT
DTSTART;TZID=America/New_York:20261024T100000
DTEND;TZID=America/New_York:20261024T180000
DTSTAMP:20260425T115034
CREATED:20260417T232913Z
LAST-MODIFIED:20260420T232831Z
UID:10039581-1792836000-1792864800@thamesyc.org
SUMMARY:Launch Hours
DESCRIPTION:
URL:https://thamesyc.org/event/launch-schedule-43/
CATEGORIES:TYC Launch Schedule
END:VEVENT
BEGIN:VEVENT
DTSTART;VALUE=DATE:20261025
DTEND;VALUE=DATE:20261026
DTSTAMP:20260425T115034
CREATED:20260420T223745Z
LAST-MODIFIED:20260420T223745Z
UID:10039625-1792886400-1792972799@thamesyc.org
SUMMARY:Fall Chowder Series - Afternoons
DESCRIPTION:
URL:https://thamesyc.org/event/fall-chowder-series-afternoons-6/
CATEGORIES:Racing
END:VEVENT
BEGIN:VEVENT
DTSTART;TZID=America/New_York:20261025T100000
DTEND;TZID=America/New_York:20261025T180000
DTSTAMP:20260425T115034
CREATED:20260417T232953Z
LAST-MODIFIED:20260420T232946Z
UID:10039582-1792922400-1792951200@thamesyc.org
SUMMARY:Launch Hours
DESCRIPTION:
URL:https://thamesyc.org/event/launch-schedule-44/
CATEGORIES:TYC Launch Schedule
END:VEVENT
BEGIN:VEVENT
DTSTART;TZID=America/New_York:20261027T190000
DTEND;TZID=America/New_York:20261027T210000
DTSTAMP:20260425T115034
CREATED:20260111T193300Z
LAST-MODIFIED:20260111T195517Z
UID:10039481-1793127600-1793134800@thamesyc.org
SUMMARY:Executive Committee Meeting (Budget & LRP Discussion/Review Meeting Only)
DESCRIPTION:
URL:https://thamesyc.org/event/executive-committee-meeting-47/
CATEGORIES:Executive Committee Mtg
END:VEVENT
BEGIN:VEVENT
DTSTART;VALUE=DATE:20261030
DTEND;VALUE=DATE:20261031
DTSTAMP:20260425T115034
CREATED:20260120T204916Z
LAST-MODIFIED:20260120T204916Z
UID:10039548-1793318400-1793404799@thamesyc.org
SUMMARY:Deadline: Removal of Summer Marks
DESCRIPTION:
URL:https://thamesyc.org/event/deadline-removal-of-summer-marks-3/
END:VEVENT
BEGIN:VEVENT
DTSTART;TZID=America/New_York:20261031T100000
DTEND;TZID=America/New_York:20261031T180000
DTSTAMP:20260425T115034
CREATED:20260417T233042Z
LAST-MODIFIED:20260420T233109Z
UID:10039583-1793440800-1793469600@thamesyc.org
SUMMARY:Launch Hours
DESCRIPTION:
URL:https://thamesyc.org/event/launch-schedule-45/
CATEGORIES:TYC Launch Schedule
END:VEVENT
BEGIN:VEVENT
DTSTART;TZID=America/New_York:20261104T190000
DTEND;TZID=America/New_York:20261104T210000
DTSTAMP:20260425T115034
CREATED:20260111T193433Z
LAST-MODIFIED:20260111T193433Z
UID:10039482-1793818800-1793826000@thamesyc.org
SUMMARY:Executive Committee Meeting
DESCRIPTION:
URL:https://thamesyc.org/event/executive-committee-meeting-48/
CATEGORIES:Executive Committee Mtg
END:VEVENT
BEGIN:VEVENT
DTSTART;TZID=America/New_York:20261114T090000
DTEND;TZID=America/New_York:20261114T150000
DTSTAMP:20260425T115034
CREATED:20260120T183158Z
LAST-MODIFIED:20260120T190336Z
UID:10039495-1794646800-1794668400@thamesyc.org
SUMMARY:Fall Cleanup
DESCRIPTION:
URL:https://thamesyc.org/event/fall-cleanup-2/
CATEGORIES:Work Party Event
END:VEVENT
BEGIN:VEVENT
DTSTART;TZID=America/New_York:20261115T150000
DTEND;TZID=America/New_York:20261115T160000
DTSTAMP:20260425T115034
CREATED:20260111T194922Z
LAST-MODIFIED:20260111T195744Z
UID:10039486-1794754800-1794758400@thamesyc.org
SUMMARY:Annual General Membership Meeting
DESCRIPTION:
URL:https://thamesyc.org/event/general-membership-meeting-19/
CATEGORIES:Club Wide Event
END:VEVENT
BEGIN:VEVENT
DTSTART;VALUE=DATE:20261123
DTEND;VALUE=DATE:20261124
DTSTAMP:20260425T115034
CREATED:20260120T190456Z
LAST-MODIFIED:20260120T190456Z
UID:10039496-1795392000-1795478399@thamesyc.org
SUMMARY:Clubhouse and Dock Winterization
DESCRIPTION:
URL:https://thamesyc.org/event/clubhouse-and-dock-winterization/
CATEGORIES:Work Party Event
END:VEVENT
BEGIN:VEVENT
DTSTART;TZID=America/New_York:20261215T190000
DTEND;TZID=America/New_York:20261215T210000
DTSTAMP:20260425T115034
CREATED:20260111T193534Z
LAST-MODIFIED:20260111T193534Z
UID:10039483-1797361200-1797368400@thamesyc.org
SUMMARY:Executive Committee Meeting
DESCRIPTION:
URL:https://thamesyc.org/event/executive-committee-meeting-49/
CATEGORIES:Executive Committee Mtg
END:VEVENT
END:VCALENDAR