BEGIN:VCALENDAR
VERSION:2.0
PRODID:-//Thames Yacht Club - ECPv6.15.20//NONSGML v1.0//EN
CALSCALE:GREGORIAN
METHOD:PUBLISH
X-WR-CALNAME:Thames Yacht Club
X-ORIGINAL-URL:https://thamesyc.org
X-WR-CALDESC:Events for Thames Yacht Club
REFRESH-INTERVAL;VALUE=DURATION:PT1H
X-Robots-Tag:noindex
X-PUBLISHED-TTL:PT1H
BEGIN:VTIMEZONE
TZID:America/New_York
BEGIN:DAYLIGHT
TZOFFSETFROM:-0500
TZOFFSETTO:-0400
TZNAME:EDT
DTSTART:20230312T070000
END:DAYLIGHT
BEGIN:STANDARD
TZOFFSETFROM:-0400
TZOFFSETTO:-0500
TZNAME:EST
DTSTART:20231105T060000
END:STANDARD
BEGIN:DAYLIGHT
TZOFFSETFROM:-0500
TZOFFSETTO:-0400
TZNAME:EDT
DTSTART:20240310T070000
END:DAYLIGHT
BEGIN:STANDARD
TZOFFSETFROM:-0400
TZOFFSETTO:-0500
TZNAME:EST
DTSTART:20241103T060000
END:STANDARD
BEGIN:DAYLIGHT
TZOFFSETFROM:-0500
TZOFFSETTO:-0400
TZNAME:EDT
DTSTART:20250309T070000
END:DAYLIGHT
BEGIN:STANDARD
TZOFFSETFROM:-0400
TZOFFSETTO:-0500
TZNAME:EST
DTSTART:20251102T060000
END:STANDARD
END:VTIMEZONE
BEGIN:VEVENT
DTSTART;VALUE=DATE:20241116
DTEND;VALUE=DATE:20241117
DTSTAMP:20260425T111836
CREATED:20231220T233527Z
LAST-MODIFIED:20231220T233527Z
UID:10036717-1731715200-1731801599@thamesyc.org
SUMMARY:Fall Cleanup Day
DESCRIPTION:
URL:https://thamesyc.org/event/fall-cleanup-day-4/
CATEGORIES:Club Wide Event,Work Party Event
END:VEVENT
BEGIN:VEVENT
DTSTART;VALUE=DATE:20241115
DTEND;VALUE=DATE:20241116
DTSTAMP:20260425T111836
CREATED:20241017T133052Z
LAST-MODIFIED:20241017T133052Z
UID:10039204-1731628800-1731715199@thamesyc.org
SUMMARY:Deadline to submit winter storage forms and payment
DESCRIPTION:
URL:https://thamesyc.org/event/deadline-to-submit-winter-storage-forms-and-payment/
CATEGORIES:Club Wide Event
END:VEVENT
BEGIN:VEVENT
DTSTART;VALUE=DATE:20241115
DTEND;VALUE=DATE:20241116
DTSTAMP:20260425T111836
CREATED:20241017T132918Z
LAST-MODIFIED:20241017T133805Z
UID:10039203-1731628800-1731715199@thamesyc.org
SUMMARY:Deadline to remove boats from wet slips\, beach and racks
DESCRIPTION:
URL:https://thamesyc.org/event/deadline-to-remove-boats-from-wet-slips-beach-and-racks/
CATEGORIES:Club Wide Event
END:VEVENT
BEGIN:VEVENT
DTSTART;VALUE=DATE:20241115
DTEND;VALUE=DATE:20241116
DTSTAMP:20260425T111836
CREATED:20241017T132749Z
LAST-MODIFIED:20241017T132749Z
UID:10039202-1731628800-1731715199@thamesyc.org
SUMMARY:Deadline to swap summer mooring balls for winter marks
DESCRIPTION:
URL:https://thamesyc.org/event/deadline-to-swap-summer-mooring-balls-for-winter-marks/
CATEGORIES:Club Wide Event
END:VEVENT
BEGIN:VEVENT
DTSTART;TZID=America/New_York:20241110T160000
DTEND;TZID=America/New_York:20241110T180000
DTSTAMP:20260425T111836
CREATED:20231129T183821Z
LAST-MODIFIED:20240914T191427Z
UID:10036331-1731254400-1731261600@thamesyc.org
SUMMARY:General Membership Meeting (3:00 potluck / 4:00 meeting)
DESCRIPTION:
URL:https://thamesyc.org/event/general-membership-meeting-300-potluck-400-meeting-3/
CATEGORIES:Club Wide Event
END:VEVENT
BEGIN:VEVENT
DTSTART;VALUE=DATE:20241109
DTEND;VALUE=DATE:20241110
DTSTAMP:20260425T111836
CREATED:20241016T202026Z
LAST-MODIFIED:20241016T202026Z
UID:10039201-1731110400-1731196799@thamesyc.org
SUMMARY:Club Rental - 1st Floor - Scagliola
DESCRIPTION:
URL:https://thamesyc.org/event/club-rental-1st-floor-scagliola/
CATEGORIES:Facility Rental
END:VEVENT
BEGIN:VEVENT
DTSTART;TZID=America/New_York:20241029T190000
DTEND;TZID=America/New_York:20241029T210000
DTSTAMP:20260425T111836
CREATED:20231129T185853Z
LAST-MODIFIED:20240914T191117Z
UID:10036342-1730228400-1730235600@thamesyc.org
SUMMARY:Executive Committee Meeting
DESCRIPTION:
URL:https://thamesyc.org/event/executive-committee-meeting-23/
CATEGORIES:Executive Committee Mtg
END:VEVENT
BEGIN:VEVENT
DTSTART;TZID=America/New_York:20241027T110000
DTEND;TZID=America/New_York:20241027T170000
DTSTAMP:20260425T111836
CREATED:20231220T233202Z
LAST-MODIFIED:20231220T233202Z
UID:10036716-1730026800-1730048400@thamesyc.org
SUMMARY:Chowder Race Series
DESCRIPTION:
URL:https://thamesyc.org/event/chowder-race-series-2/2024-10-27/
CATEGORIES:Racing
END:VEVENT
BEGIN:VEVENT
DTSTART;TZID=America/New_York:20241027T100000
DTEND;TZID=America/New_York:20241027T180000
DTSTAMP:20260425T111836
CREATED:20241002T192306Z
LAST-MODIFIED:20241002T192306Z
UID:10039199-1730023200-1730052000@thamesyc.org
SUMMARY:Launch Service
DESCRIPTION:
URL:https://thamesyc.org/event/launch-service-2/2024-10-27/
END:VEVENT
BEGIN:VEVENT
DTSTART;TZID=America/New_York:20241026T100000
DTEND;TZID=America/New_York:20241026T180000
DTSTAMP:20260425T111836
CREATED:20241002T192306Z
LAST-MODIFIED:20241002T192306Z
UID:10039198-1729936800-1729965600@thamesyc.org
SUMMARY:Launch Service
DESCRIPTION:
URL:https://thamesyc.org/event/launch-service-2/2024-10-26/
END:VEVENT
BEGIN:VEVENT
DTSTART;TZID=America/New_York:20241025T100000
DTEND;TZID=America/New_York:20241025T180000
DTSTAMP:20260425T111836
CREATED:20241002T192306Z
LAST-MODIFIED:20241002T192306Z
UID:10039197-1729850400-1729879200@thamesyc.org
SUMMARY:Launch Service
DESCRIPTION:
URL:https://thamesyc.org/event/launch-service-2/2024-10-25/
END:VEVENT
BEGIN:VEVENT
DTSTART;TZID=America/New_York:20241020T110000
DTEND;TZID=America/New_York:20241020T170000
DTSTAMP:20260425T111836
CREATED:20231220T233202Z
LAST-MODIFIED:20231220T233202Z
UID:10036715-1729422000-1729443600@thamesyc.org
SUMMARY:Chowder Race Series
DESCRIPTION:
URL:https://thamesyc.org/event/chowder-race-series-2/2024-10-20/
CATEGORIES:Racing
END:VEVENT
BEGIN:VEVENT
DTSTART;TZID=America/New_York:20241020T100000
DTEND;TZID=America/New_York:20241020T180000
DTSTAMP:20260425T111836
CREATED:20241002T192213Z
LAST-MODIFIED:20241002T192213Z
UID:10039196-1729418400-1729447200@thamesyc.org
SUMMARY:Launch Service
DESCRIPTION:
URL:https://thamesyc.org/event/launch-service/2024-10-20/
END:VEVENT
BEGIN:VEVENT
DTSTART;TZID=America/New_York:20241019T100000
DTEND;TZID=America/New_York:20241019T180000
DTSTAMP:20260425T111836
CREATED:20241002T192213Z
LAST-MODIFIED:20241002T192213Z
UID:10039195-1729332000-1729360800@thamesyc.org
SUMMARY:Launch Service
DESCRIPTION:
URL:https://thamesyc.org/event/launch-service/2024-10-19/
END:VEVENT
BEGIN:VEVENT
DTSTART;TZID=America/New_York:20241018T100000
DTEND;TZID=America/New_York:20241018T180000
DTSTAMP:20260425T111836
CREATED:20241002T192213Z
LAST-MODIFIED:20241002T192213Z
UID:10039194-1729245600-1729274400@thamesyc.org
SUMMARY:Launch Service
DESCRIPTION:
URL:https://thamesyc.org/event/launch-service/2024-10-18/
END:VEVENT
BEGIN:VEVENT
DTSTART;TZID=America/New_York:20241015T190000
DTEND;TZID=America/New_York:20241015T210000
DTSTAMP:20260425T111836
CREATED:20231129T185815Z
LAST-MODIFIED:20231129T185815Z
UID:10036341-1729018800-1729026000@thamesyc.org
SUMMARY:Executive Committee Meeting
DESCRIPTION:
URL:https://thamesyc.org/event/executive-committee-meeting-22/
END:VEVENT
BEGIN:VEVENT
DTSTART;TZID=America/New_York:20241013T110000
DTEND;TZID=America/New_York:20241013T170000
DTSTAMP:20260425T111836
CREATED:20231220T233202Z
LAST-MODIFIED:20231220T233202Z
UID:10036714-1728817200-1728838800@thamesyc.org
SUMMARY:Chowder Race Series
DESCRIPTION:
URL:https://thamesyc.org/event/chowder-race-series-2/2024-10-13/
CATEGORIES:Racing
END:VEVENT
BEGIN:VEVENT
DTSTART;TZID=America/New_York:20241013T100000
DTEND;TZID=America/New_York:20241013T180000
DTSTAMP:20260425T111836
CREATED:20241002T192109Z
LAST-MODIFIED:20241002T192109Z
UID:10039193-1728813600-1728842400@thamesyc.org
SUMMARY:Lauch Service
DESCRIPTION:
URL:https://thamesyc.org/event/lauch-service/2024-10-13/
END:VEVENT
BEGIN:VEVENT
DTSTART;TZID=America/New_York:20241012T100000
DTEND;TZID=America/New_York:20241012T180000
DTSTAMP:20260425T111836
CREATED:20241002T192109Z
LAST-MODIFIED:20241002T192109Z
UID:10039192-1728727200-1728756000@thamesyc.org
SUMMARY:Lauch Service
DESCRIPTION:
URL:https://thamesyc.org/event/lauch-service/2024-10-12/
END:VEVENT
BEGIN:VEVENT
DTSTART;VALUE=DATE:20241012
DTEND;VALUE=DATE:20241014
DTSTAMP:20260425T111836
CREATED:20231221T003922Z
LAST-MODIFIED:20231221T003922Z
UID:10036747-1728691200-1728863999@thamesyc.org
SUMMARY:CT River Cruise
DESCRIPTION:
URL:https://thamesyc.org/event/ct-river-cruise-2/
CATEGORIES:Cruise Event
END:VEVENT
BEGIN:VEVENT
DTSTART;TZID=America/New_York:20241011T100000
DTEND;TZID=America/New_York:20241011T180000
DTSTAMP:20260425T111836
CREATED:20241002T192109Z
LAST-MODIFIED:20241002T192109Z
UID:10039191-1728640800-1728669600@thamesyc.org
SUMMARY:Lauch Service
DESCRIPTION:
URL:https://thamesyc.org/event/lauch-service/2024-10-11/
END:VEVENT
BEGIN:VEVENT
DTSTART;TZID=America/New_York:20241006T110000
DTEND;TZID=America/New_York:20241006T170000
DTSTAMP:20260425T111836
CREATED:20231220T233202Z
LAST-MODIFIED:20231220T233202Z
UID:10036713-1728212400-1728234000@thamesyc.org
SUMMARY:Chowder Race Series
DESCRIPTION:
URL:https://thamesyc.org/event/chowder-race-series-2/2024-10-06/
CATEGORIES:Racing
END:VEVENT
BEGIN:VEVENT
DTSTART;TZID=America/New_York:20241006T100000
DTEND;TZID=America/New_York:20241006T180000
DTSTAMP:20260425T111836
CREATED:20241002T191654Z
LAST-MODIFIED:20241002T191927Z
UID:10038826-1728208800-1728237600@thamesyc.org
SUMMARY:Launch service
DESCRIPTION:
URL:https://thamesyc.org/event/launch-schedule-13/2024-10-06/
END:VEVENT
BEGIN:VEVENT
DTSTART;TZID=America/New_York:20241005T120000
DTEND;TZID=America/New_York:20241005T170000
DTSTAMP:20260425T111836
CREATED:20241002T192407Z
LAST-MODIFIED:20241002T192407Z
UID:10039200-1728129600-1728147600@thamesyc.org
SUMMARY:Mooring Swap Party
DESCRIPTION:
URL:https://thamesyc.org/event/mooring-swap-party/
END:VEVENT
BEGIN:VEVENT
DTSTART;TZID=America/New_York:20241005T100000
DTEND;TZID=America/New_York:20241005T180000
DTSTAMP:20260425T111836
CREATED:20241002T191654Z
LAST-MODIFIED:20241002T191927Z
UID:10038825-1728122400-1728151200@thamesyc.org
SUMMARY:Launch service
DESCRIPTION:
URL:https://thamesyc.org/event/launch-schedule-13/2024-10-05/
END:VEVENT
BEGIN:VEVENT
DTSTART;TZID=America/New_York:20241004T100000
DTEND;TZID=America/New_York:20241004T180000
DTSTAMP:20260425T111836
CREATED:20241002T191654Z
LAST-MODIFIED:20241002T191927Z
UID:10038824-1728036000-1728064800@thamesyc.org
SUMMARY:Launch service
DESCRIPTION:
URL:https://thamesyc.org/event/launch-schedule-13/2024-10-04/
END:VEVENT
BEGIN:VEVENT
DTSTART;TZID=America/New_York:20240929T110000
DTEND;TZID=America/New_York:20240929T170000
DTSTAMP:20260425T111836
CREATED:20231220T233202Z
LAST-MODIFIED:20231220T233202Z
UID:10036712-1727607600-1727629200@thamesyc.org
SUMMARY:Chowder Race Series
DESCRIPTION:
URL:https://thamesyc.org/event/chowder-race-series-2/2024-09-29/
CATEGORIES:Racing
END:VEVENT
BEGIN:VEVENT
DTSTART;TZID=America/New_York:20240922T110000
DTEND;TZID=America/New_York:20240922T170000
DTSTAMP:20260425T111836
CREATED:20231220T233202Z
LAST-MODIFIED:20231220T233202Z
UID:10036711-1727002800-1727024400@thamesyc.org
SUMMARY:Chowder Race Series
DESCRIPTION:
URL:https://thamesyc.org/event/chowder-race-series-2/2024-09-22/
CATEGORIES:Racing
END:VEVENT
BEGIN:VEVENT
DTSTART;TZID=America/New_York:20240917T190000
DTEND;TZID=America/New_York:20240917T210000
DTSTAMP:20260425T111836
CREATED:20231129T185729Z
LAST-MODIFIED:20231129T185729Z
UID:10036340-1726599600-1726606800@thamesyc.org
SUMMARY:Executive Committee Meeting
DESCRIPTION:
URL:https://thamesyc.org/event/executive-committee-meeting-21/
END:VEVENT
BEGIN:VEVENT
DTSTART;TZID=America/New_York:20240913T120000
DTEND;TZID=America/New_York:20240915T120000
DTSTAMP:20260425T111836
CREATED:20240322T073114Z
LAST-MODIFIED:20240322T073114Z
UID:10036792-1726228800-1726401600@thamesyc.org
SUMMARY:Mystic Seaport Cruise
DESCRIPTION:
URL:https://thamesyc.org/event/mystic-seaport-cruise-7/
CATEGORIES:Cruise Event
END:VEVENT
END:VCALENDAR