BEGIN:VCALENDAR
VERSION:2.0
PRODID:-//Thames Yacht Club - ECPv6.15.17//NONSGML v1.0//EN
CALSCALE:GREGORIAN
METHOD:PUBLISH
X-ORIGINAL-URL:https://thamesyc.org
X-WR-CALDESC:Events for Thames Yacht Club
REFRESH-INTERVAL;VALUE=DURATION:PT1H
X-Robots-Tag:noindex
X-PUBLISHED-TTL:PT1H
BEGIN:VTIMEZONE
TZID:America/New_York
BEGIN:DAYLIGHT
TZOFFSETFROM:-0500
TZOFFSETTO:-0400
TZNAME:EDT
DTSTART:20250309T070000
END:DAYLIGHT
BEGIN:STANDARD
TZOFFSETFROM:-0400
TZOFFSETTO:-0500
TZNAME:EST
DTSTART:20251102T060000
END:STANDARD
BEGIN:DAYLIGHT
TZOFFSETFROM:-0500
TZOFFSETTO:-0400
TZNAME:EDT
DTSTART:20260308T070000
END:DAYLIGHT
BEGIN:STANDARD
TZOFFSETFROM:-0400
TZOFFSETTO:-0500
TZNAME:EST
DTSTART:20261101T060000
END:STANDARD
BEGIN:DAYLIGHT
TZOFFSETFROM:-0500
TZOFFSETTO:-0400
TZNAME:EDT
DTSTART:20270314T070000
END:DAYLIGHT
BEGIN:STANDARD
TZOFFSETFROM:-0400
TZOFFSETTO:-0500
TZNAME:EST
DTSTART:20271107T060000
END:STANDARD
END:VTIMEZONE
BEGIN:VEVENT
DTSTART;VALUE=DATE:20260517
DTEND;VALUE=DATE:20260518
DTSTAMP:20260424T052742
CREATED:20260420T215117Z
LAST-MODIFIED:20260420T215117Z
UID:10039588-1778976000-1779062399@thamesyc.org
SUMMARY:Chilie Series - Afternoons
DESCRIPTION:
URL:https://thamesyc.org/event/chilie-series-afternoons/
CATEGORIES:Racing
END:VEVENT
BEGIN:VEVENT
DTSTART;TZID=America/New_York:20260517T120000
DTEND;TZID=America/New_York:20260517T180000
DTSTAMP:20260424T052742
CREATED:20260417T230523Z
LAST-MODIFIED:20260420T231311Z
UID:10039566-1779019200-1779040800@thamesyc.org
SUMMARY:Launch Hours
DESCRIPTION:
URL:https://thamesyc.org/event/launch-schedule-27/
CATEGORIES:TYC Launch Schedule
END:VEVENT
BEGIN:VEVENT
DTSTART;TZID=America/New_York:20260519T190000
DTEND;TZID=America/New_York:20260519T210000
DTSTAMP:20260424T052742
CREATED:20260111T192658Z
LAST-MODIFIED:20260111T192658Z
UID:10039475-1779217200-1779224400@thamesyc.org
SUMMARY:Executive Committee Meeting
DESCRIPTION:
URL:https://thamesyc.org/event/executive-committee-meeting-41/
CATEGORIES:Executive Committee Mtg
END:VEVENT
BEGIN:VEVENT
DTSTART;TZID=America/New_York:20260522T120000
DTEND;TZID=America/New_York:20260522T180000
DTSTAMP:20260424T052742
CREATED:20260417T230611Z
LAST-MODIFIED:20260417T230611Z
UID:10039567-1779451200-1779472800@thamesyc.org
SUMMARY:Launch Schedule
DESCRIPTION:
URL:https://thamesyc.org/event/launch-schedule-28/
CATEGORIES:TYC Launch Schedule
END:VEVENT
BEGIN:VEVENT
DTSTART;TZID=America/New_York:20260523T100000
DTEND;TZID=America/New_York:20260523T180000
DTSTAMP:20260424T052742
CREATED:20260417T230655Z
LAST-MODIFIED:20260420T231411Z
UID:10039568-1779530400-1779559200@thamesyc.org
SUMMARY:Launch Hours
DESCRIPTION:
URL:https://thamesyc.org/event/launch-schedule-29/
CATEGORIES:TYC Launch Schedule
END:VEVENT
BEGIN:VEVENT
DTSTART;VALUE=DATE:20260524
DTEND;VALUE=DATE:20260525
DTSTAMP:20260424T052742
CREATED:20260420T215154Z
LAST-MODIFIED:20260420T215154Z
UID:10039589-1779580800-1779667199@thamesyc.org
SUMMARY:Chilie Series - Afternoons
DESCRIPTION:
URL:https://thamesyc.org/event/chilie-series-afternoons-2/
CATEGORIES:Racing
END:VEVENT
BEGIN:VEVENT
DTSTART;TZID=America/New_York:20260524T100000
DTEND;TZID=America/New_York:20260524T180000
DTSTAMP:20260424T052742
CREATED:20260417T230742Z
LAST-MODIFIED:20260420T231456Z
UID:10039569-1779616800-1779645600@thamesyc.org
SUMMARY:Launch Hours
DESCRIPTION:
URL:https://thamesyc.org/event/launch-schedule-30/
CATEGORIES:TYC Launch Schedule
END:VEVENT
BEGIN:VEVENT
DTSTART;TZID=America/New_York:20260525T100000
DTEND;TZID=America/New_York:20260525T180000
DTSTAMP:20260424T052742
CREATED:20260417T230906Z
LAST-MODIFIED:20260417T230920Z
UID:10039570-1779703200-1779732000@thamesyc.org
SUMMARY:Launch Schedule
DESCRIPTION:
URL:https://thamesyc.org/event/launch-schedule-31/
CATEGORIES:TYC Launch Schedule
END:VEVENT
BEGIN:VEVENT
DTSTART;TZID=America/New_York:20260528T120000
DTEND;TZID=America/New_York:20260528T190000
DTSTAMP:20260424T052742
CREATED:20260417T230957Z
LAST-MODIFIED:20260420T231641Z
UID:10039571-1779969600-1779994800@thamesyc.org
SUMMARY:Launch Hours
DESCRIPTION:
URL:https://thamesyc.org/event/launch-schedule-32/
CATEGORIES:TYC Launch Schedule
END:VEVENT
BEGIN:VEVENT
DTSTART;TZID=America/New_York:20260528T170000
DTEND;TZID=America/New_York:20260528T200000
DTSTAMP:20260424T052742
CREATED:20260417T224300Z
LAST-MODIFIED:20260417T224300Z
UID:10039558-1779987600-1779998400@thamesyc.org
SUMMARY:Open House
DESCRIPTION:
URL:https://thamesyc.org/event/open-house-2/
CATEGORIES:Party
END:VEVENT
BEGIN:VEVENT
DTSTART;TZID=America/New_York:20260528T170000
DTEND;TZID=America/New_York:20260528T200000
DTSTAMP:20260424T052742
CREATED:20260420T221340Z
LAST-MODIFIED:20260420T221340Z
UID:10039597-1779987600-1779998400@thamesyc.org
SUMMARY:Force 5 and Finn Spring Series
DESCRIPTION:
URL:https://thamesyc.org/event/force-5-and-finn-spring-series/
CATEGORIES:Racing
END:VEVENT
BEGIN:VEVENT
DTSTART;TZID=America/New_York:20260529T120000
DTEND;TZID=America/New_York:20260529T180000
DTSTAMP:20260424T052742
CREATED:20260417T231103Z
LAST-MODIFIED:20260420T231735Z
UID:10039572-1780056000-1780077600@thamesyc.org
SUMMARY:Launch Hours
DESCRIPTION:
URL:https://thamesyc.org/event/launch-schedule-33/
CATEGORIES:TYC Launch Schedule
END:VEVENT
BEGIN:VEVENT
DTSTART;TZID=America/New_York:20260530T100000
DTEND;TZID=America/New_York:20260530T180000
DTSTAMP:20260424T052742
CREATED:20260417T231144Z
LAST-MODIFIED:20260420T231814Z
UID:10039573-1780135200-1780164000@thamesyc.org
SUMMARY:Launch Hours
DESCRIPTION:
URL:https://thamesyc.org/event/launch-schedule-34/
CATEGORIES:TYC Launch Schedule
END:VEVENT
BEGIN:VEVENT
DTSTART;VALUE=DATE:20260531
DTEND;VALUE=DATE:20260601
DTSTAMP:20260424T052742
CREATED:20260420T205933Z
LAST-MODIFIED:20260420T205933Z
UID:10039587-1780185600-1780271999@thamesyc.org
SUMMARY:Chili Series - Afternoon
DESCRIPTION:
URL:https://thamesyc.org/event/chili-series-afternoon-2/
CATEGORIES:Racing
END:VEVENT
BEGIN:VEVENT
DTSTART;TZID=America/New_York:20260531T100000
DTEND;TZID=America/New_York:20260531T180000
DTSTAMP:20260424T052742
CREATED:20260417T231229Z
LAST-MODIFIED:20260420T232115Z
UID:10039574-1780221600-1780250400@thamesyc.org
SUMMARY:Launch Hours
DESCRIPTION:
URL:https://thamesyc.org/event/launch-schedule-35/
CATEGORIES:TYC Launch Schedule
END:VEVENT
BEGIN:VEVENT
DTSTART;TZID=America/New_York:20260601T100000
DTEND;TZID=America/New_York:20260601T200000
DTSTAMP:20260424T052742
CREATED:20260420T233342Z
LAST-MODIFIED:20260420T233342Z
UID:10039627-1780308000-1780344000@thamesyc.org
SUMMARY:Launch Hours
DESCRIPTION:
URL:https://thamesyc.org/event/launch-hours-65/
CATEGORIES:TYC Launch Schedule
END:VEVENT
BEGIN:VEVENT
DTSTART;TZID=America/New_York:20260602T100000
DTEND;TZID=America/New_York:20260602T200000
DTSTAMP:20260424T052742
CREATED:20260420T233427Z
LAST-MODIFIED:20260420T233427Z
UID:10039628-1780394400-1780430400@thamesyc.org
SUMMARY:Launch Hours
DESCRIPTION:
URL:https://thamesyc.org/event/launch-hours-66/
CATEGORIES:TYC Launch Schedule
END:VEVENT
BEGIN:VEVENT
DTSTART;TZID=America/New_York:20260603T110000
DTEND;TZID=America/New_York:20260603T213000
DTSTAMP:20260424T052742
CREATED:20260420T233527Z
LAST-MODIFIED:20260420T233541Z
UID:10039629-1780484400-1780522200@thamesyc.org
SUMMARY:Launch Hours
DESCRIPTION:
URL:https://thamesyc.org/event/launch-hours-67/
CATEGORIES:TYC Launch Schedule
END:VEVENT
BEGIN:VEVENT
DTSTART;TZID=America/New_York:20260603T170000
DTEND;TZID=America/New_York:20260603T200000
DTSTAMP:20260424T052742
CREATED:20260420T220433Z
LAST-MODIFIED:20260420T220451Z
UID:10039590-1780506000-1780516800@thamesyc.org
SUMMARY:PHRF and Ensign Series
DESCRIPTION:
URL:https://thamesyc.org/event/phrf-and-ensign-series-evenings/
CATEGORIES:Racing
END:VEVENT
BEGIN:VEVENT
DTSTART;TZID=America/New_York:20260604T100000
DTEND;TZID=America/New_York:20260604T200000
DTSTAMP:20260424T052742
CREATED:20260420T233612Z
LAST-MODIFIED:20260420T233612Z
UID:10039630-1780567200-1780603200@thamesyc.org
SUMMARY:Launch Hours
DESCRIPTION:
URL:https://thamesyc.org/event/launch-hours-68/
CATEGORIES:TYC Launch Schedule
END:VEVENT
BEGIN:VEVENT
DTSTART;TZID=America/New_York:20260604T170000
DTEND;TZID=America/New_York:20260604T200000
DTSTAMP:20260424T052742
CREATED:20260420T221529Z
LAST-MODIFIED:20260420T221529Z
UID:10039598-1780592400-1780603200@thamesyc.org
SUMMARY:Force 5 and Finn Spring Series
DESCRIPTION:
URL:https://thamesyc.org/event/force-5-and-finn-spring-series-2/
CATEGORIES:Racing
END:VEVENT
BEGIN:VEVENT
DTSTART;VALUE=DATE:20260605
DTEND;VALUE=DATE:20260606
DTSTAMP:20260424T052742
CREATED:20260115T181013Z
LAST-MODIFIED:20260115T181529Z
UID:10039488-1780617600-1780703999@thamesyc.org
SUMMARY:Block Island Mooring - S/V Heron
DESCRIPTION:
URL:https://thamesyc.org/event/block-island-mooring-s-v-heron/
CATEGORIES:Block Island Mooring Reservation.
END:VEVENT
BEGIN:VEVENT
DTSTART;VALUE=DATE:20260605
DTEND;VALUE=DATE:20260608
DTSTAMP:20260424T052742
CREATED:20260115T180235Z
LAST-MODIFIED:20260115T180246Z
UID:10039487-1780617600-1780876799@thamesyc.org
SUMMARY:Block Island Mooring - S/V Aries
DESCRIPTION:
URL:https://thamesyc.org/event/block-island-mooring-s-v-aries/
CATEGORIES:Block Island Mooring Reservation.
END:VEVENT
BEGIN:VEVENT
DTSTART;TZID=America/New_York:20260605T100000
DTEND;TZID=America/New_York:20260605T200000
DTSTAMP:20260424T052742
CREATED:20260420T233643Z
LAST-MODIFIED:20260420T233658Z
UID:10039631-1780653600-1780689600@thamesyc.org
SUMMARY:Launch Hours
DESCRIPTION:
URL:https://thamesyc.org/event/launch-hours-69/
CATEGORIES:TYC Launch Schedule
END:VEVENT
BEGIN:VEVENT
DTSTART;TZID=America/New_York:20260606T100000
DTEND;TZID=America/New_York:20260606T200000
DTSTAMP:20260424T052742
CREATED:20260421T010902Z
LAST-MODIFIED:20260421T010902Z
UID:10039742-1780740000-1780776000@thamesyc.org
SUMMARY:Launch Hours
DESCRIPTION:
URL:https://thamesyc.org/event/launch-hours-180/
CATEGORIES:TYC Launch Schedule
END:VEVENT
BEGIN:VEVENT
DTSTART;TZID=America/New_York:20260607T100000
DTEND;TZID=America/New_York:20260607T200000
DTSTAMP:20260424T052742
CREATED:20260420T233820Z
LAST-MODIFIED:20260420T233820Z
UID:10039633-1780826400-1780862400@thamesyc.org
SUMMARY:Launch Hours
DESCRIPTION:
URL:https://thamesyc.org/event/launch-hours-71/
CATEGORIES:TYC Launch Schedule
END:VEVENT
BEGIN:VEVENT
DTSTART;TZID=America/New_York:20260608T100000
DTEND;TZID=America/New_York:20260608T200000
DTSTAMP:20260424T052742
CREATED:20260420T233856Z
LAST-MODIFIED:20260420T233856Z
UID:10039634-1780912800-1780948800@thamesyc.org
SUMMARY:Launch Hours
DESCRIPTION:
URL:https://thamesyc.org/event/launch-hours-72/
CATEGORIES:TYC Launch Schedule
END:VEVENT
BEGIN:VEVENT
DTSTART;TZID=America/New_York:20260608T173000
DTEND;TZID=America/New_York:20260608T200000
DTSTAMP:20260424T052742
CREATED:20260120T201243Z
LAST-MODIFIED:20260120T201243Z
UID:10039531-1780939800-1780948800@thamesyc.org
SUMMARY:Adult Sailing
DESCRIPTION:
URL:https://thamesyc.org/event/adult-sailing-6/
CATEGORIES:Training
END:VEVENT
BEGIN:VEVENT
DTSTART;TZID=America/New_York:20260609T100000
DTEND;TZID=America/New_York:20260609T200000
DTSTAMP:20260424T052742
CREATED:20260420T233943Z
LAST-MODIFIED:20260420T233943Z
UID:10039635-1780999200-1781035200@thamesyc.org
SUMMARY:Launch Hours
DESCRIPTION:
URL:https://thamesyc.org/event/launch-hours-73/
CATEGORIES:TYC Launch Schedule
END:VEVENT
BEGIN:VEVENT
DTSTART;TZID=America/New_York:20260609T173000
DTEND;TZID=America/New_York:20260609T200000
DTSTAMP:20260424T052742
CREATED:20260120T201410Z
LAST-MODIFIED:20260120T201410Z
UID:10039532-1781026200-1781035200@thamesyc.org
SUMMARY:Adult Sailing
DESCRIPTION:
URL:https://thamesyc.org/event/adult-sailing-7/
CATEGORIES:Training
END:VEVENT
END:VCALENDAR