BEGIN:VCALENDAR
VERSION:2.0
PRODID:-//Thames Yacht Club - ECPv6.15.20//NONSGML v1.0//EN
CALSCALE:GREGORIAN
METHOD:PUBLISH
X-WR-CALNAME:Thames Yacht Club
X-ORIGINAL-URL:https://thamesyc.org
X-WR-CALDESC:Events for Thames Yacht Club
REFRESH-INTERVAL;VALUE=DURATION:PT1H
X-Robots-Tag:noindex
X-PUBLISHED-TTL:PT1H
BEGIN:VTIMEZONE
TZID:America/New_York
BEGIN:DAYLIGHT
TZOFFSETFROM:-0500
TZOFFSETTO:-0400
TZNAME:EDT
DTSTART:20220313T070000
END:DAYLIGHT
BEGIN:STANDARD
TZOFFSETFROM:-0400
TZOFFSETTO:-0500
TZNAME:EST
DTSTART:20221106T060000
END:STANDARD
BEGIN:DAYLIGHT
TZOFFSETFROM:-0500
TZOFFSETTO:-0400
TZNAME:EDT
DTSTART:20230312T070000
END:DAYLIGHT
BEGIN:STANDARD
TZOFFSETFROM:-0400
TZOFFSETTO:-0500
TZNAME:EST
DTSTART:20231105T060000
END:STANDARD
BEGIN:DAYLIGHT
TZOFFSETFROM:-0500
TZOFFSETTO:-0400
TZNAME:EDT
DTSTART:20240310T070000
END:DAYLIGHT
BEGIN:STANDARD
TZOFFSETFROM:-0400
TZOFFSETTO:-0500
TZNAME:EST
DTSTART:20241103T060000
END:STANDARD
END:VTIMEZONE
BEGIN:VEVENT
DTSTART;TZID=America/New_York:20231021T100000
DTEND;TZID=America/New_York:20231021T180000
DTSTAMP:20260426T003751
CREATED:20231004T141453Z
LAST-MODIFIED:20231004T141453Z
UID:10036322-1697882400-1697911200@thamesyc.org
SUMMARY:Oct Launch Sched.
DESCRIPTION:
URL:https://thamesyc.org/event/oct-launch-sched-9/
CATEGORIES:TYC Launch Schedule
END:VEVENT
BEGIN:VEVENT
DTSTART;TZID=America/New_York:20231020T100000
DTEND;TZID=America/New_York:20231020T180000
DTSTAMP:20260426T003751
CREATED:20231004T141412Z
LAST-MODIFIED:20231004T141412Z
UID:10036321-1697796000-1697824800@thamesyc.org
SUMMARY:Oct Launch Sched.
DESCRIPTION:
URL:https://thamesyc.org/event/oct-launch-sched-8/
CATEGORIES:TYC Launch Schedule
END:VEVENT
BEGIN:VEVENT
DTSTART;TZID=America/New_York:20231017T190000
DTEND;TZID=America/New_York:20231017T210000
DTSTAMP:20260426T003751
CREATED:20230523T230416Z
LAST-MODIFIED:20230523T230416Z
UID:10035893-1697569200-1697576400@thamesyc.org
SUMMARY:Executive Board Meeting
DESCRIPTION:
URL:https://thamesyc.org/event/executive-board-meeting-5/
CATEGORIES:Executive Committee Mtg
END:VEVENT
BEGIN:VEVENT
DTSTART;TZID=America/New_York:20231015T100000
DTEND;TZID=America/New_York:20231015T180000
DTSTAMP:20260426T003751
CREATED:20231004T141317Z
LAST-MODIFIED:20231004T141317Z
UID:10036320-1697364000-1697392800@thamesyc.org
SUMMARY:Oct Launch Sched.
DESCRIPTION:
URL:https://thamesyc.org/event/oct-launch-sched-7/
CATEGORIES:TYC Launch Schedule
END:VEVENT
BEGIN:VEVENT
DTSTART;TZID=America/New_York:20231015T080000
DTEND;TZID=America/New_York:20231015T170000
DTSTAMP:20260426T003751
CREATED:20230113T220231Z
LAST-MODIFIED:20230113T220231Z
UID:10035341-1697356800-1697389200@thamesyc.org
SUMMARY:Chowder Series Race
DESCRIPTION:
URL:https://thamesyc.org/event/chowder-series-race-2/2023-10-15/
CATEGORIES:Racing
END:VEVENT
BEGIN:VEVENT
DTSTART;TZID=America/New_York:20231014T160000
DTEND;TZID=America/New_York:20231014T220000
DTSTAMP:20260426T003751
CREATED:20231004T151257Z
LAST-MODIFIED:20231004T151257Z
UID:10036327-1697299200-1697320800@thamesyc.org
SUMMARY:1st and 2nd Floor Rental for Stevens
DESCRIPTION:
URL:https://thamesyc.org/event/1st-and-2nd-floor-rental-for-stevens/
CATEGORIES:Facility Rental
END:VEVENT
BEGIN:VEVENT
DTSTART;TZID=America/New_York:20231014T100000
DTEND;TZID=America/New_York:20231014T180000
DTSTAMP:20260426T003751
CREATED:20231004T141238Z
LAST-MODIFIED:20231004T141238Z
UID:10036319-1697277600-1697306400@thamesyc.org
SUMMARY:Oct Launch Sched.
DESCRIPTION:
URL:https://thamesyc.org/event/oct-launch-sched-6/
CATEGORIES:TYC Launch Schedule
END:VEVENT
BEGIN:VEVENT
DTSTART;TZID=America/New_York:20231013T100000
DTEND;TZID=America/New_York:20231013T180000
DTSTAMP:20260426T003751
CREATED:20231004T141156Z
LAST-MODIFIED:20231004T141156Z
UID:10036318-1697191200-1697220000@thamesyc.org
SUMMARY:Oct Launch Sched.
DESCRIPTION:
URL:https://thamesyc.org/event/oct-launch-sched-5/
CATEGORIES:TYC Launch Schedule
END:VEVENT
BEGIN:VEVENT
DTSTART;TZID=America/New_York:20231009T100000
DTEND;TZID=America/New_York:20231009T180000
DTSTAMP:20260426T003751
CREATED:20231004T141008Z
LAST-MODIFIED:20231004T141008Z
UID:10036317-1696845600-1696874400@thamesyc.org
SUMMARY:Oct Launch Sched.
DESCRIPTION:
URL:https://thamesyc.org/event/oct-launch-sched-4/
CATEGORIES:TYC Launch Schedule
END:VEVENT
BEGIN:VEVENT
DTSTART;TZID=America/New_York:20231008T100000
DTEND;TZID=America/New_York:20231008T180000
DTSTAMP:20260426T003751
CREATED:20231004T140929Z
LAST-MODIFIED:20231004T140929Z
UID:10036316-1696759200-1696788000@thamesyc.org
SUMMARY:Oct Launch Sched.
DESCRIPTION:
URL:https://thamesyc.org/event/oct-launch-sched-3/
CATEGORIES:TYC Launch Schedule
END:VEVENT
BEGIN:VEVENT
DTSTART;TZID=America/New_York:20231008T080000
DTEND;TZID=America/New_York:20231008T170000
DTSTAMP:20260426T003751
CREATED:20230113T220231Z
LAST-MODIFIED:20230113T220231Z
UID:10035340-1696752000-1696784400@thamesyc.org
SUMMARY:Chowder Series Race
DESCRIPTION:
URL:https://thamesyc.org/event/chowder-series-race-2/2023-10-08/
CATEGORIES:Racing
END:VEVENT
BEGIN:VEVENT
DTSTART;TZID=America/New_York:20231007T100000
DTEND;TZID=America/New_York:20231007T180000
DTSTAMP:20260426T003751
CREATED:20231004T140851Z
LAST-MODIFIED:20231004T140851Z
UID:10036315-1696672800-1696701600@thamesyc.org
SUMMARY:Oct Launch Sched.
DESCRIPTION:
URL:https://thamesyc.org/event/oct-launch-sched-2/
CATEGORIES:TYC Launch Schedule
END:VEVENT
BEGIN:VEVENT
DTSTART;VALUE=DATE:20231007
DTEND;VALUE=DATE:20231010
DTSTAMP:20260426T003751
CREATED:20230318T190634Z
LAST-MODIFIED:20230318T190634Z
UID:10035388-1696636800-1696895999@thamesyc.org
SUMMARY:Connecticut River Cruise
DESCRIPTION:
URL:https://thamesyc.org/event/connecticut-river-cruise-3/
CATEGORIES:Cruise Event
END:VEVENT
BEGIN:VEVENT
DTSTART;TZID=America/New_York:20231006T100000
DTEND;TZID=America/New_York:20231006T180000
DTSTAMP:20260426T003751
CREATED:20231004T140753Z
LAST-MODIFIED:20231004T140753Z
UID:10036314-1696586400-1696615200@thamesyc.org
SUMMARY:Oct Launch Sched.
DESCRIPTION:
URL:https://thamesyc.org/event/oct-launch-sched/
CATEGORIES:TYC Launch Schedule
END:VEVENT
BEGIN:VEVENT
DTSTART;TZID=America/New_York:20231001T090000
DTEND;TZID=America/New_York:20231001T190000
DTSTAMP:20260426T003751
CREATED:20230905T161625Z
LAST-MODIFIED:20230905T161625Z
UID:10036311-1696150800-1696186800@thamesyc.org
SUMMARY:Launch Hours 0900-1900
DESCRIPTION:
URL:https://thamesyc.org/event/launch-hours-0900-1900-8/
CATEGORIES:TYC Launch Schedule
END:VEVENT
BEGIN:VEVENT
DTSTART;TZID=America/New_York:20231001T080000
DTEND;TZID=America/New_York:20231001T170000
DTSTAMP:20260426T003751
CREATED:20230113T220231Z
LAST-MODIFIED:20230113T220231Z
UID:10035339-1696147200-1696179600@thamesyc.org
SUMMARY:Chowder Series Race
DESCRIPTION:
URL:https://thamesyc.org/event/chowder-series-race-2/2023-10-01/
CATEGORIES:Racing
END:VEVENT
BEGIN:VEVENT
DTSTART;TZID=America/New_York:20230930T090000
DTEND;TZID=America/New_York:20230930T190000
DTSTAMP:20260426T003751
CREATED:20230905T161526Z
LAST-MODIFIED:20230905T161736Z
UID:10036310-1696064400-1696100400@thamesyc.org
SUMMARY:Launch Hours 0900-1900
DESCRIPTION:
URL:https://thamesyc.org/event/launch-hours-1000-1800-6/
CATEGORIES:TYC Launch Schedule
END:VEVENT
BEGIN:VEVENT
DTSTART;TZID=America/New_York:20230929T100000
DTEND;TZID=America/New_York:20230929T180000
DTSTAMP:20260426T003751
CREATED:20230905T161405Z
LAST-MODIFIED:20230905T161405Z
UID:10036309-1695981600-1696010400@thamesyc.org
SUMMARY:Launch Hours 1000-1800
DESCRIPTION:
URL:https://thamesyc.org/event/launch-hours-1000-1800-5/
CATEGORIES:TYC Launch Schedule
END:VEVENT
BEGIN:VEVENT
DTSTART;VALUE=DATE:20230929
DTEND;VALUE=DATE:20231002
DTSTAMP:20260426T003751
CREATED:20230911T133833Z
LAST-MODIFIED:20230914T132255Z
UID:10036313-1695945600-1696204799@thamesyc.org
SUMMARY:Mystic Seaport Cruise
DESCRIPTION:
URL:https://thamesyc.org/event/mystic-seaport-cruise-6/
CATEGORIES:Cruise Event
END:VEVENT
BEGIN:VEVENT
DTSTART;TZID=America/New_York:20230928T100000
DTEND;TZID=America/New_York:20230928T180000
DTSTAMP:20260426T003751
CREATED:20230905T161315Z
LAST-MODIFIED:20230905T161315Z
UID:10036308-1695895200-1695924000@thamesyc.org
SUMMARY:Launch Hours 1000-1800
DESCRIPTION:
URL:https://thamesyc.org/event/launch-hours-1000-1800-4/
CATEGORIES:TYC Launch Schedule
END:VEVENT
BEGIN:VEVENT
DTSTART;TZID=America/New_York:20230924T130000
DTEND;TZID=America/New_York:20230924T210000
DTSTAMP:20260426T003751
CREATED:20230907T115420Z
LAST-MODIFIED:20230907T115420Z
UID:10036312-1695560400-1695589200@thamesyc.org
SUMMARY:1st and 2nd Floor reserved for the ENSIGN "Last Chance Regatta"
DESCRIPTION:
URL:https://thamesyc.org/event/1st-and-2nd-floor-reserved-for-the-ensign-last-chance-regatta/
CATEGORIES:Facility Rental
END:VEVENT
BEGIN:VEVENT
DTSTART;TZID=America/New_York:20230924T090000
DTEND;TZID=America/New_York:20230924T190000
DTSTAMP:20260426T003751
CREATED:20230905T161201Z
LAST-MODIFIED:20230905T161201Z
UID:10036307-1695546000-1695582000@thamesyc.org
SUMMARY:Launch Hours 0900-1900
DESCRIPTION:
URL:https://thamesyc.org/event/launch-hours-0900-1900-7/
CATEGORIES:TYC Launch Schedule
END:VEVENT
BEGIN:VEVENT
DTSTART;TZID=America/New_York:20230924T080000
DTEND;TZID=America/New_York:20230924T170000
DTSTAMP:20260426T003751
CREATED:20230113T220231Z
LAST-MODIFIED:20230113T220231Z
UID:10035338-1695542400-1695574800@thamesyc.org
SUMMARY:Chowder Series Race
DESCRIPTION:
URL:https://thamesyc.org/event/chowder-series-race-2/2023-09-24/
CATEGORIES:Racing
END:VEVENT
BEGIN:VEVENT
DTSTART;TZID=America/New_York:20230923T120000
DTEND;TZID=America/New_York:20230923T170000
DTSTAMP:20260426T003751
CREATED:20230818T161846Z
LAST-MODIFIED:20230818T161846Z
UID:10036289-1695470400-1695488400@thamesyc.org
SUMMARY:1st floor rented by C. Vardar
DESCRIPTION:
URL:https://thamesyc.org/event/1st-floor-rented-by-c-vardar/
CATEGORIES:Facility Rental
END:VEVENT
BEGIN:VEVENT
DTSTART;TZID=America/New_York:20230923T090000
DTEND;TZID=America/New_York:20230923T190000
DTSTAMP:20260426T003751
CREATED:20230905T160916Z
LAST-MODIFIED:20230905T160916Z
UID:10036305-1695459600-1695495600@thamesyc.org
SUMMARY:Launch Hours 0900-1900
DESCRIPTION:
URL:https://thamesyc.org/event/launch-hours-0900-1900-6/
CATEGORIES:TYC Launch Schedule
END:VEVENT
BEGIN:VEVENT
DTSTART;TZID=America/New_York:20230922T100000
DTEND;TZID=America/New_York:20230922T180000
DTSTAMP:20260426T003751
CREATED:20230905T160813Z
LAST-MODIFIED:20230905T160813Z
UID:10036304-1695376800-1695405600@thamesyc.org
SUMMARY:Launch Hours 1000-1800
DESCRIPTION:
URL:https://thamesyc.org/event/launch-hours-1000-1800-3/
CATEGORIES:TYC Launch Schedule
END:VEVENT
BEGIN:VEVENT
DTSTART;TZID=America/New_York:20230921T100000
DTEND;TZID=America/New_York:20230921T180000
DTSTAMP:20260426T003751
CREATED:20230905T160521Z
LAST-MODIFIED:20230905T160651Z
UID:10036303-1695290400-1695319200@thamesyc.org
SUMMARY:Launch Hours 1000-1800
DESCRIPTION:
URL:https://thamesyc.org/event/launch-hours-0900-1900-5/
CATEGORIES:TYC Launch Schedule
END:VEVENT
BEGIN:VEVENT
DTSTART;TZID=America/New_York:20230919T190000
DTEND;TZID=America/New_York:20230919T210000
DTSTAMP:20260426T003751
CREATED:20230523T230337Z
LAST-MODIFIED:20230523T230337Z
UID:10035892-1695150000-1695157200@thamesyc.org
SUMMARY:Executive Board Meeting
DESCRIPTION:
URL:https://thamesyc.org/event/executive-board-meeting-4/
CATEGORIES:Executive Committee Mtg
END:VEVENT
BEGIN:VEVENT
DTSTART;TZID=America/New_York:20230917T090000
DTEND;TZID=America/New_York:20230917T190000
DTSTAMP:20260426T003751
CREATED:20230905T160305Z
LAST-MODIFIED:20230905T160305Z
UID:10036302-1694941200-1694977200@thamesyc.org
SUMMARY:Launch Hours 0900-1900
DESCRIPTION:
URL:https://thamesyc.org/event/launch-hours-0900-1900-4/
CATEGORIES:TYC Launch Schedule
END:VEVENT
BEGIN:VEVENT
DTSTART;VALUE=DATE:20230917
DTEND;VALUE=DATE:20230922
DTSTAMP:20260426T003751
CREATED:20230509T222504Z
LAST-MODIFIED:20230509T222504Z
UID:10035787-1694908800-1695340799@thamesyc.org
SUMMARY:Block Island Mooring Reserved for S/V LEDGELIGHT
DESCRIPTION:
URL:https://thamesyc.org/event/block-island-mooring-reserved-for-s-v-ledgelight-4/
CATEGORIES:Block Island Mooring Reservation.
END:VEVENT
END:VCALENDAR