BEGIN:VCALENDAR
VERSION:2.0
PRODID:-//Thames Yacht Club - ECPv6.15.17//NONSGML v1.0//EN
CALSCALE:GREGORIAN
METHOD:PUBLISH
X-WR-CALNAME:Thames Yacht Club
X-ORIGINAL-URL:https://thamesyc.org
X-WR-CALDESC:Events for Thames Yacht Club
REFRESH-INTERVAL;VALUE=DURATION:PT1H
X-Robots-Tag:noindex
X-PUBLISHED-TTL:PT1H
BEGIN:VTIMEZONE
TZID:America/New_York
BEGIN:DAYLIGHT
TZOFFSETFROM:-0500
TZOFFSETTO:-0400
TZNAME:EDT
DTSTART:20250309T070000
END:DAYLIGHT
BEGIN:STANDARD
TZOFFSETFROM:-0400
TZOFFSETTO:-0500
TZNAME:EST
DTSTART:20251102T060000
END:STANDARD
BEGIN:DAYLIGHT
TZOFFSETFROM:-0500
TZOFFSETTO:-0400
TZNAME:EDT
DTSTART:20260308T070000
END:DAYLIGHT
BEGIN:STANDARD
TZOFFSETFROM:-0400
TZOFFSETTO:-0500
TZNAME:EST
DTSTART:20261101T060000
END:STANDARD
BEGIN:DAYLIGHT
TZOFFSETFROM:-0500
TZOFFSETTO:-0400
TZNAME:EDT
DTSTART:20270314T070000
END:DAYLIGHT
BEGIN:STANDARD
TZOFFSETFROM:-0400
TZOFFSETTO:-0500
TZNAME:EST
DTSTART:20271107T060000
END:STANDARD
END:VTIMEZONE
BEGIN:VEVENT
DTSTART;TZID=America/New_York:20261031T100000
DTEND;TZID=America/New_York:20261031T180000
DTSTAMP:20260425T090520
CREATED:20260417T233042Z
LAST-MODIFIED:20260420T233109Z
UID:10039583-1793440800-1793469600@thamesyc.org
SUMMARY:Launch Hours
DESCRIPTION:
URL:https://thamesyc.org/event/launch-schedule-45/
CATEGORIES:TYC Launch Schedule
END:VEVENT
BEGIN:VEVENT
DTSTART;TZID=America/New_York:20261104T190000
DTEND;TZID=America/New_York:20261104T210000
DTSTAMP:20260425T090520
CREATED:20260111T193433Z
LAST-MODIFIED:20260111T193433Z
UID:10039482-1793818800-1793826000@thamesyc.org
SUMMARY:Executive Committee Meeting
DESCRIPTION:
URL:https://thamesyc.org/event/executive-committee-meeting-48/
CATEGORIES:Executive Committee Mtg
END:VEVENT
BEGIN:VEVENT
DTSTART;TZID=America/New_York:20261114T090000
DTEND;TZID=America/New_York:20261114T150000
DTSTAMP:20260425T090520
CREATED:20260120T183158Z
LAST-MODIFIED:20260120T190336Z
UID:10039495-1794646800-1794668400@thamesyc.org
SUMMARY:Fall Cleanup
DESCRIPTION:
URL:https://thamesyc.org/event/fall-cleanup-2/
CATEGORIES:Work Party Event
END:VEVENT
BEGIN:VEVENT
DTSTART;TZID=America/New_York:20261115T150000
DTEND;TZID=America/New_York:20261115T160000
DTSTAMP:20260425T090520
CREATED:20260111T194922Z
LAST-MODIFIED:20260111T195744Z
UID:10039486-1794754800-1794758400@thamesyc.org
SUMMARY:Annual General Membership Meeting
DESCRIPTION:
URL:https://thamesyc.org/event/general-membership-meeting-19/
CATEGORIES:Club Wide Event
END:VEVENT
BEGIN:VEVENT
DTSTART;VALUE=DATE:20261123
DTEND;VALUE=DATE:20261124
DTSTAMP:20260425T090520
CREATED:20260120T190456Z
LAST-MODIFIED:20260120T190456Z
UID:10039496-1795392000-1795478399@thamesyc.org
SUMMARY:Clubhouse and Dock Winterization
DESCRIPTION:
URL:https://thamesyc.org/event/clubhouse-and-dock-winterization/
CATEGORIES:Work Party Event
END:VEVENT
BEGIN:VEVENT
DTSTART;TZID=America/New_York:20261215T190000
DTEND;TZID=America/New_York:20261215T210000
DTSTAMP:20260425T090520
CREATED:20260111T193534Z
LAST-MODIFIED:20260111T193534Z
UID:10039483-1797361200-1797368400@thamesyc.org
SUMMARY:Executive Committee Meeting
DESCRIPTION:
URL:https://thamesyc.org/event/executive-committee-meeting-49/
CATEGORIES:Executive Committee Mtg
END:VEVENT
END:VCALENDAR