BEGIN:VCALENDAR
VERSION:2.0
PRODID:-//Thames Yacht Club - ECPv6.15.20//NONSGML v1.0//EN
CALSCALE:GREGORIAN
METHOD:PUBLISH
X-WR-CALNAME:Thames Yacht Club
X-ORIGINAL-URL:https://thamesyc.org
X-WR-CALDESC:Events for Thames Yacht Club
REFRESH-INTERVAL;VALUE=DURATION:PT1H
X-Robots-Tag:noindex
X-PUBLISHED-TTL:PT1H
BEGIN:VTIMEZONE
TZID:America/New_York
BEGIN:DAYLIGHT
TZOFFSETFROM:-0500
TZOFFSETTO:-0400
TZNAME:EDT
DTSTART:20130310T070000
END:DAYLIGHT
BEGIN:STANDARD
TZOFFSETFROM:-0400
TZOFFSETTO:-0500
TZNAME:EST
DTSTART:20131103T060000
END:STANDARD
BEGIN:DAYLIGHT
TZOFFSETFROM:-0500
TZOFFSETTO:-0400
TZNAME:EDT
DTSTART:20140309T070000
END:DAYLIGHT
BEGIN:STANDARD
TZOFFSETFROM:-0400
TZOFFSETTO:-0500
TZNAME:EST
DTSTART:20141102T060000
END:STANDARD
BEGIN:DAYLIGHT
TZOFFSETFROM:-0500
TZOFFSETTO:-0400
TZNAME:EDT
DTSTART:20150308T070000
END:DAYLIGHT
BEGIN:STANDARD
TZOFFSETFROM:-0400
TZOFFSETTO:-0500
TZNAME:EST
DTSTART:20151101T060000
END:STANDARD
END:VTIMEZONE
BEGIN:VEVENT
DTSTART;TZID=America/New_York:20140624T090000
DTEND;TZID=America/New_York:20140624T210000
DTSTAMP:20260425T222500
CREATED:20140419T064710Z
LAST-MODIFIED:20140503T140431Z
UID:10033495-1403600400-1403643600@thamesyc.org
SUMMARY:TYC Launch Schedule
DESCRIPTION:The TYC Launch is accessed via marine radio on Channel 71.
URL:https://thamesyc.org/event/tyc-launch-schedule-40/
LOCATION:Thames Yacht Club\, 396 Pequot Avenue\, New London\, CT\, 06320\, United States
CATEGORIES:TYC Launch Schedule
GEO:41.3308391;-72.0946565
X-APPLE-STRUCTURED-LOCATION;VALUE=URI;X-ADDRESS=Thames Yacht Club 396 Pequot Avenue New London CT 06320 United States;X-APPLE-RADIUS=500;X-TITLE=396 Pequot Avenue:geo:-72.0946565,41.3308391
END:VEVENT
BEGIN:VEVENT
DTSTART;TZID=America/New_York:20140623T090000
DTEND;TZID=America/New_York:20140623T210000
DTSTAMP:20260425T222500
CREATED:20140419T064552Z
LAST-MODIFIED:20140503T140331Z
UID:10033494-1403514000-1403557200@thamesyc.org
SUMMARY:TYC Launch Schedule
DESCRIPTION:The TYC Launch is accessed via marine radio on Channel 71.
URL:https://thamesyc.org/event/tyc-launch-schedule-39/
LOCATION:Thames Yacht Club\, 396 Pequot Avenue\, New London\, CT\, 06320\, United States
CATEGORIES:TYC Launch Schedule
GEO:41.3308391;-72.0946565
X-APPLE-STRUCTURED-LOCATION;VALUE=URI;X-ADDRESS=Thames Yacht Club 396 Pequot Avenue New London CT 06320 United States;X-APPLE-RADIUS=500;X-TITLE=396 Pequot Avenue:geo:-72.0946565,41.3308391
END:VEVENT
BEGIN:VEVENT
DTSTART;VALUE=DATE:20140623
DTEND;VALUE=DATE:20140629
DTSTAMP:20260425T222500
CREATED:20140509T220053Z
LAST-MODIFIED:20140624T173655Z
UID:10033579-1403481600-1403999999@thamesyc.org
SUMMARY:Block Island Mooring Reserved for S/V Second Star 6/23-6/28
DESCRIPTION:The Block Island Mooring has been reserved for S/V Second Star 6/23 to 6/25.  If you have questions\, please contact Bill Turner by clicking here.
URL:https://thamesyc.org/event/block-island-mooring-reserved/
LOCATION:Block Island\, 40 Center Road\, Block Island\, RI\, 02807\, United States
CATEGORIES:Block Island Mooring Reservation.
GEO:41.1713756;-71.5794856
X-APPLE-STRUCTURED-LOCATION;VALUE=URI;X-ADDRESS=Block Island 40 Center Road Block Island RI 02807 United States;X-APPLE-RADIUS=500;X-TITLE=40 Center Road:geo:-71.5794856,41.1713756
END:VEVENT
BEGIN:VEVENT
DTSTART;TZID=America/New_York:20140622T120000
DTEND;TZID=America/New_York:20140622T150000
DTSTAMP:20260425T222500
CREATED:20140425T161416Z
LAST-MODIFIED:20140425T164947Z
UID:10033530-1403438400-1403449200@thamesyc.org
SUMMARY:The Chili Series Race - 1st Warning 1200
DESCRIPTION:First Warning at 1200 – Please click here for more information.
URL:https://thamesyc.org/event/chili-series-race-6/
LOCATION:Thames Yacht Club\, 396 Pequot Avenue\, New London\, CT\, 06320\, United States
CATEGORIES:Racing
GEO:41.3308391;-72.0946565
X-APPLE-STRUCTURED-LOCATION;VALUE=URI;X-ADDRESS=Thames Yacht Club 396 Pequot Avenue New London CT 06320 United States;X-APPLE-RADIUS=500;X-TITLE=396 Pequot Avenue:geo:-72.0946565,41.3308391
END:VEVENT
BEGIN:VEVENT
DTSTART;TZID=America/New_York:20140622T090000
DTEND;TZID=America/New_York:20140622T210000
DTSTAMP:20260425T222500
CREATED:20140419T064452Z
LAST-MODIFIED:20140503T140222Z
UID:10033493-1403427600-1403470800@thamesyc.org
SUMMARY:TYC Launch Schedule
DESCRIPTION:The TYC Launch is accessed via marine radio on Channel 71.
URL:https://thamesyc.org/event/tyc-launch-schedule-38/
LOCATION:Thames Yacht Club\, 396 Pequot Avenue\, New London\, CT\, 06320\, United States
CATEGORIES:TYC Launch Schedule
GEO:41.3308391;-72.0946565
X-APPLE-STRUCTURED-LOCATION;VALUE=URI;X-ADDRESS=Thames Yacht Club 396 Pequot Avenue New London CT 06320 United States;X-APPLE-RADIUS=500;X-TITLE=396 Pequot Avenue:geo:-72.0946565,41.3308391
END:VEVENT
BEGIN:VEVENT
DTSTART;TZID=America/New_York:20140621T090000
DTEND;TZID=America/New_York:20140621T210000
DTSTAMP:20260425T222500
CREATED:20140419T064238Z
LAST-MODIFIED:20140503T140110Z
UID:10033492-1403341200-1403384400@thamesyc.org
SUMMARY:TYC Launch Schedule
DESCRIPTION:Our Launch is accessible for members and transients via marine Channel 71.
URL:https://thamesyc.org/event/tyc-launch-schedule-37/
LOCATION:Thames Yacht Club\, 396 Pequot Avenue\, New London\, CT\, 06320\, United States
CATEGORIES:TYC Launch Schedule
GEO:41.3308391;-72.0946565
X-APPLE-STRUCTURED-LOCATION;VALUE=URI;X-ADDRESS=Thames Yacht Club 396 Pequot Avenue New London CT 06320 United States;X-APPLE-RADIUS=500;X-TITLE=396 Pequot Avenue:geo:-72.0946565,41.3308391
END:VEVENT
BEGIN:VEVENT
DTSTART;VALUE=DATE:20140621
DTEND;VALUE=DATE:20140623
DTSTAMP:20260425T222500
CREATED:20140425T233417Z
LAST-MODIFIED:20140425T234006Z
UID:10033569-1403308800-1403481599@thamesyc.org
SUMMARY:New London Boat Show
DESCRIPTION:Click here for more information. \nFrom the New London Day:\nNew London to host in-water boat show in June \nBy Brian Hallenbeck \nNew London – With winter on its last legs\, it might be a good time to start thinking about a boat show on the city’s waterfront. \nThere hasn’t been one of those since 2010. \nBarbara Neff\, the city events coordinator who pulled together the Long Island Sound Boaters Expo four years ago\, hopes to surpass that one-day event with a two-day show\, June 21-22\, at Waterfront Park\, along City Pier and the floating docks. \nDozens of boat dealers\, marinas and others are expected to participate\, Neff said. Boats ranging in size from 15 to 60 feet will be displayed\, as will a variety of accessories\, equipment\, electronics\, gear and services for boaters. \nThe Coast Guard Academy Jazz Band will perform on the show’s second day. \nfor the rest of the story from the New London Day by clicking here.
URL:https://thamesyc.org/event/new-london-boat-show/
LOCATION:Waterfront Park\, 2 State Street\, New London\, CT\, 06320\, United States
CATEGORIES:Party
GEO:41.354035;-72.0934891
X-APPLE-STRUCTURED-LOCATION;VALUE=URI;X-ADDRESS=Waterfront Park 2 State Street New London CT 06320 United States;X-APPLE-RADIUS=500;X-TITLE=2 State Street:geo:-72.0934891,41.354035
END:VEVENT
BEGIN:VEVENT
DTSTART;TZID=America/New_York:20140620T160000
DTEND;TZID=America/New_York:20140620T200000
DTSTAMP:20260425T222500
CREATED:20140414T172814Z
LAST-MODIFIED:20140503T140547Z
UID:10033485-1403280000-1403294400@thamesyc.org
SUMMARY:TYC Launch Schedule
DESCRIPTION:Our Launch is accessible to members and transients on Channel 71.
URL:https://thamesyc.org/event/tyc-launch-schedule-20/
CATEGORIES:TYC Launch Schedule
END:VEVENT
BEGIN:VEVENT
DTSTART;TZID=America/New_York:20140619T160000
DTEND;TZID=America/New_York:20140619T200000
DTSTAMP:20260425T222500
CREATED:20140414T172650Z
LAST-MODIFIED:20140503T135956Z
UID:10033484-1403193600-1403208000@thamesyc.org
SUMMARY:TYC Launch Schedule
DESCRIPTION:Our Launch is accessible to members and transients on Channel 71.
URL:https://thamesyc.org/event/tyc-launch-schedule-19/
LOCATION:Thames Yacht Club\, 396 Pequot Avenue\, New London\, CT\, 06320\, United States
CATEGORIES:TYC Launch Schedule
GEO:41.3308391;-72.0946565
X-APPLE-STRUCTURED-LOCATION;VALUE=URI;X-ADDRESS=Thames Yacht Club 396 Pequot Avenue New London CT 06320 United States;X-APPLE-RADIUS=500;X-TITLE=396 Pequot Avenue:geo:-72.0946565,41.3308391
END:VEVENT
BEGIN:VEVENT
DTSTART;TZID=America/New_York:20140618T160000
DTEND;TZID=America/New_York:20140618T210000
DTSTAMP:20260425T222500
CREATED:20140414T172513Z
LAST-MODIFIED:20140503T135847Z
UID:10033483-1403107200-1403125200@thamesyc.org
SUMMARY:TYC Launch Schedule
DESCRIPTION:Our Launch is accessible to members and transients on Channel 71.
URL:https://thamesyc.org/event/tyc-launch-schedule-18/
LOCATION:Thames Yacht Club\, 396 Pequot Avenue\, New London\, CT\, 06320\, United States
CATEGORIES:TYC Launch Schedule
GEO:41.3308391;-72.0946565
X-APPLE-STRUCTURED-LOCATION;VALUE=URI;X-ADDRESS=Thames Yacht Club 396 Pequot Avenue New London CT 06320 United States;X-APPLE-RADIUS=500;X-TITLE=396 Pequot Avenue:geo:-72.0946565,41.3308391
END:VEVENT
BEGIN:VEVENT
DTSTART;TZID=America/New_York:20140615T090000
DTEND;TZID=America/New_York:20140615T210000
DTSTAMP:20260425T222500
CREATED:20140414T172226Z
LAST-MODIFIED:20140503T135711Z
UID:10033482-1402822800-1402866000@thamesyc.org
SUMMARY:TYC Launch Schedule
DESCRIPTION:Our Launch is accessible to members and transients on Channel 71.
URL:https://thamesyc.org/event/tyc-launch-schedule-17/
LOCATION:Thames Yacht Club\, 396 Pequot Avenue\, New London\, CT\, 06320\, United States
CATEGORIES:TYC Launch Schedule
GEO:41.3308391;-72.0946565
X-APPLE-STRUCTURED-LOCATION;VALUE=URI;X-ADDRESS=Thames Yacht Club 396 Pequot Avenue New London CT 06320 United States;X-APPLE-RADIUS=500;X-TITLE=396 Pequot Avenue:geo:-72.0946565,41.3308391
END:VEVENT
BEGIN:VEVENT
DTSTART;VALUE=DATE:20140615
DTEND;VALUE=DATE:20140618
DTSTAMP:20260425T222500
CREATED:20140512T031147Z
LAST-MODIFIED:20140528T010005Z
UID:10033580-1402790400-1403049599@thamesyc.org
SUMMARY:Block Island Reservation
DESCRIPTION:Reserved for S/V Ledgelight June 15th\, 16th and 17th.
URL:https://thamesyc.org/event/block-island-reservation/
LOCATION:Block Island\, 40 Center Road\, Block Island\, RI\, 02807\, United States
CATEGORIES:Block Island Mooring Reservation.
GEO:41.1713756;-71.5794856
X-APPLE-STRUCTURED-LOCATION;VALUE=URI;X-ADDRESS=Block Island 40 Center Road Block Island RI 02807 United States;X-APPLE-RADIUS=500;X-TITLE=40 Center Road:geo:-71.5794856,41.1713756
END:VEVENT
BEGIN:VEVENT
DTSTART;TZID=America/New_York:20140614T090000
DTEND;TZID=America/New_York:20140614T210000
DTSTAMP:20260425T222500
CREATED:20140414T171956Z
LAST-MODIFIED:20140503T135549Z
UID:10033481-1402736400-1402779600@thamesyc.org
SUMMARY:TYC Launch Schedule
DESCRIPTION:Our Launch is accessible to members and transients on Channel 71.
URL:https://thamesyc.org/event/tyc-launch-schedule-16/
LOCATION:Thames Yacht Club\, 396 Pequot Avenue\, New London\, CT\, 06320\, United States
CATEGORIES:TYC Launch Schedule
GEO:41.3308391;-72.0946565
X-APPLE-STRUCTURED-LOCATION;VALUE=URI;X-ADDRESS=Thames Yacht Club 396 Pequot Avenue New London CT 06320 United States;X-APPLE-RADIUS=500;X-TITLE=396 Pequot Avenue:geo:-72.0946565,41.3308391
END:VEVENT
BEGIN:VEVENT
DTSTART;VALUE=DATE:20140614
DTEND;VALUE=DATE:20140616
DTSTAMP:20260425T222500
CREATED:20140422T020304Z
LAST-MODIFIED:20140522T125936Z
UID:10033501-1402704000-1402876799@thamesyc.org
SUMMARY:New London Cruise
DESCRIPTION:June 14-15 – The Thames Yacht Club 2014 Cruising Program – New London Cruise \nThe Details: \nContact Fleet Captain ASAP by clicking here if you are attending this cruise.  You must also download and complete this form by clicking here.\nThe Charles Morgan will be dock at New London during this weekend and the docks are not available. Ten moorings have been reserved for Saturday night\, June 14. The price of a mooring is $31.50/night. If you plan to attend the cruise\, please download and complete this form for the cruise and pay TYC before the end of May. \nThis slideshow requires JavaScript. \n  \nBy 1834\, New London had over 30 ships and 900 men from New London were employed in whaling. By the middle of the 1800s\, New London was America’s third leading whaling port\, behind New Bedford and Nantucket. An early beacon of some kind was reportedly erected around 1750 at the harbor’s entrance\, but it soon became apparent that a more permanent lighthouse was needed. \nClick here for more.
URL:https://thamesyc.org/event/new-london-cruise/
LOCATION:Thames Yacht Club\, 396 Pequot Avenue\, New London\, CT\, 06320\, United States
CATEGORIES:Cruise Event
GEO:41.3308391;-72.0946565
X-APPLE-STRUCTURED-LOCATION;VALUE=URI;X-ADDRESS=Thames Yacht Club 396 Pequot Avenue New London CT 06320 United States;X-APPLE-RADIUS=500;X-TITLE=396 Pequot Avenue:geo:-72.0946565,41.3308391
END:VEVENT
BEGIN:VEVENT
DTSTART;TZID=America/New_York:20140613T073000
DTEND;TZID=America/New_York:20140613T200000
DTSTAMP:20260425T222500
CREATED:20140414T171831Z
LAST-MODIFIED:20140503T135454Z
UID:10033480-1402644600-1402689600@thamesyc.org
SUMMARY:TYC Launch Schedule
DESCRIPTION:Our Launch is accessible to members and transients on Channel 71.
URL:https://thamesyc.org/event/tyc-launch-schedule-15/
LOCATION:Thames Yacht Club\, 396 Pequot Avenue\, New London\, CT\, 06320\, United States
CATEGORIES:TYC Launch Schedule
GEO:41.3308391;-72.0946565
X-APPLE-STRUCTURED-LOCATION;VALUE=URI;X-ADDRESS=Thames Yacht Club 396 Pequot Avenue New London CT 06320 United States;X-APPLE-RADIUS=500;X-TITLE=396 Pequot Avenue:geo:-72.0946565,41.3308391
END:VEVENT
BEGIN:VEVENT
DTSTART;TZID=America/New_York:20140612T090000
DTEND;TZID=America/New_York:20140612T210000
DTSTAMP:20260425T222500
CREATED:20140414T171613Z
LAST-MODIFIED:20140503T135257Z
UID:10033479-1402563600-1402606800@thamesyc.org
SUMMARY:TYC Launch Schedule
DESCRIPTION:Our Launch is accessible to members and transients on Channel 71.
URL:https://thamesyc.org/event/tyc-launch-schedule-14/
LOCATION:Thames Yacht Club\, 396 Pequot Avenue\, New London\, CT\, 06320\, United States
CATEGORIES:TYC Launch Schedule
GEO:41.3308391;-72.0946565
X-APPLE-STRUCTURED-LOCATION;VALUE=URI;X-ADDRESS=Thames Yacht Club 396 Pequot Avenue New London CT 06320 United States;X-APPLE-RADIUS=500;X-TITLE=396 Pequot Avenue:geo:-72.0946565,41.3308391
END:VEVENT
BEGIN:VEVENT
DTSTART;TZID=America/New_York:20140611T160000
DTEND;TZID=America/New_York:20140611T210000
DTSTAMP:20260425T222500
CREATED:20140414T171424Z
LAST-MODIFIED:20140503T135159Z
UID:10033478-1402502400-1402520400@thamesyc.org
SUMMARY:TYC Launch Schedule
DESCRIPTION:Our Launch is accessible to members and transients on Channel 71.
URL:https://thamesyc.org/event/tyc-launch-schedule-13/
LOCATION:Thames Yacht Club\, 396 Pequot Avenue\, New London\, CT\, 06320\, United States
CATEGORIES:TYC Launch Schedule
GEO:41.3308391;-72.0946565
X-APPLE-STRUCTURED-LOCATION;VALUE=URI;X-ADDRESS=Thames Yacht Club 396 Pequot Avenue New London CT 06320 United States;X-APPLE-RADIUS=500;X-TITLE=396 Pequot Avenue:geo:-72.0946565,41.3308391
END:VEVENT
BEGIN:VEVENT
DTSTART;TZID=America/New_York:20140608T090000
DTEND;TZID=America/New_York:20140608T210000
DTSTAMP:20260425T222500
CREATED:20140414T171232Z
LAST-MODIFIED:20140503T135058Z
UID:10033477-1402218000-1402261200@thamesyc.org
SUMMARY:TYC Launch Schedule
DESCRIPTION:Our Launch is accessible to members and transients on Channel 71.
URL:https://thamesyc.org/event/tyc-launch-schedule-12/
LOCATION:Thames Yacht Club\, 396 Pequot Avenue\, New London\, CT\, 06320\, United States
GEO:41.3308391;-72.0946565
X-APPLE-STRUCTURED-LOCATION;VALUE=URI;X-ADDRESS=Thames Yacht Club 396 Pequot Avenue New London CT 06320 United States;X-APPLE-RADIUS=500;X-TITLE=396 Pequot Avenue:geo:-72.0946565,41.3308391
END:VEVENT
BEGIN:VEVENT
DTSTART;TZID=America/New_York:20140607T090000
DTEND;TZID=America/New_York:20140607T210000
DTSTAMP:20260425T222500
CREATED:20140414T171141Z
LAST-MODIFIED:20140503T134953Z
UID:10033476-1402131600-1402174800@thamesyc.org
SUMMARY:TYC Launch Schedule
DESCRIPTION:Our Launch is accessible to members and transients on Channel 71.
URL:https://thamesyc.org/event/tyc-launch-schedule-11/
LOCATION:Thames Yacht Club\, 396 Pequot Avenue\, New London\, CT\, 06320\, United States
CATEGORIES:TYC Launch Schedule
GEO:41.3308391;-72.0946565
X-APPLE-STRUCTURED-LOCATION;VALUE=URI;X-ADDRESS=Thames Yacht Club 396 Pequot Avenue New London CT 06320 United States;X-APPLE-RADIUS=500;X-TITLE=396 Pequot Avenue:geo:-72.0946565,41.3308391
END:VEVENT
BEGIN:VEVENT
DTSTART;TZID=America/New_York:20140605T181000
DTEND;TZID=America/New_York:20140605T200000
DTSTAMP:20260425T222500
CREATED:20140425T153107Z
LAST-MODIFIED:20140425T164632Z
UID:10033533-1401991800-1401998400@thamesyc.org
SUMMARY:Thursday Night Spring Series Race - 1st Warning 1810
DESCRIPTION:Warning @ 1810 – Please see Racing Page for NOR and Sailing Instructions \n 
URL:https://thamesyc.org/event/thursday-night-spring-series-race/2014-06-05/
LOCATION:Thames Yacht Club\, 396 Pequot Avenue\, New London\, CT\, 06320\, United States
CATEGORIES:Racing
GEO:41.3308391;-72.0946565
X-APPLE-STRUCTURED-LOCATION;VALUE=URI;X-ADDRESS=Thames Yacht Club 396 Pequot Avenue New London CT 06320 United States;X-APPLE-RADIUS=500;X-TITLE=396 Pequot Avenue:geo:-72.0946565,41.3308391
END:VEVENT
BEGIN:VEVENT
DTSTART;TZID=America/New_York:20140605T160000
DTEND;TZID=America/New_York:20140605T200000
DTSTAMP:20260425T222500
CREATED:20140414T171006Z
LAST-MODIFIED:20140503T134907Z
UID:10033475-1401984000-1401998400@thamesyc.org
SUMMARY:TYC Launch Schedule
DESCRIPTION:Our Launch is accessible to members and transients on Channel 71.
URL:https://thamesyc.org/event/tyc-launch-schedule-10/
LOCATION:Thames Yacht Club\, 396 Pequot Avenue\, New London\, CT\, 06320\, United States
CATEGORIES:TYC Launch Schedule
GEO:41.3308391;-72.0946565
X-APPLE-STRUCTURED-LOCATION;VALUE=URI;X-ADDRESS=Thames Yacht Club 396 Pequot Avenue New London CT 06320 United States;X-APPLE-RADIUS=500;X-TITLE=396 Pequot Avenue:geo:-72.0946565,41.3308391
END:VEVENT
BEGIN:VEVENT
DTSTART;TZID=America/New_York:20140604T181000
DTEND;TZID=America/New_York:20140604T200000
DTSTAMP:20260425T222500
CREATED:20140425T162427Z
LAST-MODIFIED:20140425T164828Z
UID:10033529-1401905400-1401912000@thamesyc.org
SUMMARY:Wednesday Night Spring Series Race - 1st Warning 1810
DESCRIPTION:First warning at 1810 – Please click here for more information.
URL:https://thamesyc.org/event/wednesday-night-spring-series-race-7/2014-06-04/
LOCATION:Thames Yacht Club\, 396 Pequot Avenue\, New London\, CT\, 06320\, United States
CATEGORIES:Racing
GEO:41.3308391;-72.0946565
X-APPLE-STRUCTURED-LOCATION;VALUE=URI;X-ADDRESS=Thames Yacht Club 396 Pequot Avenue New London CT 06320 United States;X-APPLE-RADIUS=500;X-TITLE=396 Pequot Avenue:geo:-72.0946565,41.3308391
END:VEVENT
BEGIN:VEVENT
DTSTART;TZID=America/New_York:20140604T160000
DTEND;TZID=America/New_York:20140604T210000
DTSTAMP:20260425T222500
CREATED:20140414T170811Z
LAST-MODIFIED:20140503T134808Z
UID:10033474-1401897600-1401915600@thamesyc.org
SUMMARY:TYC Launch Schedule
DESCRIPTION:Our Launch is accessible to members and transients on Channel 71.
URL:https://thamesyc.org/event/tyc-launch-schedule-9/
LOCATION:Thames Yacht Club\, 396 Pequot Avenue\, New London\, CT\, 06320\, United States
CATEGORIES:TYC Launch Schedule
GEO:41.3308391;-72.0946565
X-APPLE-STRUCTURED-LOCATION;VALUE=URI;X-ADDRESS=Thames Yacht Club 396 Pequot Avenue New London CT 06320 United States;X-APPLE-RADIUS=500;X-TITLE=396 Pequot Avenue:geo:-72.0946565,41.3308391
END:VEVENT
BEGIN:VEVENT
DTSTART;TZID=America/New_York:20140601T120000
DTEND;TZID=America/New_York:20140601T150000
DTSTAMP:20260425T222500
CREATED:20140425T161229Z
LAST-MODIFIED:20140425T165049Z
UID:10033531-1401624000-1401634800@thamesyc.org
SUMMARY:The Chili Series Race - 1st Warning 1200
DESCRIPTION:First Warning at 1200 – Please click here for more information.
URL:https://thamesyc.org/event/chili-series-race-5/2014-06-01/
LOCATION:Thames Yacht Club\, 396 Pequot Avenue\, New London\, CT\, 06320\, United States
CATEGORIES:Racing
GEO:41.3308391;-72.0946565
X-APPLE-STRUCTURED-LOCATION;VALUE=URI;X-ADDRESS=Thames Yacht Club 396 Pequot Avenue New London CT 06320 United States;X-APPLE-RADIUS=500;X-TITLE=396 Pequot Avenue:geo:-72.0946565,41.3308391
END:VEVENT
BEGIN:VEVENT
DTSTART;TZID=America/New_York:20140601T090000
DTEND;TZID=America/New_York:20140601T210000
DTSTAMP:20260425T222500
CREATED:20140414T170448Z
LAST-MODIFIED:20140503T134717Z
UID:10033473-1401613200-1401656400@thamesyc.org
SUMMARY:TYC Launch Schedule
DESCRIPTION:Our Launch is accessible to members and transients on Channel 71.
URL:https://thamesyc.org/event/tyc-launch-schedule-8/
LOCATION:Thames Yacht Club\, 396 Pequot Avenue\, New London\, CT\, 06320\, United States
CATEGORIES:TYC Launch Schedule
GEO:41.3308391;-72.0946565
X-APPLE-STRUCTURED-LOCATION;VALUE=URI;X-ADDRESS=Thames Yacht Club 396 Pequot Avenue New London CT 06320 United States;X-APPLE-RADIUS=500;X-TITLE=396 Pequot Avenue:geo:-72.0946565,41.3308391
END:VEVENT
BEGIN:VEVENT
DTSTART;VALUE=DATE:20140531
DTEND;VALUE=DATE:20140601
DTSTAMP:20260425T222500
CREATED:20140522T131552Z
LAST-MODIFIED:20140522T131741Z
UID:10033582-1401494400-1401580799@thamesyc.org
SUMMARY:New London Cruise Registration Deadline
DESCRIPTION:New London Waterfront Park Moorings – The first cruise of the season\nMooring Date – One night – June 14\, 2014 \nThe completed form and payment MUST be received by TYC Treasurer before May 31\, 2014.  The price of a mooring is $31.50/night.  \n\n← Back Thank you for your response. ✨\n\n\n					\n						\n						\n						\n						\n						\n							\n								\n									\n										\n										\n									\n									\n										\n										\n									\n								\n							\n						\n						\n							\n								\n									\n									\n										\n									\n									\n									\n								\n							\n						\n					\n				\n\n\n\nName(required)\n\n \n			\n				\n					\n						\n						\n						\n					\n				\n				\n			 \n	\n\n\nAddress\n\n \n			\n				\n					\n						\n						\n						\n					\n				\n				\n			 \n	\n\n\nBoat Name(required)\n\n \n			\n				\n					\n						\n						\n						\n					\n				\n				\n			 \n	\n\n\nBoat Length(required)\n\n \n			\n				\n					\n						\n						\n						\n					\n				\n				\n			 \n	\n\n\nBoat Type(required)\n\n \n			\n				\n					\n						\n						\n						\n					\n				\n				\n			 \n	\n\n\nCell Phone(required)\n\n \n			\n				\n					\n						\n						\n						\n					\n				\n				\n			 \n	\n	\n\n				\n					\n				\n						Submit		\n		\n		\n	 \nΔ
URL:https://thamesyc.org/event/new-london-cruise-registration-deadline/
LOCATION:Thames Yacht Club\, 396 Pequot Avenue\, New London\, CT\, 06320\, United States
CATEGORIES:Cruise Event
GEO:41.3308391;-72.0946565
X-APPLE-STRUCTURED-LOCATION;VALUE=URI;X-ADDRESS=Thames Yacht Club 396 Pequot Avenue New London CT 06320 United States;X-APPLE-RADIUS=500;X-TITLE=396 Pequot Avenue:geo:-72.0946565,41.3308391
END:VEVENT
BEGIN:VEVENT
DTSTART;TZID=America/New_York:20140526T090000
DTEND;TZID=America/New_York:20140526T210000
DTSTAMP:20260425T222500
CREATED:20140414T163715Z
LAST-MODIFIED:20140503T134448Z
UID:10033472-1401094800-1401138000@thamesyc.org
SUMMARY:TYC Launch Schedule
DESCRIPTION:Our Launch is accessible to members and transients via marine Channel 71.
URL:https://thamesyc.org/event/tyc-launch-schedule-3/
CATEGORIES:TYC Launch Schedule
END:VEVENT
BEGIN:VEVENT
DTSTART;TZID=America/New_York:20140525T090000
DTEND;TZID=America/New_York:20140525T210000
DTSTAMP:20260425T222500
CREATED:20140414T163620Z
LAST-MODIFIED:20140503T134358Z
UID:10033471-1401008400-1401051600@thamesyc.org
SUMMARY:TYC Launch Schedule
DESCRIPTION:Our launch is is accessible by members and transients on marine Channel 71. \n  \n  \n  \n 
URL:https://thamesyc.org/event/tyc-launch-schedule-2/
CATEGORIES:TYC Launch Schedule
END:VEVENT
BEGIN:VEVENT
DTSTART;TZID=America/New_York:20140524T090000
DTEND;TZID=America/New_York:20140524T210000
DTSTAMP:20260425T222500
CREATED:20140414T163342Z
LAST-MODIFIED:20140503T134231Z
UID:10033470-1400922000-1400965200@thamesyc.org
SUMMARY:TYC Launch Schedule
DESCRIPTION:Our Launch is accessible to members and transients on Channel 71.
URL:https://thamesyc.org/event/tyc-launch-schedule/
LOCATION:Thames Yacht Club\, 396 Pequot Avenue\, New London\, CT\, 06320\, United States
CATEGORIES:TYC Launch Schedule
GEO:41.3308391;-72.0946565
X-APPLE-STRUCTURED-LOCATION;VALUE=URI;X-ADDRESS=Thames Yacht Club 396 Pequot Avenue New London CT 06320 United States;X-APPLE-RADIUS=500;X-TITLE=396 Pequot Avenue:geo:-72.0946565,41.3308391
END:VEVENT
BEGIN:VEVENT
DTSTART;TZID=America/New_York:20140523T160000
DTEND;TZID=America/New_York:20140523T200000
DTSTAMP:20260425T222500
CREATED:20140430T021455Z
LAST-MODIFIED:20140430T021455Z
UID:10033571-1400860800-1400875200@thamesyc.org
SUMMARY:TYC Launch Schedule
DESCRIPTION:Our Launch is available to members and transients on marine Channel 71.
URL:https://thamesyc.org/event/tyc-launch-schedule-112/
LOCATION:Thames Yacht Club\, 396 Pequot Avenue\, New London\, CT\, 06320\, United States
CATEGORIES:TYC Launch Schedule
GEO:41.3308391;-72.0946565
X-APPLE-STRUCTURED-LOCATION;VALUE=URI;X-ADDRESS=Thames Yacht Club 396 Pequot Avenue New London CT 06320 United States;X-APPLE-RADIUS=500;X-TITLE=396 Pequot Avenue:geo:-72.0946565,41.3308391
END:VEVENT
END:VCALENDAR