BEGIN:VCALENDAR
VERSION:2.0
PRODID:-//Thames Yacht Club - ECPv6.15.17//NONSGML v1.0//EN
CALSCALE:GREGORIAN
METHOD:PUBLISH
X-ORIGINAL-URL:https://thamesyc.org
X-WR-CALDESC:Events for Thames Yacht Club
REFRESH-INTERVAL;VALUE=DURATION:PT1H
X-Robots-Tag:noindex
X-PUBLISHED-TTL:PT1H
BEGIN:VTIMEZONE
TZID:America/New_York
BEGIN:DAYLIGHT
TZOFFSETFROM:-0500
TZOFFSETTO:-0400
TZNAME:EDT
DTSTART:20250309T070000
END:DAYLIGHT
BEGIN:STANDARD
TZOFFSETFROM:-0400
TZOFFSETTO:-0500
TZNAME:EST
DTSTART:20251102T060000
END:STANDARD
BEGIN:DAYLIGHT
TZOFFSETFROM:-0500
TZOFFSETTO:-0400
TZNAME:EDT
DTSTART:20260308T070000
END:DAYLIGHT
BEGIN:STANDARD
TZOFFSETFROM:-0400
TZOFFSETTO:-0500
TZNAME:EST
DTSTART:20261101T060000
END:STANDARD
BEGIN:DAYLIGHT
TZOFFSETFROM:-0500
TZOFFSETTO:-0400
TZNAME:EDT
DTSTART:20270314T070000
END:DAYLIGHT
BEGIN:STANDARD
TZOFFSETFROM:-0400
TZOFFSETTO:-0500
TZNAME:EST
DTSTART:20271107T060000
END:STANDARD
END:VTIMEZONE
BEGIN:VEVENT
DTSTART;TZID=America/New_York:20260717T090000
DTEND;TZID=America/New_York:20260717T160000
DTSTAMP:20260425T075317
CREATED:20260120T194123Z
LAST-MODIFIED:20260120T194123Z
UID:10039510-1784278800-1784304000@thamesyc.org
SUMMARY:Youth Sailing
DESCRIPTION:
URL:https://thamesyc.org/event/youth-sailing-23/
CATEGORIES:Training
END:VEVENT
BEGIN:VEVENT
DTSTART;TZID=America/New_York:20260717T090000
DTEND;TZID=America/New_York:20260717T210000
DTSTAMP:20260425T075317
CREATED:20260421T001949Z
LAST-MODIFIED:20260421T001949Z
UID:10039673-1784278800-1784322000@thamesyc.org
SUMMARY:Launch Hours
DESCRIPTION:
URL:https://thamesyc.org/event/launch-hours-111/
CATEGORIES:TYC Launch Schedule
END:VEVENT
BEGIN:VEVENT
DTSTART;TZID=America/New_York:20260718T090000
DTEND;TZID=America/New_York:20260718T210000
DTSTAMP:20260425T075317
CREATED:20260421T002027Z
LAST-MODIFIED:20260421T002027Z
UID:10039674-1784365200-1784408400@thamesyc.org
SUMMARY:Launch Hours
DESCRIPTION:
URL:https://thamesyc.org/event/launch-hours-112/
CATEGORIES:TYC Launch Schedule
END:VEVENT
BEGIN:VEVENT
DTSTART;TZID=America/New_York:20260719T090000
DTEND;TZID=America/New_York:20260719T210000
DTSTAMP:20260425T075317
CREATED:20260421T002101Z
LAST-MODIFIED:20260421T002101Z
UID:10039675-1784451600-1784494800@thamesyc.org
SUMMARY:Launch Hours
DESCRIPTION:
URL:https://thamesyc.org/event/launch-hours-113/
CATEGORIES:TYC Launch Schedule
END:VEVENT
BEGIN:VEVENT
DTSTART;VALUE=DATE:20260720
DTEND;VALUE=DATE:20260721
DTSTAMP:20260425T075317
CREATED:20260421T012508Z
LAST-MODIFIED:20260421T012549Z
UID:10039743-1784505600-1784591999@thamesyc.org
SUMMARY:Block Island Mooring - S/V Blue Note
DESCRIPTION:
URL:https://thamesyc.org/event/block-island-mooring-s-v-blue-note/
CATEGORIES:Block Island Mooring Reservation.
END:VEVENT
BEGIN:VEVENT
DTSTART;TZID=America/New_York:20260720T090000
DTEND;TZID=America/New_York:20260720T160000
DTSTAMP:20260425T075317
CREATED:20260120T194221Z
LAST-MODIFIED:20260120T194221Z
UID:10039511-1784538000-1784563200@thamesyc.org
SUMMARY:Youth Sailing
DESCRIPTION:
URL:https://thamesyc.org/event/youth-sailing-24/
CATEGORIES:Training
END:VEVENT
BEGIN:VEVENT
DTSTART;TZID=America/New_York:20260720T090000
DTEND;TZID=America/New_York:20260720T210000
DTSTAMP:20260425T075317
CREATED:20260421T002137Z
LAST-MODIFIED:20260421T002137Z
UID:10039676-1784538000-1784581200@thamesyc.org
SUMMARY:Launch Hours
DESCRIPTION:
URL:https://thamesyc.org/event/launch-hours-114/
CATEGORIES:TYC Launch Schedule
END:VEVENT
BEGIN:VEVENT
DTSTART;TZID=America/New_York:20260720T173000
DTEND;TZID=America/New_York:20260720T200000
DTSTAMP:20260425T075317
CREATED:20260120T201905Z
LAST-MODIFIED:20260120T201905Z
UID:10039536-1784568600-1784577600@thamesyc.org
SUMMARY:Adult Sailing
DESCRIPTION:
URL:https://thamesyc.org/event/adult-sailing-10/
CATEGORIES:Training
END:VEVENT
BEGIN:VEVENT
DTSTART;VALUE=DATE:20260721
DTEND;VALUE=DATE:20260722
DTSTAMP:20260425T075317
CREATED:20260421T012623Z
LAST-MODIFIED:20260421T012623Z
UID:10039744-1784592000-1784678399@thamesyc.org
SUMMARY:Block Island Mooring - S/V Blue Note
DESCRIPTION:
URL:https://thamesyc.org/event/block-island-mooring-s-v-blue-note-2/
CATEGORIES:Block Island Mooring Reservation.
END:VEVENT
BEGIN:VEVENT
DTSTART;TZID=America/New_York:20260721T090000
DTEND;TZID=America/New_York:20260721T160000
DTSTAMP:20260425T075317
CREATED:20260120T194312Z
LAST-MODIFIED:20260120T194312Z
UID:10039512-1784624400-1784649600@thamesyc.org
SUMMARY:Youth Sailing
DESCRIPTION:
URL:https://thamesyc.org/event/youth-sailing-25/
CATEGORIES:Training
END:VEVENT
BEGIN:VEVENT
DTSTART;TZID=America/New_York:20260721T090000
DTEND;TZID=America/New_York:20260721T210000
DTSTAMP:20260425T075317
CREATED:20260421T002207Z
LAST-MODIFIED:20260421T002207Z
UID:10039677-1784624400-1784667600@thamesyc.org
SUMMARY:Launch Hours
DESCRIPTION:
URL:https://thamesyc.org/event/launch-hours-115/
CATEGORIES:TYC Launch Schedule
END:VEVENT
BEGIN:VEVENT
DTSTART;TZID=America/New_York:20260721T173000
DTEND;TZID=America/New_York:20260721T200000
DTSTAMP:20260425T075317
CREATED:20260120T202023Z
LAST-MODIFIED:20260120T202023Z
UID:10039537-1784655000-1784664000@thamesyc.org
SUMMARY:Adult Sailing
DESCRIPTION:
URL:https://thamesyc.org/event/adult-sailing-11/
CATEGORIES:Training
END:VEVENT
BEGIN:VEVENT
DTSTART;VALUE=DATE:20260722
DTEND;VALUE=DATE:20260723
DTSTAMP:20260425T075317
CREATED:20260421T012650Z
LAST-MODIFIED:20260421T012658Z
UID:10039745-1784678400-1784764799@thamesyc.org
SUMMARY:Block Island Mooring - S/V Blue Note
DESCRIPTION:
URL:https://thamesyc.org/event/block-island-mooring-s-v-blue-note-3/
CATEGORIES:Block Island Mooring Reservation.
END:VEVENT
BEGIN:VEVENT
DTSTART;TZID=America/New_York:20260722T090000
DTEND;TZID=America/New_York:20260722T160000
DTSTAMP:20260425T075317
CREATED:20260120T194347Z
LAST-MODIFIED:20260120T194347Z
UID:10039513-1784710800-1784736000@thamesyc.org
SUMMARY:Youth Sailing
DESCRIPTION:
URL:https://thamesyc.org/event/youth-sailing-26/
CATEGORIES:Training
END:VEVENT
BEGIN:VEVENT
DTSTART;TZID=America/New_York:20260722T090000
DTEND;TZID=America/New_York:20260722T213000
DTSTAMP:20260425T075317
CREATED:20260421T002238Z
LAST-MODIFIED:20260421T002238Z
UID:10039678-1784710800-1784755800@thamesyc.org
SUMMARY:Launch Hours
DESCRIPTION:
URL:https://thamesyc.org/event/launch-hours-116/
CATEGORIES:TYC Launch Schedule
END:VEVENT
BEGIN:VEVENT
DTSTART;TZID=America/New_York:20260722T170000
DTEND;TZID=America/New_York:20260722T200000
DTSTAMP:20260425T075317
CREATED:20260420T222239Z
LAST-MODIFIED:20260420T222239Z
UID:10039606-1784739600-1784750400@thamesyc.org
SUMMARY:PHRF and Ensign Summer Series
DESCRIPTION:
URL:https://thamesyc.org/event/phrf-and-ensign-summer-series/
CATEGORIES:Racing
END:VEVENT
BEGIN:VEVENT
DTSTART;VALUE=DATE:20260723
DTEND;VALUE=DATE:20260724
DTSTAMP:20260425T075317
CREATED:20260421T012727Z
LAST-MODIFIED:20260421T012727Z
UID:10039746-1784764800-1784851199@thamesyc.org
SUMMARY:Block Island Mooring - S/V Blue Note
DESCRIPTION:
URL:https://thamesyc.org/event/block-island-mooring-s-v-blue-note-4/
CATEGORIES:Block Island Mooring Reservation.
END:VEVENT
BEGIN:VEVENT
DTSTART;TZID=America/New_York:20260723T090000
DTEND;TZID=America/New_York:20260723T160000
DTSTAMP:20260425T075317
CREATED:20260120T194441Z
LAST-MODIFIED:20260120T194441Z
UID:10039514-1784797200-1784822400@thamesyc.org
SUMMARY:Youth Sailing
DESCRIPTION:
URL:https://thamesyc.org/event/youth-sailing-27/
CATEGORIES:Training
END:VEVENT
BEGIN:VEVENT
DTSTART;TZID=America/New_York:20260723T090000
DTEND;TZID=America/New_York:20260723T210000
DTSTAMP:20260425T075317
CREATED:20260421T002310Z
LAST-MODIFIED:20260421T002310Z
UID:10039679-1784797200-1784840400@thamesyc.org
SUMMARY:Launch Hours
DESCRIPTION:
URL:https://thamesyc.org/event/launch-hours-117/
CATEGORIES:TYC Launch Schedule
END:VEVENT
BEGIN:VEVENT
DTSTART;TZID=America/New_York:20260723T170000
DTEND;TZID=America/New_York:20260723T200000
DTSTAMP:20260425T075317
CREATED:20260420T222803Z
LAST-MODIFIED:20260420T222803Z
UID:10039613-1784826000-1784836800@thamesyc.org
SUMMARY:Force 5 and Finn Summer Series
DESCRIPTION:
URL:https://thamesyc.org/event/force-5-and-finn-summer-series/
CATEGORIES:Racing
END:VEVENT
BEGIN:VEVENT
DTSTART;VALUE=DATE:20260724
DTEND;VALUE=DATE:20260725
DTSTAMP:20260425T075317
CREATED:20260421T012823Z
LAST-MODIFIED:20260421T012835Z
UID:10039747-1784851200-1784937599@thamesyc.org
SUMMARY:Block Island Mooring - S/V Blue Note
DESCRIPTION:
URL:https://thamesyc.org/event/block-island-mooring-s-v-blue-note-5/
CATEGORIES:Block Island Mooring Reservation.
END:VEVENT
BEGIN:VEVENT
DTSTART;TZID=America/New_York:20260724T090000
DTEND;TZID=America/New_York:20260724T160000
DTSTAMP:20260425T075317
CREATED:20260120T194545Z
LAST-MODIFIED:20260120T194545Z
UID:10039515-1784883600-1784908800@thamesyc.org
SUMMARY:Youth Sailing
DESCRIPTION:
URL:https://thamesyc.org/event/youth-sailing-28/
CATEGORIES:Training
END:VEVENT
BEGIN:VEVENT
DTSTART;TZID=America/New_York:20260724T090000
DTEND;TZID=America/New_York:20260724T210000
DTSTAMP:20260425T075317
CREATED:20260421T002339Z
LAST-MODIFIED:20260421T002339Z
UID:10039680-1784883600-1784926800@thamesyc.org
SUMMARY:Launch Hours
DESCRIPTION:
URL:https://thamesyc.org/event/launch-hours-118/
CATEGORIES:TYC Launch Schedule
END:VEVENT
BEGIN:VEVENT
DTSTART;VALUE=DATE:20260725
DTEND;VALUE=DATE:20260726
DTSTAMP:20260425T075317
CREATED:20260421T012920Z
LAST-MODIFIED:20260421T012920Z
UID:10039748-1784937600-1785023999@thamesyc.org
SUMMARY:Block Island Mooring - S/V Blue Note
DESCRIPTION:
URL:https://thamesyc.org/event/block-island-mooring-s-v-blue-note-6/
CATEGORIES:Block Island Mooring Reservation.
END:VEVENT
BEGIN:VEVENT
DTSTART;TZID=America/New_York:20260725T090000
DTEND;TZID=America/New_York:20260725T150000
DTSTAMP:20260425T075317
CREATED:20260120T203758Z
LAST-MODIFIED:20260120T203758Z
UID:10039543-1784970000-1784991600@thamesyc.org
SUMMARY:Adult Sailing
DESCRIPTION:
URL:https://thamesyc.org/event/adult-sailing-16/
CATEGORIES:Training
END:VEVENT
BEGIN:VEVENT
DTSTART;TZID=America/New_York:20260725T090000
DTEND;TZID=America/New_York:20260725T210000
DTSTAMP:20260425T075317
CREATED:20260421T002414Z
LAST-MODIFIED:20260421T002414Z
UID:10039681-1784970000-1785013200@thamesyc.org
SUMMARY:Launch Hours
DESCRIPTION:
URL:https://thamesyc.org/event/launch-hours-119/
CATEGORIES:TYC Launch Schedule
END:VEVENT
BEGIN:VEVENT
DTSTART;TZID=America/New_York:20260725T130000
DTEND;TZID=America/New_York:20260725T210000
DTSTAMP:20260425T075317
CREATED:20260417T224607Z
LAST-MODIFIED:20260417T224607Z
UID:10039560-1784984400-1785013200@thamesyc.org
SUMMARY:Club Rental 2nd Floor - Nancy Rosata
DESCRIPTION:
URL:https://thamesyc.org/event/club-rental-2nd-floor-nancy-rosata/
CATEGORIES:Facility Rental
END:VEVENT
BEGIN:VEVENT
DTSTART;TZID=America/New_York:20260726T090000
DTEND;TZID=America/New_York:20260726T150000
DTSTAMP:20260425T075317
CREATED:20260120T203922Z
LAST-MODIFIED:20260120T203922Z
UID:10039544-1785056400-1785078000@thamesyc.org
SUMMARY:Adult Sailing
DESCRIPTION:
URL:https://thamesyc.org/event/adult-sailing-17/
CATEGORIES:Training
END:VEVENT
BEGIN:VEVENT
DTSTART;TZID=America/New_York:20260726T090000
DTEND;TZID=America/New_York:20260726T210000
DTSTAMP:20260425T075317
CREATED:20260421T002449Z
LAST-MODIFIED:20260421T002449Z
UID:10039682-1785056400-1785099600@thamesyc.org
SUMMARY:Launch Hours
DESCRIPTION:
URL:https://thamesyc.org/event/launch-hours-120/
CATEGORIES:TYC Launch Schedule
END:VEVENT
BEGIN:VEVENT
DTSTART;TZID=America/New_York:20260726T170000
DTEND;TZID=America/New_York:20260726T180000
DTSTAMP:20260425T075317
CREATED:20260111T194748Z
LAST-MODIFIED:20260111T194833Z
UID:10039485-1785085200-1785088800@thamesyc.org
SUMMARY:General Membership Meeting
DESCRIPTION:
URL:https://thamesyc.org/event/general-membership-meeting-18/
CATEGORIES:Club Wide Event
END:VEVENT
END:VCALENDAR