BEGIN:VCALENDAR
VERSION:2.0
PRODID:-//Thames Yacht Club - ECPv6.15.20//NONSGML v1.0//EN
CALSCALE:GREGORIAN
METHOD:PUBLISH
X-WR-CALNAME:Thames Yacht Club
X-ORIGINAL-URL:https://thamesyc.org
X-WR-CALDESC:Events for Thames Yacht Club
REFRESH-INTERVAL;VALUE=DURATION:PT1H
X-Robots-Tag:noindex
X-PUBLISHED-TTL:PT1H
BEGIN:VTIMEZONE
TZID:America/New_York
BEGIN:DAYLIGHT
TZOFFSETFROM:-0500
TZOFFSETTO:-0400
TZNAME:EDT
DTSTART:20160313T070000
END:DAYLIGHT
BEGIN:STANDARD
TZOFFSETFROM:-0400
TZOFFSETTO:-0500
TZNAME:EST
DTSTART:20161106T060000
END:STANDARD
BEGIN:DAYLIGHT
TZOFFSETFROM:-0500
TZOFFSETTO:-0400
TZNAME:EDT
DTSTART:20170312T070000
END:DAYLIGHT
BEGIN:STANDARD
TZOFFSETFROM:-0400
TZOFFSETTO:-0500
TZNAME:EST
DTSTART:20171105T060000
END:STANDARD
BEGIN:DAYLIGHT
TZOFFSETFROM:-0500
TZOFFSETTO:-0400
TZNAME:EDT
DTSTART:20180311T070000
END:DAYLIGHT
BEGIN:STANDARD
TZOFFSETFROM:-0400
TZOFFSETTO:-0500
TZNAME:EST
DTSTART:20181104T060000
END:STANDARD
END:VTIMEZONE
BEGIN:VEVENT
DTSTART;TZID=America/New_York:20170817T090000
DTEND;TZID=America/New_York:20170817T210000
DTSTAMP:20260425T222348
CREATED:20170325T165125Z
LAST-MODIFIED:20170325T165125Z
UID:10034050-1502960400-1503003600@thamesyc.org
SUMMARY:TYC Launch Schedule
DESCRIPTION:The TYC Launch can be hailed on VHF Channel 71
URL:https://thamesyc.org/event/tyc-launch-schedule-69/2017-08-17/
LOCATION:Thames Yacht Club\, 396 Pequot Avenue\, New London\, CT\, 06320\, United States
CATEGORIES:TYC Launch Schedule
GEO:41.3308391;-72.0946565
X-APPLE-STRUCTURED-LOCATION;VALUE=URI;X-ADDRESS=Thames Yacht Club 396 Pequot Avenue New London CT 06320 United States;X-APPLE-RADIUS=500;X-TITLE=396 Pequot Avenue:geo:-72.0946565,41.3308391
END:VEVENT
BEGIN:VEVENT
DTSTART;TZID=America/New_York:20170817T173000
DTEND;TZID=America/New_York:20170817T210000
DTSTAMP:20260425T222348
CREATED:20170211T215954Z
LAST-MODIFIED:20170211T215954Z
UID:10033995-1502991000-1503003600@thamesyc.org
SUMMARY:Force Five Thursday Night Series
DESCRIPTION:
URL:https://thamesyc.org/event/force-five-thursday-night-series/2017-08-17/
CATEGORIES:Racing
END:VEVENT
BEGIN:VEVENT
DTSTART;TZID=America/New_York:20170818T090000
DTEND;TZID=America/New_York:20170818T210000
DTSTAMP:20260425T222348
CREATED:20170325T165125Z
LAST-MODIFIED:20170325T165125Z
UID:10034051-1503046800-1503090000@thamesyc.org
SUMMARY:TYC Launch Schedule
DESCRIPTION:The TYC Launch can be hailed on VHF Channel 71
URL:https://thamesyc.org/event/tyc-launch-schedule-69/2017-08-18/
LOCATION:Thames Yacht Club\, 396 Pequot Avenue\, New London\, CT\, 06320\, United States
CATEGORIES:TYC Launch Schedule
GEO:41.3308391;-72.0946565
X-APPLE-STRUCTURED-LOCATION;VALUE=URI;X-ADDRESS=Thames Yacht Club 396 Pequot Avenue New London CT 06320 United States;X-APPLE-RADIUS=500;X-TITLE=396 Pequot Avenue:geo:-72.0946565,41.3308391
END:VEVENT
BEGIN:VEVENT
DTSTART;TZID=America/New_York:20170819T080000
DTEND;TZID=America/New_York:20170820T170000
DTSTAMP:20260425T222348
CREATED:20170719T211549Z
LAST-MODIFIED:20170719T211549Z
UID:10034140-1503129600-1503248400@thamesyc.org
SUMMARY:Block Island Mooring Reserved for S/V ADELINE
DESCRIPTION:
URL:https://thamesyc.org/event/block-island-mooring-reserved-for-sv-adeline-2/
CATEGORIES:Block Island Mooring Reservation.
END:VEVENT
BEGIN:VEVENT
DTSTART;TZID=America/New_York:20170819T080000
DTEND;TZID=America/New_York:20170826T170000
DTSTAMP:20260425T222348
CREATED:20161218T020735Z
LAST-MODIFIED:20170102T000143Z
UID:10033931-1503129600-1503766800@thamesyc.org
SUMMARY:TYC Cruise to Three Mile Harbor\, Coecles Harbor\, NY and Block Island\, RI
DESCRIPTION:
URL:https://thamesyc.org/event/tyc-cruise-to-coecles-harbor-ny-and-block-island-ri/
CATEGORIES:Cruise Event
END:VEVENT
BEGIN:VEVENT
DTSTART;TZID=America/New_York:20170819T090000
DTEND;TZID=America/New_York:20170819T210000
DTSTAMP:20260425T222348
CREATED:20170325T165125Z
LAST-MODIFIED:20170325T165125Z
UID:10034052-1503133200-1503176400@thamesyc.org
SUMMARY:TYC Launch Schedule
DESCRIPTION:The TYC Launch can be hailed on VHF Channel 71
URL:https://thamesyc.org/event/tyc-launch-schedule-69/2017-08-19/
LOCATION:Thames Yacht Club\, 396 Pequot Avenue\, New London\, CT\, 06320\, United States
CATEGORIES:TYC Launch Schedule
GEO:41.3308391;-72.0946565
X-APPLE-STRUCTURED-LOCATION;VALUE=URI;X-ADDRESS=Thames Yacht Club 396 Pequot Avenue New London CT 06320 United States;X-APPLE-RADIUS=500;X-TITLE=396 Pequot Avenue:geo:-72.0946565,41.3308391
END:VEVENT
BEGIN:VEVENT
DTSTART;TZID=America/New_York:20170820T090000
DTEND;TZID=America/New_York:20170820T210000
DTSTAMP:20260425T222348
CREATED:20170325T165125Z
LAST-MODIFIED:20170325T165125Z
UID:10034053-1503219600-1503262800@thamesyc.org
SUMMARY:TYC Launch Schedule
DESCRIPTION:The TYC Launch can be hailed on VHF Channel 71
URL:https://thamesyc.org/event/tyc-launch-schedule-69/2017-08-20/
LOCATION:Thames Yacht Club\, 396 Pequot Avenue\, New London\, CT\, 06320\, United States
CATEGORIES:TYC Launch Schedule
GEO:41.3308391;-72.0946565
X-APPLE-STRUCTURED-LOCATION;VALUE=URI;X-ADDRESS=Thames Yacht Club 396 Pequot Avenue New London CT 06320 United States;X-APPLE-RADIUS=500;X-TITLE=396 Pequot Avenue:geo:-72.0946565,41.3308391
END:VEVENT
BEGIN:VEVENT
DTSTART;TZID=America/New_York:20170820T170000
DTEND;TZID=America/New_York:20170820T190000
DTSTAMP:20260425T222348
CREATED:20170815T191944Z
LAST-MODIFIED:20170815T191944Z
UID:10033800-1503248400-1503255600@thamesyc.org
SUMMARY:The Jay Johnson Trio on the Deck!
DESCRIPTION:John from the Galley has booked The Jay Johnson Trio to play at the Club on Sunday\, August 20th\, between 5:00 and 7:00PM. We hope to see you there!
URL:https://thamesyc.org/event/the-jay-johnson-trio-on-the-deck/
LOCATION:Thames Yacht Club\, 396 Pequot Avenue\, New London\, CT\, 06320\, United States
CATEGORIES:Club Wide Event
GEO:41.3308391;-72.0946565
X-APPLE-STRUCTURED-LOCATION;VALUE=URI;X-ADDRESS=Thames Yacht Club 396 Pequot Avenue New London CT 06320 United States;X-APPLE-RADIUS=500;X-TITLE=396 Pequot Avenue:geo:-72.0946565,41.3308391
END:VEVENT
BEGIN:VEVENT
DTSTART;TZID=America/New_York:20170821T090000
DTEND;TZID=America/New_York:20170821T210000
DTSTAMP:20260425T222348
CREATED:20170325T165125Z
LAST-MODIFIED:20170325T165125Z
UID:10034054-1503306000-1503349200@thamesyc.org
SUMMARY:TYC Launch Schedule
DESCRIPTION:The TYC Launch can be hailed on VHF Channel 71
URL:https://thamesyc.org/event/tyc-launch-schedule-69/2017-08-21/
LOCATION:Thames Yacht Club\, 396 Pequot Avenue\, New London\, CT\, 06320\, United States
CATEGORIES:TYC Launch Schedule
GEO:41.3308391;-72.0946565
X-APPLE-STRUCTURED-LOCATION;VALUE=URI;X-ADDRESS=Thames Yacht Club 396 Pequot Avenue New London CT 06320 United States;X-APPLE-RADIUS=500;X-TITLE=396 Pequot Avenue:geo:-72.0946565,41.3308391
END:VEVENT
BEGIN:VEVENT
DTSTART;TZID=America/New_York:20170822T090000
DTEND;TZID=America/New_York:20170822T210000
DTSTAMP:20260425T222348
CREATED:20170325T165125Z
LAST-MODIFIED:20170325T165125Z
UID:10034055-1503392400-1503435600@thamesyc.org
SUMMARY:TYC Launch Schedule
DESCRIPTION:The TYC Launch can be hailed on VHF Channel 71
URL:https://thamesyc.org/event/tyc-launch-schedule-69/2017-08-22/
LOCATION:Thames Yacht Club\, 396 Pequot Avenue\, New London\, CT\, 06320\, United States
CATEGORIES:TYC Launch Schedule
GEO:41.3308391;-72.0946565
X-APPLE-STRUCTURED-LOCATION;VALUE=URI;X-ADDRESS=Thames Yacht Club 396 Pequot Avenue New London CT 06320 United States;X-APPLE-RADIUS=500;X-TITLE=396 Pequot Avenue:geo:-72.0946565,41.3308391
END:VEVENT
BEGIN:VEVENT
DTSTART;TZID=America/New_York:20170823T090000
DTEND;TZID=America/New_York:20170823T210000
DTSTAMP:20260425T222348
CREATED:20170325T165125Z
LAST-MODIFIED:20170325T165125Z
UID:10034056-1503478800-1503522000@thamesyc.org
SUMMARY:TYC Launch Schedule
DESCRIPTION:The TYC Launch can be hailed on VHF Channel 71
URL:https://thamesyc.org/event/tyc-launch-schedule-69/2017-08-23/
LOCATION:Thames Yacht Club\, 396 Pequot Avenue\, New London\, CT\, 06320\, United States
CATEGORIES:TYC Launch Schedule
GEO:41.3308391;-72.0946565
X-APPLE-STRUCTURED-LOCATION;VALUE=URI;X-ADDRESS=Thames Yacht Club 396 Pequot Avenue New London CT 06320 United States;X-APPLE-RADIUS=500;X-TITLE=396 Pequot Avenue:geo:-72.0946565,41.3308391
END:VEVENT
BEGIN:VEVENT
DTSTART;TZID=America/New_York:20170823T173000
DTEND;TZID=America/New_York:20170823T210000
DTSTAMP:20260425T222348
CREATED:20170211T215651Z
LAST-MODIFIED:20170211T215651Z
UID:10033981-1503509400-1503522000@thamesyc.org
SUMMARY:Wednesday Night Summer Series
DESCRIPTION:
URL:https://thamesyc.org/event/wednesday-night-summer-series/2017-08-23/
CATEGORIES:Racing
END:VEVENT
BEGIN:VEVENT
DTSTART;TZID=America/New_York:20170824T090000
DTEND;TZID=America/New_York:20170824T210000
DTSTAMP:20260425T222348
CREATED:20170325T165125Z
LAST-MODIFIED:20170325T165125Z
UID:10034057-1503565200-1503608400@thamesyc.org
SUMMARY:TYC Launch Schedule
DESCRIPTION:The TYC Launch can be hailed on VHF Channel 71
URL:https://thamesyc.org/event/tyc-launch-schedule-69/2017-08-24/
LOCATION:Thames Yacht Club\, 396 Pequot Avenue\, New London\, CT\, 06320\, United States
CATEGORIES:TYC Launch Schedule
GEO:41.3308391;-72.0946565
X-APPLE-STRUCTURED-LOCATION;VALUE=URI;X-ADDRESS=Thames Yacht Club 396 Pequot Avenue New London CT 06320 United States;X-APPLE-RADIUS=500;X-TITLE=396 Pequot Avenue:geo:-72.0946565,41.3308391
END:VEVENT
BEGIN:VEVENT
DTSTART;TZID=America/New_York:20170824T173000
DTEND;TZID=America/New_York:20170824T210000
DTSTAMP:20260425T222348
CREATED:20170211T215954Z
LAST-MODIFIED:20170211T215954Z
UID:10033996-1503595800-1503608400@thamesyc.org
SUMMARY:Force Five Thursday Night Series
DESCRIPTION:
URL:https://thamesyc.org/event/force-five-thursday-night-series/2017-08-24/
CATEGORIES:Racing
END:VEVENT
BEGIN:VEVENT
DTSTART;TZID=America/New_York:20170825T090000
DTEND;TZID=America/New_York:20170825T210000
DTSTAMP:20260425T222348
CREATED:20170325T165125Z
LAST-MODIFIED:20170325T165125Z
UID:10034058-1503651600-1503694800@thamesyc.org
SUMMARY:TYC Launch Schedule
DESCRIPTION:The TYC Launch can be hailed on VHF Channel 71
URL:https://thamesyc.org/event/tyc-launch-schedule-69/2017-08-25/
LOCATION:Thames Yacht Club\, 396 Pequot Avenue\, New London\, CT\, 06320\, United States
CATEGORIES:TYC Launch Schedule
GEO:41.3308391;-72.0946565
X-APPLE-STRUCTURED-LOCATION;VALUE=URI;X-ADDRESS=Thames Yacht Club 396 Pequot Avenue New London CT 06320 United States;X-APPLE-RADIUS=500;X-TITLE=396 Pequot Avenue:geo:-72.0946565,41.3308391
END:VEVENT
BEGIN:VEVENT
DTSTART;VALUE=DATE:20170826
DTEND;VALUE=DATE:20170828
DTSTAMP:20260425T222348
CREATED:20170117T144832Z
LAST-MODIFIED:20170825T123835Z
UID:10033960-1503705600-1503878399@thamesyc.org
SUMMARY:Block Island Mooring Reserved for S/V RYAN's LUCK
DESCRIPTION:
URL:https://thamesyc.org/event/block-island-mooring-reserved-for-the-tyc-annual-cruise/
CATEGORIES:Block Island Mooring Reservation.
END:VEVENT
BEGIN:VEVENT
DTSTART;TZID=America/New_York:20170826T090000
DTEND;TZID=America/New_York:20170826T210000
DTSTAMP:20260425T222348
CREATED:20170325T165125Z
LAST-MODIFIED:20170325T165125Z
UID:10034059-1503738000-1503781200@thamesyc.org
SUMMARY:TYC Launch Schedule
DESCRIPTION:The TYC Launch can be hailed on VHF Channel 71
URL:https://thamesyc.org/event/tyc-launch-schedule-69/2017-08-26/
LOCATION:Thames Yacht Club\, 396 Pequot Avenue\, New London\, CT\, 06320\, United States
CATEGORIES:TYC Launch Schedule
GEO:41.3308391;-72.0946565
X-APPLE-STRUCTURED-LOCATION;VALUE=URI;X-ADDRESS=Thames Yacht Club 396 Pequot Avenue New London CT 06320 United States;X-APPLE-RADIUS=500;X-TITLE=396 Pequot Avenue:geo:-72.0946565,41.3308391
END:VEVENT
BEGIN:VEVENT
DTSTART;TZID=America/New_York:20170827T090000
DTEND;TZID=America/New_York:20170827T210000
DTSTAMP:20260425T222348
CREATED:20170325T165125Z
LAST-MODIFIED:20170325T165125Z
UID:10034060-1503824400-1503867600@thamesyc.org
SUMMARY:TYC Launch Schedule
DESCRIPTION:The TYC Launch can be hailed on VHF Channel 71
URL:https://thamesyc.org/event/tyc-launch-schedule-69/2017-08-27/
LOCATION:Thames Yacht Club\, 396 Pequot Avenue\, New London\, CT\, 06320\, United States
CATEGORIES:TYC Launch Schedule
GEO:41.3308391;-72.0946565
X-APPLE-STRUCTURED-LOCATION;VALUE=URI;X-ADDRESS=Thames Yacht Club 396 Pequot Avenue New London CT 06320 United States;X-APPLE-RADIUS=500;X-TITLE=396 Pequot Avenue:geo:-72.0946565,41.3308391
END:VEVENT
BEGIN:VEVENT
DTSTART;TZID=America/New_York:20170828T090000
DTEND;TZID=America/New_York:20170828T210000
DTSTAMP:20260425T222348
CREATED:20170325T165125Z
LAST-MODIFIED:20170325T165125Z
UID:10034061-1503910800-1503954000@thamesyc.org
SUMMARY:TYC Launch Schedule
DESCRIPTION:The TYC Launch can be hailed on VHF Channel 71
URL:https://thamesyc.org/event/tyc-launch-schedule-69/2017-08-28/
LOCATION:Thames Yacht Club\, 396 Pequot Avenue\, New London\, CT\, 06320\, United States
CATEGORIES:TYC Launch Schedule
GEO:41.3308391;-72.0946565
X-APPLE-STRUCTURED-LOCATION;VALUE=URI;X-ADDRESS=Thames Yacht Club 396 Pequot Avenue New London CT 06320 United States;X-APPLE-RADIUS=500;X-TITLE=396 Pequot Avenue:geo:-72.0946565,41.3308391
END:VEVENT
BEGIN:VEVENT
DTSTART;TZID=America/New_York:20170829T090000
DTEND;TZID=America/New_York:20170829T210000
DTSTAMP:20260425T222348
CREATED:20170325T165125Z
LAST-MODIFIED:20170325T165125Z
UID:10034062-1503997200-1504040400@thamesyc.org
SUMMARY:TYC Launch Schedule
DESCRIPTION:The TYC Launch can be hailed on VHF Channel 71
URL:https://thamesyc.org/event/tyc-launch-schedule-69/2017-08-29/
LOCATION:Thames Yacht Club\, 396 Pequot Avenue\, New London\, CT\, 06320\, United States
CATEGORIES:TYC Launch Schedule
GEO:41.3308391;-72.0946565
X-APPLE-STRUCTURED-LOCATION;VALUE=URI;X-ADDRESS=Thames Yacht Club 396 Pequot Avenue New London CT 06320 United States;X-APPLE-RADIUS=500;X-TITLE=396 Pequot Avenue:geo:-72.0946565,41.3308391
END:VEVENT
BEGIN:VEVENT
DTSTART;TZID=America/New_York:20170830T090000
DTEND;TZID=America/New_York:20170830T210000
DTSTAMP:20260425T222348
CREATED:20170325T165125Z
LAST-MODIFIED:20170325T165125Z
UID:10034063-1504083600-1504126800@thamesyc.org
SUMMARY:TYC Launch Schedule
DESCRIPTION:The TYC Launch can be hailed on VHF Channel 71
URL:https://thamesyc.org/event/tyc-launch-schedule-69/2017-08-30/
LOCATION:Thames Yacht Club\, 396 Pequot Avenue\, New London\, CT\, 06320\, United States
CATEGORIES:TYC Launch Schedule
GEO:41.3308391;-72.0946565
X-APPLE-STRUCTURED-LOCATION;VALUE=URI;X-ADDRESS=Thames Yacht Club 396 Pequot Avenue New London CT 06320 United States;X-APPLE-RADIUS=500;X-TITLE=396 Pequot Avenue:geo:-72.0946565,41.3308391
END:VEVENT
BEGIN:VEVENT
DTSTART;TZID=America/New_York:20170830T173000
DTEND;TZID=America/New_York:20170830T210000
DTSTAMP:20260425T222348
CREATED:20170211T215651Z
LAST-MODIFIED:20170211T215651Z
UID:10033982-1504114200-1504126800@thamesyc.org
SUMMARY:Wednesday Night Summer Series
DESCRIPTION:
URL:https://thamesyc.org/event/wednesday-night-summer-series/2017-08-30/
CATEGORIES:Racing
END:VEVENT
BEGIN:VEVENT
DTSTART;TZID=America/New_York:20170831T090000
DTEND;TZID=America/New_York:20170831T210000
DTSTAMP:20260425T222348
CREATED:20170325T165125Z
LAST-MODIFIED:20170325T165125Z
UID:10034064-1504170000-1504213200@thamesyc.org
SUMMARY:TYC Launch Schedule
DESCRIPTION:The TYC Launch can be hailed on VHF Channel 71
URL:https://thamesyc.org/event/tyc-launch-schedule-69/2017-08-31/
LOCATION:Thames Yacht Club\, 396 Pequot Avenue\, New London\, CT\, 06320\, United States
CATEGORIES:TYC Launch Schedule
GEO:41.3308391;-72.0946565
X-APPLE-STRUCTURED-LOCATION;VALUE=URI;X-ADDRESS=Thames Yacht Club 396 Pequot Avenue New London CT 06320 United States;X-APPLE-RADIUS=500;X-TITLE=396 Pequot Avenue:geo:-72.0946565,41.3308391
END:VEVENT
BEGIN:VEVENT
DTSTART;TZID=America/New_York:20170831T173000
DTEND;TZID=America/New_York:20170831T210000
DTSTAMP:20260425T222348
CREATED:20170211T215954Z
LAST-MODIFIED:20170211T215954Z
UID:10033997-1504200600-1504213200@thamesyc.org
SUMMARY:Force Five Thursday Night Series
DESCRIPTION:
URL:https://thamesyc.org/event/force-five-thursday-night-series/2017-08-31/
CATEGORIES:Racing
END:VEVENT
BEGIN:VEVENT
DTSTART;TZID=America/New_York:20170901T000000
DTEND;TZID=America/New_York:20170901T200000
DTSTAMP:20260425T222348
CREATED:20170325T171719Z
LAST-MODIFIED:20170325T171719Z
UID:10034079-1504224000-1504296000@thamesyc.org
SUMMARY:TYC Launch Schedule
DESCRIPTION:The TYC Launch can be hailed on VHF Channel 71
URL:https://thamesyc.org/event/tyc-launch-schedule-79/
LOCATION:Thames Yacht Club\, 396 Pequot Avenue\, New London\, CT\, 06320\, United States
CATEGORIES:TYC Launch Schedule
GEO:41.3308391;-72.0946565
X-APPLE-STRUCTURED-LOCATION;VALUE=URI;X-ADDRESS=Thames Yacht Club 396 Pequot Avenue New London CT 06320 United States;X-APPLE-RADIUS=500;X-TITLE=396 Pequot Avenue:geo:-72.0946565,41.3308391
END:VEVENT
BEGIN:VEVENT
DTSTART;VALUE=DATE:20170901
DTEND;VALUE=DATE:20170904
DTSTAMP:20260425T222348
CREATED:20170527T151617Z
LAST-MODIFIED:20170527T151617Z
UID:10034125-1504224000-1504483199@thamesyc.org
SUMMARY:Block Island Mooring reserved for S/V AVANTI
DESCRIPTION:
URL:https://thamesyc.org/event/block-island-mooring-reserved-for-sv-avanti-2/
CATEGORIES:Block Island Mooring Reservation.
END:VEVENT
BEGIN:VEVENT
DTSTART;TZID=America/New_York:20170902T090000
DTEND;TZID=America/New_York:20170902T210000
DTSTAMP:20260425T222348
CREATED:20170325T171923Z
LAST-MODIFIED:20170325T171923Z
UID:10034080-1504342800-1504386000@thamesyc.org
SUMMARY:TYC Launch Schedule
DESCRIPTION:The TYC Launch can be hailed on VHF Channel 71.
URL:https://thamesyc.org/event/tyc-launch-schedule-80/2017-09-02/
LOCATION:Thames Yacht Club\, 396 Pequot Avenue\, New London\, CT\, 06320\, United States
CATEGORIES:TYC Launch Schedule
GEO:41.3308391;-72.0946565
X-APPLE-STRUCTURED-LOCATION;VALUE=URI;X-ADDRESS=Thames Yacht Club 396 Pequot Avenue New London CT 06320 United States;X-APPLE-RADIUS=500;X-TITLE=396 Pequot Avenue:geo:-72.0946565,41.3308391
END:VEVENT
BEGIN:VEVENT
DTSTART;TZID=America/New_York:20170903T090000
DTEND;TZID=America/New_York:20170903T210000
DTSTAMP:20260425T222348
CREATED:20170325T171923Z
LAST-MODIFIED:20170325T171923Z
UID:10034081-1504429200-1504472400@thamesyc.org
SUMMARY:TYC Launch Schedule
DESCRIPTION:The TYC Launch can be hailed on VHF Channel 71.
URL:https://thamesyc.org/event/tyc-launch-schedule-80/2017-09-03/
LOCATION:Thames Yacht Club\, 396 Pequot Avenue\, New London\, CT\, 06320\, United States
CATEGORIES:TYC Launch Schedule
GEO:41.3308391;-72.0946565
X-APPLE-STRUCTURED-LOCATION;VALUE=URI;X-ADDRESS=Thames Yacht Club 396 Pequot Avenue New London CT 06320 United States;X-APPLE-RADIUS=500;X-TITLE=396 Pequot Avenue:geo:-72.0946565,41.3308391
END:VEVENT
BEGIN:VEVENT
DTSTART;TZID=America/New_York:20170904T090000
DTEND;TZID=America/New_York:20170904T210000
DTSTAMP:20260425T222348
CREATED:20170325T171923Z
LAST-MODIFIED:20170325T171923Z
UID:10034082-1504515600-1504558800@thamesyc.org
SUMMARY:TYC Launch Schedule
DESCRIPTION:The TYC Launch can be hailed on VHF Channel 71.
URL:https://thamesyc.org/event/tyc-launch-schedule-80/2017-09-04/
LOCATION:Thames Yacht Club\, 396 Pequot Avenue\, New London\, CT\, 06320\, United States
CATEGORIES:TYC Launch Schedule
GEO:41.3308391;-72.0946565
X-APPLE-STRUCTURED-LOCATION;VALUE=URI;X-ADDRESS=Thames Yacht Club 396 Pequot Avenue New London CT 06320 United States;X-APPLE-RADIUS=500;X-TITLE=396 Pequot Avenue:geo:-72.0946565,41.3308391
END:VEVENT
BEGIN:VEVENT
DTSTART;TZID=America/New_York:20170906T110000
DTEND;TZID=America/New_York:20170906T210000
DTSTAMP:20260425T222348
CREATED:20170325T172113Z
LAST-MODIFIED:20170325T172113Z
UID:10034083-1504695600-1504731600@thamesyc.org
SUMMARY:TYC Launch Schedule
DESCRIPTION:The TYC Launch can be hailed on VHF Channel 71.
URL:https://thamesyc.org/event/tyc-launch-schedule-81/
LOCATION:Thames Yacht Club\, 396 Pequot Avenue\, New London\, CT\, 06320\, United States
CATEGORIES:TYC Launch Schedule
GEO:41.3308391;-72.0946565
X-APPLE-STRUCTURED-LOCATION;VALUE=URI;X-ADDRESS=Thames Yacht Club 396 Pequot Avenue New London CT 06320 United States;X-APPLE-RADIUS=500;X-TITLE=396 Pequot Avenue:geo:-72.0946565,41.3308391
END:VEVENT
END:VCALENDAR