BEGIN:VCALENDAR
VERSION:2.0
PRODID:-//Thames Yacht Club - ECPv6.15.20//NONSGML v1.0//EN
CALSCALE:GREGORIAN
METHOD:PUBLISH
X-WR-CALNAME:Thames Yacht Club
X-ORIGINAL-URL:https://thamesyc.org
X-WR-CALDESC:Events for Thames Yacht Club
REFRESH-INTERVAL;VALUE=DURATION:PT1H
X-Robots-Tag:noindex
X-PUBLISHED-TTL:PT1H
BEGIN:VTIMEZONE
TZID:America/New_York
BEGIN:DAYLIGHT
TZOFFSETFROM:-0500
TZOFFSETTO:-0400
TZNAME:EDT
DTSTART:20130310T070000
END:DAYLIGHT
BEGIN:STANDARD
TZOFFSETFROM:-0400
TZOFFSETTO:-0500
TZNAME:EST
DTSTART:20131103T060000
END:STANDARD
BEGIN:DAYLIGHT
TZOFFSETFROM:-0500
TZOFFSETTO:-0400
TZNAME:EDT
DTSTART:20140309T070000
END:DAYLIGHT
BEGIN:STANDARD
TZOFFSETFROM:-0400
TZOFFSETTO:-0500
TZNAME:EST
DTSTART:20141102T060000
END:STANDARD
BEGIN:DAYLIGHT
TZOFFSETFROM:-0500
TZOFFSETTO:-0400
TZNAME:EDT
DTSTART:20150308T070000
END:DAYLIGHT
BEGIN:STANDARD
TZOFFSETFROM:-0400
TZOFFSETTO:-0500
TZNAME:EST
DTSTART:20151101T060000
END:STANDARD
END:VTIMEZONE
BEGIN:VEVENT
DTSTART;VALUE=DATE:20140731
DTEND;VALUE=DATE:20140801
DTSTAMP:20260426T002112
CREATED:20140716T103348Z
LAST-MODIFIED:20140716T103348Z
UID:10033512-1406764800-1406851199@thamesyc.org
SUMMARY:BI mooring reserved for Sea + +
DESCRIPTION:
URL:https://thamesyc.org/event/bi-mooring-reserved-sea/
CATEGORIES:Block Island Mooring Reservation.
END:VEVENT
BEGIN:VEVENT
DTSTART;VALUE=DATE:20140725
DTEND;VALUE=DATE:20140726
DTSTAMP:20260426T002112
CREATED:20140528T005442Z
LAST-MODIFIED:20140528T005442Z
UID:10033496-1406246400-1406332799@thamesyc.org
SUMMARY:Opti Regatta
DESCRIPTION:The Richard Roberts Opti Regatta will be held on July 25\, 2014.
URL:https://thamesyc.org/event/opti-regatta/
LOCATION:Thames Yacht Club\, 396 Pequot Avenue\, New London\, CT\, 06320\, United States
CATEGORIES:Racing
GEO:41.3308391;-72.0946565
X-APPLE-STRUCTURED-LOCATION;VALUE=URI;X-ADDRESS=Thames Yacht Club 396 Pequot Avenue New London CT 06320 United States;X-APPLE-RADIUS=500;X-TITLE=396 Pequot Avenue:geo:-72.0946565,41.3308391
END:VEVENT
BEGIN:VEVENT
DTSTART;TZID=America/New_York:20140724T181000
DTEND;TZID=America/New_York:20140724T181000
DTSTAMP:20260426T002112
CREATED:20140425T153551Z
LAST-MODIFIED:20140425T165708Z
UID:10033534-1406225400-1406225400@thamesyc.org
SUMMARY:Thursday Night Summer Series Race  - 1st Warning 1810
DESCRIPTION:Warning @ 1810 – Please see Racing Page for NOR and Sailing Instructions
URL:https://thamesyc.org/event/thursday-night-summer-series-race/2014-07-24/
LOCATION:Thames Yacht Club\, 396 Pequot Avenue\, New London\, CT\, 06320\, United States
CATEGORIES:Racing
GEO:41.3308391;-72.0946565
X-APPLE-STRUCTURED-LOCATION;VALUE=URI;X-ADDRESS=Thames Yacht Club 396 Pequot Avenue New London CT 06320 United States;X-APPLE-RADIUS=500;X-TITLE=396 Pequot Avenue:geo:-72.0946565,41.3308391
END:VEVENT
BEGIN:VEVENT
DTSTART;TZID=America/New_York:20140723T181000
DTEND;TZID=America/New_York:20140723T200000
DTSTAMP:20260426T002112
CREATED:20140425T163459Z
LAST-MODIFIED:20140425T165524Z
UID:10033567-1406139000-1406145600@thamesyc.org
SUMMARY:Wednesday Summer Series Race - 1st Warning 1810
DESCRIPTION:First warning at 1810 – Please click here for more information.
URL:https://thamesyc.org/event/wednesday-summer-series-race/2014-07-23/
LOCATION:Thames Yacht Club\, 396 Pequot Avenue\, New London\, CT\, 06320\, United States
CATEGORIES:Racing
GEO:41.3308391;-72.0946565
X-APPLE-STRUCTURED-LOCATION;VALUE=URI;X-ADDRESS=Thames Yacht Club 396 Pequot Avenue New London CT 06320 United States;X-APPLE-RADIUS=500;X-TITLE=396 Pequot Avenue:geo:-72.0946565,41.3308391
END:VEVENT
BEGIN:VEVENT
DTSTART;TZID=America/New_York:20140720T173000
DTEND;TZID=America/New_York:20140720T203000
DTSTAMP:20260426T002112
CREATED:20140628T012557Z
LAST-MODIFIED:20140628T012557Z
UID:10033506-1405877400-1405888200@thamesyc.org
SUMMARY:General Membership Meeting
DESCRIPTION:Please join us for the General Membership Meeting and Pot Luck Dinner! \nDinner starts at 5:30 pm and the Meeting begins at 6:30 pm.
URL:https://thamesyc.org/event/general-membership-meeting-2/
LOCATION:Thames Yacht Club\, 396 Pequot Avenue\, New London\, CT\, 06320\, United States
CATEGORIES:Club Wide Event
GEO:41.3308391;-72.0946565
X-APPLE-STRUCTURED-LOCATION;VALUE=URI;X-ADDRESS=Thames Yacht Club 396 Pequot Avenue New London CT 06320 United States;X-APPLE-RADIUS=500;X-TITLE=396 Pequot Avenue:geo:-72.0946565,41.3308391
END:VEVENT
BEGIN:VEVENT
DTSTART;TZID=America/New_York:20140720T173000
DTEND;TZID=America/New_York:20140720T200000
DTSTAMP:20260426T002112
CREATED:20140716T213741Z
LAST-MODIFIED:20140716T213741Z
UID:10033514-1405877400-1405886400@thamesyc.org
SUMMARY:General Membership Meeting
DESCRIPTION:There is a general membership meeting scheduled for this Sunday\, July 20\, 2014.  \nThis time we will be foregoing the potluck in favor of an appetizer social hour beginning at 5:30 pm. Please bring an appetizer to pass. Drinks will be available for a single fee of $5. The meeting will begin at 6:30 pm. (Times are as posted in the July Mainsheet) \nIf you have items you wish to put on the agenda\, please have them to me no later than Wednesday. \nURGENT!! – If your winter marker is still at the club\, please remove it immediately. Any winter markers left will be disposed of with the outgoing trash on Thursday morning.
URL:https://thamesyc.org/event/general-membership-meeting-3/
LOCATION:Thames Yacht Club\, 396 Pequot Avenue\, New London\, CT\, 06320\, United States
CATEGORIES:Club Wide Event
GEO:41.3308391;-72.0946565
X-APPLE-STRUCTURED-LOCATION;VALUE=URI;X-ADDRESS=Thames Yacht Club 396 Pequot Avenue New London CT 06320 United States;X-APPLE-RADIUS=500;X-TITLE=396 Pequot Avenue:geo:-72.0946565,41.3308391
END:VEVENT
BEGIN:VEVENT
DTSTART;VALUE=DATE:20140719
DTEND;VALUE=DATE:20140721
DTSTAMP:20260426T002112
CREATED:20140422T020650Z
LAST-MODIFIED:20140422T022020Z
UID:10033503-1405728000-1405900799@thamesyc.org
SUMMARY:Pirate Rendezvous and Sail to Stonington Harbor
DESCRIPTION:This slideshow requires JavaScript. \nStonington Harbor is approached from southeastward and westward. Vessels with local knowledge sometimes cross Noyes Shoal from southwestward. Noyes Rock\, 0.4 mile southward of Wamphassuc Point\, has a least depth of 7 feet. Noyes Shoal\, with 10 to 18 feet over it\, is nearly 1.5 miles long in a west-northwesterly direction; it is marked by a gong buoy near its eastern end. From southwestward\, a northeasterly course can be shaped from the lighted bell buoy south of Ram Island Reef to south of White Rock\, and thence eastward past the north side of Noyes Rock to the harbor. \nThe southeastern approach is best\, with fewer dangers\, and the navigational aids serve as excellent guides to avoid them. In daytime with clear weather\, no difficulty should be experienced in entering any of the approaches. \nClick here for more.
URL:https://thamesyc.org/event/pirate-rendezvous-sail-stonington-harbor/
LOCATION:Thames Yacht Club\, 396 Pequot Avenue\, New London\, CT\, 06320\, United States
CATEGORIES:Cruise Event
GEO:41.3308391;-72.0946565
X-APPLE-STRUCTURED-LOCATION;VALUE=URI;X-ADDRESS=Thames Yacht Club 396 Pequot Avenue New London CT 06320 United States;X-APPLE-RADIUS=500;X-TITLE=396 Pequot Avenue:geo:-72.0946565,41.3308391
END:VEVENT
BEGIN:VEVENT
DTSTART;VALUE=DATE:20140719
DTEND;VALUE=DATE:20140720
DTSTAMP:20260426T002112
CREATED:20140710T014707Z
LAST-MODIFIED:20140710T014707Z
UID:10033508-1405728000-1405814399@thamesyc.org
SUMMARY:Pirate Rendezvous
DESCRIPTION:Click here for a flyer!
URL:https://thamesyc.org/event/pirate-rendezvous/
LOCATION:Thames Yacht Club\, 396 Pequot Avenue\, New London\, CT\, 06320\, United States
CATEGORIES:Cruise Event
GEO:41.3308391;-72.0946565
X-APPLE-STRUCTURED-LOCATION;VALUE=URI;X-ADDRESS=Thames Yacht Club 396 Pequot Avenue New London CT 06320 United States;X-APPLE-RADIUS=500;X-TITLE=396 Pequot Avenue:geo:-72.0946565,41.3308391
END:VEVENT
BEGIN:VEVENT
DTSTART;TZID=America/New_York:20140716T181000
DTEND;TZID=America/New_York:20140716T200000
DTSTAMP:20260426T002112
CREATED:20140425T150627Z
LAST-MODIFIED:20140425T150909Z
UID:10033537-1405534200-1405540800@thamesyc.org
SUMMARY:Hospice Regatta
DESCRIPTION:Warning @ 1810 \nPlease see Racing Page for NOR and Sailing Instructions.
URL:https://thamesyc.org/event/hospice-regatta/
LOCATION:Thames Yacht Club\, 396 Pequot Avenue\, New London\, CT\, 06320\, United States
CATEGORIES:Racing
GEO:41.3308391;-72.0946565
X-APPLE-STRUCTURED-LOCATION;VALUE=URI;X-ADDRESS=Thames Yacht Club 396 Pequot Avenue New London CT 06320 United States;X-APPLE-RADIUS=500;X-TITLE=396 Pequot Avenue:geo:-72.0946565,41.3308391
END:VEVENT
BEGIN:VEVENT
DTSTART;TZID=America/New_York:20140705T103000
DTEND;TZID=America/New_York:20140705T150000
DTSTAMP:20260426T002112
CREATED:20140425T154759Z
LAST-MODIFIED:20140425T165327Z
UID:10033528-1404556200-1404572400@thamesyc.org
SUMMARY:53rd Annual Bradbury Memorial Long Distance Race - 1st Warning 1030
DESCRIPTION:First Warning at 1030 – Click here for more information on this Race.
URL:https://thamesyc.org/event/53rd-annual-bradbury-memorial-long-distance-race/
LOCATION:Thames Yacht Club\, 396 Pequot Avenue\, New London\, CT\, 06320\, United States
CATEGORIES:Racing
GEO:41.3308391;-72.0946565
X-APPLE-STRUCTURED-LOCATION;VALUE=URI;X-ADDRESS=Thames Yacht Club 396 Pequot Avenue New London CT 06320 United States;X-APPLE-RADIUS=500;X-TITLE=396 Pequot Avenue:geo:-72.0946565,41.3308391
END:VEVENT
BEGIN:VEVENT
DTSTART;TZID=America/New_York:20140701T090000
DTEND;TZID=America/New_York:20140701T210000
DTSTAMP:20260426T002112
CREATED:20140425T164237Z
LAST-MODIFIED:20140504T015459Z
UID:10033568-1404205200-1404248400@thamesyc.org
SUMMARY:TYC Launch Schedule 0900 - 2100
DESCRIPTION:Click on the image to download our Spring/Summer 2014 Launch Calendar \nThe TYC Launch is available to members and transients on marine Channel 71.
URL:https://thamesyc.org/event/tyc-launch-schedule-0900-2100/2014-07-01/
LOCATION:Thames Yacht Club\, 396 Pequot Avenue\, New London\, CT\, 06320\, United States
CATEGORIES:TYC Launch Schedule
GEO:41.3308391;-72.0946565
X-APPLE-STRUCTURED-LOCATION;VALUE=URI;X-ADDRESS=Thames Yacht Club 396 Pequot Avenue New London CT 06320 United States;X-APPLE-RADIUS=500;X-TITLE=396 Pequot Avenue:geo:-72.0946565,41.3308391
END:VEVENT
BEGIN:VEVENT
DTSTART;TZID=America/New_York:20140628T115500
DTEND;TZID=America/New_York:20140628T150000
DTSTAMP:20260426T002112
CREATED:20140425T154509Z
LAST-MODIFIED:20140425T165202Z
UID:10033535-1403956500-1403967600@thamesyc.org
SUMMARY:2nd Annual ECSA Calvin Brouwer Memorial Race - 1st Warning 1155
DESCRIPTION:First Warning 1155 – Click her for more information on this race.
URL:https://thamesyc.org/event/2nd-annual-ecsa-calvin-brouwer-memorial-race/
LOCATION:Thames Yacht Club\, 396 Pequot Avenue\, New London\, CT\, 06320\, United States
CATEGORIES:Racing
GEO:41.3308391;-72.0946565
X-APPLE-STRUCTURED-LOCATION;VALUE=URI;X-ADDRESS=Thames Yacht Club 396 Pequot Avenue New London CT 06320 United States;X-APPLE-RADIUS=500;X-TITLE=396 Pequot Avenue:geo:-72.0946565,41.3308391
END:VEVENT
BEGIN:VEVENT
DTSTART;TZID=America/New_York:20140627T090000
DTEND;TZID=America/New_York:20140627T210000
DTSTAMP:20260426T002112
CREATED:20140430T022123Z
LAST-MODIFIED:20140430T022311Z
UID:10033572-1403859600-1403902800@thamesyc.org
SUMMARY:TYC Launch Schedule
DESCRIPTION:Our Launch is available to members and transients on marine Channel 71.
URL:https://thamesyc.org/event/tyc-launch-schedule-113/2014-06-27/
LOCATION:Thames Yacht Club\, 396 Pequot Avenue\, New London\, CT\, 06320\, United States
CATEGORIES:TYC Launch Schedule
GEO:41.3308391;-72.0946565
X-APPLE-STRUCTURED-LOCATION;VALUE=URI;X-ADDRESS=Thames Yacht Club 396 Pequot Avenue New London CT 06320 United States;X-APPLE-RADIUS=500;X-TITLE=396 Pequot Avenue:geo:-72.0946565,41.3308391
END:VEVENT
BEGIN:VEVENT
DTSTART;TZID=America/New_York:20140626T170000
DTEND;TZID=America/New_York:20140626T190000
DTSTAMP:20260426T002112
CREATED:20140528T010354Z
LAST-MODIFIED:20140528T010354Z
UID:10033500-1403802000-1403809200@thamesyc.org
SUMMARY:Meet the Instructors- Meet the Parents
DESCRIPTION:Come to the club to meet the new instructors and enjoy hot dogs and hamburgers!
URL:https://thamesyc.org/event/meet-instructors-meet-parents/
LOCATION:Thames Yacht Club\, 396 Pequot Avenue\, New London\, CT\, 06320\, United States
ATTACH;FMTTYPE=image/jpeg:https://thamesyc.org/wp-content/uploads/2014/05/opti-picture.jpg
GEO:41.3308391;-72.0946565
X-APPLE-STRUCTURED-LOCATION;VALUE=URI;X-ADDRESS=Thames Yacht Club 396 Pequot Avenue New London CT 06320 United States;X-APPLE-RADIUS=500;X-TITLE=396 Pequot Avenue:geo:-72.0946565,41.3308391
END:VEVENT
BEGIN:VEVENT
DTSTART;TZID=America/New_York:20140626T090000
DTEND;TZID=America/New_York:20140626T210000
DTSTAMP:20260426T002113
CREATED:20140419T064800Z
LAST-MODIFIED:20140503T140647Z
UID:10033497-1403773200-1403816400@thamesyc.org
SUMMARY:TYC Launch Schedule
DESCRIPTION:The TYC Launch is accessed via marine radio on Channel 71.
URL:https://thamesyc.org/event/tyc-launch-schedule-41/
LOCATION:Thames Yacht Club\, 396 Pequot Avenue\, New London\, CT\, 06320\, United States
CATEGORIES:TYC Launch Schedule
GEO:41.3308391;-72.0946565
X-APPLE-STRUCTURED-LOCATION;VALUE=URI;X-ADDRESS=Thames Yacht Club 396 Pequot Avenue New London CT 06320 United States;X-APPLE-RADIUS=500;X-TITLE=396 Pequot Avenue:geo:-72.0946565,41.3308391
END:VEVENT
BEGIN:VEVENT
DTSTART;TZID=America/New_York:20140625T090000
DTEND;TZID=America/New_York:20140625T210000
DTSTAMP:20260426T002113
CREATED:20140419T065852Z
LAST-MODIFIED:20140422T124000Z
UID:10033499-1403686800-1403730000@thamesyc.org
SUMMARY:TYC Launch Schedule
DESCRIPTION:Click here for a downloadable calendar \nThe TYC Launch can be accessed via marine Channel 71.
URL:https://thamesyc.org/event/tyc-launch-schedule-46/
LOCATION:Thames Yacht Club\, 396 Pequot Avenue\, New London\, CT\, 06320\, United States
CATEGORIES:TYC Launch Schedule
GEO:41.3308391;-72.0946565
X-APPLE-STRUCTURED-LOCATION;VALUE=URI;X-ADDRESS=Thames Yacht Club 396 Pequot Avenue New London CT 06320 United States;X-APPLE-RADIUS=500;X-TITLE=396 Pequot Avenue:geo:-72.0946565,41.3308391
END:VEVENT
BEGIN:VEVENT
DTSTART;TZID=America/New_York:20140624T090000
DTEND;TZID=America/New_York:20140624T210000
DTSTAMP:20260426T002113
CREATED:20140419T064710Z
LAST-MODIFIED:20140503T140431Z
UID:10033495-1403600400-1403643600@thamesyc.org
SUMMARY:TYC Launch Schedule
DESCRIPTION:The TYC Launch is accessed via marine radio on Channel 71.
URL:https://thamesyc.org/event/tyc-launch-schedule-40/
LOCATION:Thames Yacht Club\, 396 Pequot Avenue\, New London\, CT\, 06320\, United States
CATEGORIES:TYC Launch Schedule
GEO:41.3308391;-72.0946565
X-APPLE-STRUCTURED-LOCATION;VALUE=URI;X-ADDRESS=Thames Yacht Club 396 Pequot Avenue New London CT 06320 United States;X-APPLE-RADIUS=500;X-TITLE=396 Pequot Avenue:geo:-72.0946565,41.3308391
END:VEVENT
BEGIN:VEVENT
DTSTART;TZID=America/New_York:20140623T090000
DTEND;TZID=America/New_York:20140623T210000
DTSTAMP:20260426T002113
CREATED:20140419T064552Z
LAST-MODIFIED:20140503T140331Z
UID:10033494-1403514000-1403557200@thamesyc.org
SUMMARY:TYC Launch Schedule
DESCRIPTION:The TYC Launch is accessed via marine radio on Channel 71.
URL:https://thamesyc.org/event/tyc-launch-schedule-39/
LOCATION:Thames Yacht Club\, 396 Pequot Avenue\, New London\, CT\, 06320\, United States
CATEGORIES:TYC Launch Schedule
GEO:41.3308391;-72.0946565
X-APPLE-STRUCTURED-LOCATION;VALUE=URI;X-ADDRESS=Thames Yacht Club 396 Pequot Avenue New London CT 06320 United States;X-APPLE-RADIUS=500;X-TITLE=396 Pequot Avenue:geo:-72.0946565,41.3308391
END:VEVENT
BEGIN:VEVENT
DTSTART;VALUE=DATE:20140623
DTEND;VALUE=DATE:20140629
DTSTAMP:20260426T002113
CREATED:20140509T220053Z
LAST-MODIFIED:20140624T173655Z
UID:10033579-1403481600-1403999999@thamesyc.org
SUMMARY:Block Island Mooring Reserved for S/V Second Star 6/23-6/28
DESCRIPTION:The Block Island Mooring has been reserved for S/V Second Star 6/23 to 6/25.  If you have questions\, please contact Bill Turner by clicking here.
URL:https://thamesyc.org/event/block-island-mooring-reserved/
LOCATION:Block Island\, 40 Center Road\, Block Island\, RI\, 02807\, United States
CATEGORIES:Block Island Mooring Reservation.
GEO:41.1713756;-71.5794856
X-APPLE-STRUCTURED-LOCATION;VALUE=URI;X-ADDRESS=Block Island 40 Center Road Block Island RI 02807 United States;X-APPLE-RADIUS=500;X-TITLE=40 Center Road:geo:-71.5794856,41.1713756
END:VEVENT
BEGIN:VEVENT
DTSTART;TZID=America/New_York:20140622T120000
DTEND;TZID=America/New_York:20140622T150000
DTSTAMP:20260426T002113
CREATED:20140425T161416Z
LAST-MODIFIED:20140425T164947Z
UID:10033530-1403438400-1403449200@thamesyc.org
SUMMARY:The Chili Series Race - 1st Warning 1200
DESCRIPTION:First Warning at 1200 – Please click here for more information.
URL:https://thamesyc.org/event/chili-series-race-6/
LOCATION:Thames Yacht Club\, 396 Pequot Avenue\, New London\, CT\, 06320\, United States
CATEGORIES:Racing
GEO:41.3308391;-72.0946565
X-APPLE-STRUCTURED-LOCATION;VALUE=URI;X-ADDRESS=Thames Yacht Club 396 Pequot Avenue New London CT 06320 United States;X-APPLE-RADIUS=500;X-TITLE=396 Pequot Avenue:geo:-72.0946565,41.3308391
END:VEVENT
BEGIN:VEVENT
DTSTART;TZID=America/New_York:20140622T090000
DTEND;TZID=America/New_York:20140622T210000
DTSTAMP:20260426T002113
CREATED:20140419T064452Z
LAST-MODIFIED:20140503T140222Z
UID:10033493-1403427600-1403470800@thamesyc.org
SUMMARY:TYC Launch Schedule
DESCRIPTION:The TYC Launch is accessed via marine radio on Channel 71.
URL:https://thamesyc.org/event/tyc-launch-schedule-38/
LOCATION:Thames Yacht Club\, 396 Pequot Avenue\, New London\, CT\, 06320\, United States
CATEGORIES:TYC Launch Schedule
GEO:41.3308391;-72.0946565
X-APPLE-STRUCTURED-LOCATION;VALUE=URI;X-ADDRESS=Thames Yacht Club 396 Pequot Avenue New London CT 06320 United States;X-APPLE-RADIUS=500;X-TITLE=396 Pequot Avenue:geo:-72.0946565,41.3308391
END:VEVENT
BEGIN:VEVENT
DTSTART;TZID=America/New_York:20140621T090000
DTEND;TZID=America/New_York:20140621T210000
DTSTAMP:20260426T002113
CREATED:20140419T064238Z
LAST-MODIFIED:20140503T140110Z
UID:10033492-1403341200-1403384400@thamesyc.org
SUMMARY:TYC Launch Schedule
DESCRIPTION:Our Launch is accessible for members and transients via marine Channel 71.
URL:https://thamesyc.org/event/tyc-launch-schedule-37/
LOCATION:Thames Yacht Club\, 396 Pequot Avenue\, New London\, CT\, 06320\, United States
CATEGORIES:TYC Launch Schedule
GEO:41.3308391;-72.0946565
X-APPLE-STRUCTURED-LOCATION;VALUE=URI;X-ADDRESS=Thames Yacht Club 396 Pequot Avenue New London CT 06320 United States;X-APPLE-RADIUS=500;X-TITLE=396 Pequot Avenue:geo:-72.0946565,41.3308391
END:VEVENT
BEGIN:VEVENT
DTSTART;VALUE=DATE:20140621
DTEND;VALUE=DATE:20140623
DTSTAMP:20260426T002113
CREATED:20140425T233417Z
LAST-MODIFIED:20140425T234006Z
UID:10033569-1403308800-1403481599@thamesyc.org
SUMMARY:New London Boat Show
DESCRIPTION:Click here for more information. \nFrom the New London Day:\nNew London to host in-water boat show in June \nBy Brian Hallenbeck \nNew London – With winter on its last legs\, it might be a good time to start thinking about a boat show on the city’s waterfront. \nThere hasn’t been one of those since 2010. \nBarbara Neff\, the city events coordinator who pulled together the Long Island Sound Boaters Expo four years ago\, hopes to surpass that one-day event with a two-day show\, June 21-22\, at Waterfront Park\, along City Pier and the floating docks. \nDozens of boat dealers\, marinas and others are expected to participate\, Neff said. Boats ranging in size from 15 to 60 feet will be displayed\, as will a variety of accessories\, equipment\, electronics\, gear and services for boaters. \nThe Coast Guard Academy Jazz Band will perform on the show’s second day. \nfor the rest of the story from the New London Day by clicking here.
URL:https://thamesyc.org/event/new-london-boat-show/
LOCATION:Waterfront Park\, 2 State Street\, New London\, CT\, 06320\, United States
CATEGORIES:Party
GEO:41.354035;-72.0934891
X-APPLE-STRUCTURED-LOCATION;VALUE=URI;X-ADDRESS=Waterfront Park 2 State Street New London CT 06320 United States;X-APPLE-RADIUS=500;X-TITLE=2 State Street:geo:-72.0934891,41.354035
END:VEVENT
BEGIN:VEVENT
DTSTART;TZID=America/New_York:20140620T160000
DTEND;TZID=America/New_York:20140620T200000
DTSTAMP:20260426T002113
CREATED:20140414T172814Z
LAST-MODIFIED:20140503T140547Z
UID:10033485-1403280000-1403294400@thamesyc.org
SUMMARY:TYC Launch Schedule
DESCRIPTION:Our Launch is accessible to members and transients on Channel 71.
URL:https://thamesyc.org/event/tyc-launch-schedule-20/
CATEGORIES:TYC Launch Schedule
END:VEVENT
BEGIN:VEVENT
DTSTART;TZID=America/New_York:20140619T160000
DTEND;TZID=America/New_York:20140619T200000
DTSTAMP:20260426T002113
CREATED:20140414T172650Z
LAST-MODIFIED:20140503T135956Z
UID:10033484-1403193600-1403208000@thamesyc.org
SUMMARY:TYC Launch Schedule
DESCRIPTION:Our Launch is accessible to members and transients on Channel 71.
URL:https://thamesyc.org/event/tyc-launch-schedule-19/
LOCATION:Thames Yacht Club\, 396 Pequot Avenue\, New London\, CT\, 06320\, United States
CATEGORIES:TYC Launch Schedule
GEO:41.3308391;-72.0946565
X-APPLE-STRUCTURED-LOCATION;VALUE=URI;X-ADDRESS=Thames Yacht Club 396 Pequot Avenue New London CT 06320 United States;X-APPLE-RADIUS=500;X-TITLE=396 Pequot Avenue:geo:-72.0946565,41.3308391
END:VEVENT
BEGIN:VEVENT
DTSTART;TZID=America/New_York:20140618T160000
DTEND;TZID=America/New_York:20140618T210000
DTSTAMP:20260426T002113
CREATED:20140414T172513Z
LAST-MODIFIED:20140503T135847Z
UID:10033483-1403107200-1403125200@thamesyc.org
SUMMARY:TYC Launch Schedule
DESCRIPTION:Our Launch is accessible to members and transients on Channel 71.
URL:https://thamesyc.org/event/tyc-launch-schedule-18/
LOCATION:Thames Yacht Club\, 396 Pequot Avenue\, New London\, CT\, 06320\, United States
CATEGORIES:TYC Launch Schedule
GEO:41.3308391;-72.0946565
X-APPLE-STRUCTURED-LOCATION;VALUE=URI;X-ADDRESS=Thames Yacht Club 396 Pequot Avenue New London CT 06320 United States;X-APPLE-RADIUS=500;X-TITLE=396 Pequot Avenue:geo:-72.0946565,41.3308391
END:VEVENT
BEGIN:VEVENT
DTSTART;TZID=America/New_York:20140615T090000
DTEND;TZID=America/New_York:20140615T210000
DTSTAMP:20260426T002113
CREATED:20140414T172226Z
LAST-MODIFIED:20140503T135711Z
UID:10033482-1402822800-1402866000@thamesyc.org
SUMMARY:TYC Launch Schedule
DESCRIPTION:Our Launch is accessible to members and transients on Channel 71.
URL:https://thamesyc.org/event/tyc-launch-schedule-17/
LOCATION:Thames Yacht Club\, 396 Pequot Avenue\, New London\, CT\, 06320\, United States
CATEGORIES:TYC Launch Schedule
GEO:41.3308391;-72.0946565
X-APPLE-STRUCTURED-LOCATION;VALUE=URI;X-ADDRESS=Thames Yacht Club 396 Pequot Avenue New London CT 06320 United States;X-APPLE-RADIUS=500;X-TITLE=396 Pequot Avenue:geo:-72.0946565,41.3308391
END:VEVENT
BEGIN:VEVENT
DTSTART;VALUE=DATE:20140615
DTEND;VALUE=DATE:20140618
DTSTAMP:20260426T002113
CREATED:20140512T031147Z
LAST-MODIFIED:20140528T010005Z
UID:10033580-1402790400-1403049599@thamesyc.org
SUMMARY:Block Island Reservation
DESCRIPTION:Reserved for S/V Ledgelight June 15th\, 16th and 17th.
URL:https://thamesyc.org/event/block-island-reservation/
LOCATION:Block Island\, 40 Center Road\, Block Island\, RI\, 02807\, United States
CATEGORIES:Block Island Mooring Reservation.
GEO:41.1713756;-71.5794856
X-APPLE-STRUCTURED-LOCATION;VALUE=URI;X-ADDRESS=Block Island 40 Center Road Block Island RI 02807 United States;X-APPLE-RADIUS=500;X-TITLE=40 Center Road:geo:-71.5794856,41.1713756
END:VEVENT
BEGIN:VEVENT
DTSTART;TZID=America/New_York:20140614T090000
DTEND;TZID=America/New_York:20140614T210000
DTSTAMP:20260426T002113
CREATED:20140414T171956Z
LAST-MODIFIED:20140503T135549Z
UID:10033481-1402736400-1402779600@thamesyc.org
SUMMARY:TYC Launch Schedule
DESCRIPTION:Our Launch is accessible to members and transients on Channel 71.
URL:https://thamesyc.org/event/tyc-launch-schedule-16/
LOCATION:Thames Yacht Club\, 396 Pequot Avenue\, New London\, CT\, 06320\, United States
CATEGORIES:TYC Launch Schedule
GEO:41.3308391;-72.0946565
X-APPLE-STRUCTURED-LOCATION;VALUE=URI;X-ADDRESS=Thames Yacht Club 396 Pequot Avenue New London CT 06320 United States;X-APPLE-RADIUS=500;X-TITLE=396 Pequot Avenue:geo:-72.0946565,41.3308391
END:VEVENT
BEGIN:VEVENT
DTSTART;VALUE=DATE:20140614
DTEND;VALUE=DATE:20140616
DTSTAMP:20260426T002113
CREATED:20140422T020304Z
LAST-MODIFIED:20140522T125936Z
UID:10033501-1402704000-1402876799@thamesyc.org
SUMMARY:New London Cruise
DESCRIPTION:June 14-15 – The Thames Yacht Club 2014 Cruising Program – New London Cruise \nThe Details: \nContact Fleet Captain ASAP by clicking here if you are attending this cruise.  You must also download and complete this form by clicking here.\nThe Charles Morgan will be dock at New London during this weekend and the docks are not available. Ten moorings have been reserved for Saturday night\, June 14. The price of a mooring is $31.50/night. If you plan to attend the cruise\, please download and complete this form for the cruise and pay TYC before the end of May. \nThis slideshow requires JavaScript. \n  \nBy 1834\, New London had over 30 ships and 900 men from New London were employed in whaling. By the middle of the 1800s\, New London was America’s third leading whaling port\, behind New Bedford and Nantucket. An early beacon of some kind was reportedly erected around 1750 at the harbor’s entrance\, but it soon became apparent that a more permanent lighthouse was needed. \nClick here for more.
URL:https://thamesyc.org/event/new-london-cruise/
LOCATION:Thames Yacht Club\, 396 Pequot Avenue\, New London\, CT\, 06320\, United States
CATEGORIES:Cruise Event
GEO:41.3308391;-72.0946565
X-APPLE-STRUCTURED-LOCATION;VALUE=URI;X-ADDRESS=Thames Yacht Club 396 Pequot Avenue New London CT 06320 United States;X-APPLE-RADIUS=500;X-TITLE=396 Pequot Avenue:geo:-72.0946565,41.3308391
END:VEVENT
END:VCALENDAR