BEGIN:VCALENDAR
VERSION:2.0
PRODID:-//Thames Yacht Club - ECPv6.15.20//NONSGML v1.0//EN
CALSCALE:GREGORIAN
METHOD:PUBLISH
X-WR-CALNAME:Thames Yacht Club
X-ORIGINAL-URL:https://thamesyc.org
X-WR-CALDESC:Events for Thames Yacht Club
REFRESH-INTERVAL;VALUE=DURATION:PT1H
X-Robots-Tag:noindex
X-PUBLISHED-TTL:PT1H
BEGIN:VTIMEZONE
TZID:America/New_York
BEGIN:DAYLIGHT
TZOFFSETFROM:-0500
TZOFFSETTO:-0400
TZNAME:EDT
DTSTART:20230312T070000
END:DAYLIGHT
BEGIN:STANDARD
TZOFFSETFROM:-0400
TZOFFSETTO:-0500
TZNAME:EST
DTSTART:20231105T060000
END:STANDARD
BEGIN:DAYLIGHT
TZOFFSETFROM:-0500
TZOFFSETTO:-0400
TZNAME:EDT
DTSTART:20240310T070000
END:DAYLIGHT
BEGIN:STANDARD
TZOFFSETFROM:-0400
TZOFFSETTO:-0500
TZNAME:EST
DTSTART:20241103T060000
END:STANDARD
BEGIN:DAYLIGHT
TZOFFSETFROM:-0500
TZOFFSETTO:-0400
TZNAME:EDT
DTSTART:20250309T070000
END:DAYLIGHT
BEGIN:STANDARD
TZOFFSETFROM:-0400
TZOFFSETTO:-0500
TZNAME:EST
DTSTART:20251102T060000
END:STANDARD
END:VTIMEZONE
BEGIN:VEVENT
DTSTART;VALUE=DATE:20240701
DTEND;VALUE=DATE:20240707
DTSTAMP:20260425T114931
CREATED:20240422T231940Z
LAST-MODIFIED:20240422T232204Z
UID:10036797-1719792000-1720310399@thamesyc.org
SUMMARY:Block Island Mooring Reserved for S/V TAYLOR MARIE
DESCRIPTION:
URL:https://thamesyc.org/event/block-island-mooring-reserved-for-s-v-taylor-marie/
CATEGORIES:Block Island Mooring Reservation.
END:VEVENT
BEGIN:VEVENT
DTSTART;VALUE=DATE:20240701
DTEND;VALUE=DATE:20240702
DTSTAMP:20260425T114931
CREATED:20231220T213257Z
LAST-MODIFIED:20231220T213257Z
UID:10036690-1719792000-1719878399@thamesyc.org
SUMMARY:DEADLINE: Mooring applications to New London Harbormaster
DESCRIPTION:
URL:https://thamesyc.org/event/deadline-mooring-applications-to-new-london-harbormaster/
CATEGORIES:Club Wide Event
END:VEVENT
BEGIN:VEVENT
DTSTART;TZID=America/New_York:20240630T090000
DTEND;TZID=America/New_York:20240630T204500
DTSTAMP:20260425T114931
CREATED:20240602T011334Z
LAST-MODIFIED:20240602T011334Z
UID:10038401-1719738000-1719780300@thamesyc.org
SUMMARY:Launch Hours
DESCRIPTION:
URL:https://thamesyc.org/event/launch-hours-31/
CATEGORIES:TYC Launch Schedule
END:VEVENT
BEGIN:VEVENT
DTSTART;TZID=America/New_York:20240629T110000
DTEND;TZID=America/New_York:20240629T170000
DTSTAMP:20260425T114931
CREATED:20231219T005855Z
LAST-MODIFIED:20231219T005855Z
UID:10036363-1719658800-1719680400@thamesyc.org
SUMMARY:Cal Brouwer Memorial Regatta
DESCRIPTION:
URL:https://thamesyc.org/event/cal-brouwer-memorial-regatta-3/
CATEGORIES:Party,Racing
END:VEVENT
BEGIN:VEVENT
DTSTART;TZID=America/New_York:20240629T090000
DTEND;TZID=America/New_York:20240629T204500
DTSTAMP:20260425T114931
CREATED:20240602T011230Z
LAST-MODIFIED:20240602T011230Z
UID:10038400-1719651600-1719693900@thamesyc.org
SUMMARY:Launch Hours
DESCRIPTION:
URL:https://thamesyc.org/event/launch-hours-30/
CATEGORIES:TYC Launch Schedule
END:VEVENT
BEGIN:VEVENT
DTSTART;VALUE=DATE:20240629
DTEND;VALUE=DATE:20240704
DTSTAMP:20260425T114931
CREATED:20240422T232116Z
LAST-MODIFIED:20240422T232116Z
UID:10036798-1719619200-1720051199@thamesyc.org
SUMMARY:Block Island Mooring Reserved for S/V VEGA
DESCRIPTION:
URL:https://thamesyc.org/event/block-island-mooring-reserved-for-s-v-vega-3/
CATEGORIES:Block Island Mooring Reservation.
END:VEVENT
BEGIN:VEVENT
DTSTART;TZID=America/New_York:20240628T090000
DTEND;TZID=America/New_York:20240628T204500
DTSTAMP:20260425T114931
CREATED:20240602T011147Z
LAST-MODIFIED:20240602T011147Z
UID:10038399-1719565200-1719607500@thamesyc.org
SUMMARY:Launch Hours
DESCRIPTION:
URL:https://thamesyc.org/event/launch-hours-29/
CATEGORIES:TYC Launch Schedule
END:VEVENT
BEGIN:VEVENT
DTSTART;VALUE=DATE:20240628
DTEND;VALUE=DATE:20240701
DTSTAMP:20260425T114931
CREATED:20240618T212702Z
LAST-MODIFIED:20240618T212702Z
UID:10038487-1719532800-1719791999@thamesyc.org
SUMMARY:Block Island Mooring Reserved for S/V SLO MO II
DESCRIPTION:
URL:https://thamesyc.org/event/block-island-mooring-reserved-for-s-v-slo-mo-ii/
CATEGORIES:Block Island Mooring Reservation.
END:VEVENT
BEGIN:VEVENT
DTSTART;VALUE=DATE:20240628
DTEND;VALUE=DATE:20240629
DTSTAMP:20260425T114931
CREATED:20231227T035059Z
LAST-MODIFIED:20231227T035059Z
UID:10036755-1719532800-1719619199@thamesyc.org
SUMMARY:Youth Sailing
DESCRIPTION:
URL:https://thamesyc.org/event/youth-sailing/2024-06-28/
CATEGORIES:Training
END:VEVENT
BEGIN:VEVENT
DTSTART;TZID=America/New_York:20240627T180000
DTEND;TZID=America/New_York:20240627T200000
DTSTAMP:20260425T114931
CREATED:20231219T005510Z
LAST-MODIFIED:20240604T125824Z
UID:10038482-1719511200-1719518400@thamesyc.org
SUMMARY:Force 5/Finn Spring Series
DESCRIPTION:
URL:https://thamesyc.org/event/force-5-spring-series-4/2024-06-27/
CATEGORIES:Racing
END:VEVENT
BEGIN:VEVENT
DTSTART;TZID=America/New_York:20240627T090000
DTEND;TZID=America/New_York:20240627T204500
DTSTAMP:20260425T114931
CREATED:20240602T011106Z
LAST-MODIFIED:20240602T011106Z
UID:10038398-1719478800-1719521100@thamesyc.org
SUMMARY:Launch Hours
DESCRIPTION:
URL:https://thamesyc.org/event/launch-hours-28/
CATEGORIES:TYC Launch Schedule
END:VEVENT
BEGIN:VEVENT
DTSTART;VALUE=DATE:20240627
DTEND;VALUE=DATE:20240628
DTSTAMP:20260425T114931
CREATED:20231227T035059Z
LAST-MODIFIED:20231227T035059Z
UID:10036754-1719446400-1719532799@thamesyc.org
SUMMARY:Youth Sailing
DESCRIPTION:
URL:https://thamesyc.org/event/youth-sailing/2024-06-27/
CATEGORIES:Training
END:VEVENT
BEGIN:VEVENT
DTSTART;TZID=America/New_York:20240626T170000
DTEND;TZID=America/New_York:20240626T200000
DTSTAMP:20260425T114931
CREATED:20231219T005212Z
LAST-MODIFIED:20231219T005212Z
UID:10036352-1719421200-1719432000@thamesyc.org
SUMMARY:Wednesday Night Spring Series
DESCRIPTION:
URL:https://thamesyc.org/event/wednesday-night-spring-series-3/2024-06-26/
CATEGORIES:Racing
END:VEVENT
BEGIN:VEVENT
DTSTART;TZID=America/New_York:20240626T090000
DTEND;TZID=America/New_York:20240626T204500
DTSTAMP:20260425T114931
CREATED:20240602T011014Z
LAST-MODIFIED:20240602T011014Z
UID:10038397-1719392400-1719434700@thamesyc.org
SUMMARY:Launch Hours
DESCRIPTION:
URL:https://thamesyc.org/event/launch-hours-27/
CATEGORIES:TYC Launch Schedule
END:VEVENT
BEGIN:VEVENT
DTSTART;VALUE=DATE:20240626
DTEND;VALUE=DATE:20240627
DTSTAMP:20260425T114931
CREATED:20231227T035059Z
LAST-MODIFIED:20231227T035059Z
UID:10036753-1719360000-1719446399@thamesyc.org
SUMMARY:Youth Sailing
DESCRIPTION:
URL:https://thamesyc.org/event/youth-sailing/2024-06-26/
CATEGORIES:Training
END:VEVENT
BEGIN:VEVENT
DTSTART;TZID=America/New_York:20240625T173000
DTEND;TZID=America/New_York:20240625T200000
DTSTAMP:20260425T114931
CREATED:20231220T234149Z
LAST-MODIFIED:20231220T234149Z
UID:10036721-1719336600-1719345600@thamesyc.org
SUMMARY:Spring Adult Sailing - Evenings
DESCRIPTION:
URL:https://thamesyc.org/event/spring-adult-sailing-evenings/2024-06-25/
CATEGORIES:Training
END:VEVENT
BEGIN:VEVENT
DTSTART;TZID=America/New_York:20240625T090000
DTEND;TZID=America/New_York:20240625T204500
DTSTAMP:20260425T114931
CREATED:20240602T010929Z
LAST-MODIFIED:20240602T010929Z
UID:10038396-1719306000-1719348300@thamesyc.org
SUMMARY:Launch Hours
DESCRIPTION:
URL:https://thamesyc.org/event/launch-hours-26/
CATEGORIES:TYC Launch Schedule
END:VEVENT
BEGIN:VEVENT
DTSTART;VALUE=DATE:20240625
DTEND;VALUE=DATE:20240626
DTSTAMP:20260425T114931
CREATED:20231227T035059Z
LAST-MODIFIED:20231227T035059Z
UID:10036752-1719273600-1719359999@thamesyc.org
SUMMARY:Youth Sailing
DESCRIPTION:
URL:https://thamesyc.org/event/youth-sailing/2024-06-25/
CATEGORIES:Training
END:VEVENT
BEGIN:VEVENT
DTSTART;TZID=America/New_York:20240624T173000
DTEND;TZID=America/New_York:20240624T200000
DTSTAMP:20260425T114931
CREATED:20231220T234149Z
LAST-MODIFIED:20231220T234149Z
UID:10036720-1719250200-1719259200@thamesyc.org
SUMMARY:Spring Adult Sailing - Evenings
DESCRIPTION:
URL:https://thamesyc.org/event/spring-adult-sailing-evenings/2024-06-24/
CATEGORIES:Training
END:VEVENT
BEGIN:VEVENT
DTSTART;TZID=America/New_York:20240624T090000
DTEND;TZID=America/New_York:20240624T204500
DTSTAMP:20260425T114931
CREATED:20240602T010800Z
LAST-MODIFIED:20240602T010800Z
UID:10038395-1719219600-1719261900@thamesyc.org
SUMMARY:Launch Hours
DESCRIPTION:
URL:https://thamesyc.org/event/launch-hours-25/
CATEGORIES:TYC Launch Schedule
END:VEVENT
BEGIN:VEVENT
DTSTART;VALUE=DATE:20240624
DTEND;VALUE=DATE:20240625
DTSTAMP:20260425T114931
CREATED:20231227T035059Z
LAST-MODIFIED:20231227T035059Z
UID:10036751-1719187200-1719273599@thamesyc.org
SUMMARY:Youth Sailing
DESCRIPTION:
URL:https://thamesyc.org/event/youth-sailing/2024-06-24/
CATEGORIES:Training
END:VEVENT
BEGIN:VEVENT
DTSTART;TZID=America/New_York:20240623T090000
DTEND;TZID=America/New_York:20240623T204500
DTSTAMP:20260425T114931
CREATED:20240602T010624Z
LAST-MODIFIED:20240602T010624Z
UID:10038394-1719133200-1719175500@thamesyc.org
SUMMARY:Launch Hours
DESCRIPTION:
URL:https://thamesyc.org/event/launch-hours-24/
CATEGORIES:TYC Launch Schedule
END:VEVENT
BEGIN:VEVENT
DTSTART;TZID=America/New_York:20240622T153000
DTEND;TZID=America/New_York:20240622T210000
DTSTAMP:20260425T114931
CREATED:20240430T101918Z
LAST-MODIFIED:20240430T101918Z
UID:10036800-1719070200-1719090000@thamesyc.org
SUMMARY:Renee Fournier - Birthday Party - 2nd floor
DESCRIPTION:
URL:https://thamesyc.org/event/renee-fournier-birthday-party-2nd-floor/
CATEGORIES:Facility Rental
END:VEVENT
BEGIN:VEVENT
DTSTART;TZID=America/New_York:20240622T090000
DTEND;TZID=America/New_York:20240622T204500
DTSTAMP:20260425T114931
CREATED:20240602T010527Z
LAST-MODIFIED:20240602T010527Z
UID:10038393-1719046800-1719089100@thamesyc.org
SUMMARY:Launch Hours
DESCRIPTION:
URL:https://thamesyc.org/event/launch-hours-23/
CATEGORIES:TYC Launch Schedule
END:VEVENT
BEGIN:VEVENT
DTSTART;TZID=America/New_York:20240621T090000
DTEND;TZID=America/New_York:20240621T090000
DTSTAMP:20260425T114931
CREATED:20240602T010436Z
LAST-MODIFIED:20240602T010436Z
UID:10038392-1718960400-1718960400@thamesyc.org
SUMMARY:Launch Hours
DESCRIPTION:
URL:https://thamesyc.org/event/launch-hours-22/
CATEGORIES:TYC Launch Schedule
END:VEVENT
BEGIN:VEVENT
DTSTART;TZID=America/New_York:20240620T180000
DTEND;TZID=America/New_York:20240620T200000
DTSTAMP:20260425T114931
CREATED:20231219T005510Z
LAST-MODIFIED:20240604T125824Z
UID:10038481-1718906400-1718913600@thamesyc.org
SUMMARY:Force 5/Finn Spring Series
DESCRIPTION:
URL:https://thamesyc.org/event/force-5-spring-series-4/2024-06-20/
CATEGORIES:Racing
END:VEVENT
BEGIN:VEVENT
DTSTART;TZID=America/New_York:20240620T090000
DTEND;TZID=America/New_York:20240620T204500
DTSTAMP:20260425T114931
CREATED:20240602T010325Z
LAST-MODIFIED:20240602T010325Z
UID:10038391-1718874000-1718916300@thamesyc.org
SUMMARY:Launch Hours
DESCRIPTION:
URL:https://thamesyc.org/event/launch-hours-21/
CATEGORIES:TYC Launch Schedule
END:VEVENT
BEGIN:VEVENT
DTSTART;TZID=America/New_York:20240620T080000
DTEND;TZID=America/New_York:20240624T180000
DTSTAMP:20260425T114931
CREATED:20240322T071042Z
LAST-MODIFIED:20240322T071042Z
UID:10036787-1718870400-1719252000@thamesyc.org
SUMMARY:Summer Solstice Cruise
DESCRIPTION:
URL:https://thamesyc.org/event/summer-solstice-cruise-4/
CATEGORIES:Cruise Event
END:VEVENT
BEGIN:VEVENT
DTSTART;TZID=America/New_York:20240619T170000
DTEND;TZID=America/New_York:20240619T200000
DTSTAMP:20260425T114931
CREATED:20231219T005212Z
LAST-MODIFIED:20231219T005212Z
UID:10036351-1718816400-1718827200@thamesyc.org
SUMMARY:Wednesday Night Spring Series
DESCRIPTION:
URL:https://thamesyc.org/event/wednesday-night-spring-series-3/2024-06-19/
CATEGORIES:Racing
END:VEVENT
BEGIN:VEVENT
DTSTART;TZID=America/New_York:20240619T090000
DTEND;TZID=America/New_York:20240619T204500
DTSTAMP:20260425T114931
CREATED:20240602T010241Z
LAST-MODIFIED:20240602T010241Z
UID:10038390-1718787600-1718829900@thamesyc.org
SUMMARY:Launch Hours
DESCRIPTION:
URL:https://thamesyc.org/event/launch-hours-20/
CATEGORIES:TYC Launch Schedule
END:VEVENT
END:VCALENDAR