BEGIN:VCALENDAR
VERSION:2.0
PRODID:-//Thames Yacht Club - ECPv6.15.20//NONSGML v1.0//EN
CALSCALE:GREGORIAN
METHOD:PUBLISH
X-ORIGINAL-URL:https://thamesyc.org
X-WR-CALDESC:Events for Thames Yacht Club
REFRESH-INTERVAL;VALUE=DURATION:PT1H
X-Robots-Tag:noindex
X-PUBLISHED-TTL:PT1H
BEGIN:VTIMEZONE
TZID:America/New_York
BEGIN:DAYLIGHT
TZOFFSETFROM:-0500
TZOFFSETTO:-0400
TZNAME:EDT
DTSTART:20160313T070000
END:DAYLIGHT
BEGIN:STANDARD
TZOFFSETFROM:-0400
TZOFFSETTO:-0500
TZNAME:EST
DTSTART:20161106T060000
END:STANDARD
BEGIN:DAYLIGHT
TZOFFSETFROM:-0500
TZOFFSETTO:-0400
TZNAME:EDT
DTSTART:20170312T070000
END:DAYLIGHT
BEGIN:STANDARD
TZOFFSETFROM:-0400
TZOFFSETTO:-0500
TZNAME:EST
DTSTART:20171105T060000
END:STANDARD
BEGIN:DAYLIGHT
TZOFFSETFROM:-0500
TZOFFSETTO:-0400
TZNAME:EDT
DTSTART:20180311T070000
END:DAYLIGHT
BEGIN:STANDARD
TZOFFSETFROM:-0400
TZOFFSETTO:-0500
TZNAME:EST
DTSTART:20181104T060000
END:STANDARD
END:VTIMEZONE
BEGIN:VEVENT
DTSTART;TZID=America/New_York:20170724T090000
DTEND;TZID=America/New_York:20170724T210000
DTSTAMP:20260425T123107
CREATED:20170325T165125Z
LAST-MODIFIED:20170325T165125Z
UID:10034026-1500886800-1500930000@thamesyc.org
SUMMARY:TYC Launch Schedule
DESCRIPTION:The TYC Launch can be hailed on VHF Channel 71
URL:https://thamesyc.org/event/tyc-launch-schedule-69/2017-07-24/
LOCATION:Thames Yacht Club\, 396 Pequot Avenue\, New London\, CT\, 06320\, United States
CATEGORIES:TYC Launch Schedule
GEO:41.3308391;-72.0946565
X-APPLE-STRUCTURED-LOCATION;VALUE=URI;X-ADDRESS=Thames Yacht Club 396 Pequot Avenue New London CT 06320 United States;X-APPLE-RADIUS=500;X-TITLE=396 Pequot Avenue:geo:-72.0946565,41.3308391
END:VEVENT
BEGIN:VEVENT
DTSTART;VALUE=DATE:20170725
DTEND;VALUE=DATE:20170727
DTSTAMP:20260425T123107
CREATED:20170722T115958Z
LAST-MODIFIED:20170722T115958Z
UID:10034142-1500940800-1501113599@thamesyc.org
SUMMARY:Block Island Mooring Reserved for S/V THRASHER
DESCRIPTION:
URL:https://thamesyc.org/event/block-island-mooring-reserved-for-sv-thrasher/
CATEGORIES:Block Island Mooring Reservation.
END:VEVENT
BEGIN:VEVENT
DTSTART;TZID=America/New_York:20170725T090000
DTEND;TZID=America/New_York:20170725T210000
DTSTAMP:20260425T123107
CREATED:20170325T165125Z
LAST-MODIFIED:20170325T165125Z
UID:10034027-1500973200-1501016400@thamesyc.org
SUMMARY:TYC Launch Schedule
DESCRIPTION:The TYC Launch can be hailed on VHF Channel 71
URL:https://thamesyc.org/event/tyc-launch-schedule-69/2017-07-25/
LOCATION:Thames Yacht Club\, 396 Pequot Avenue\, New London\, CT\, 06320\, United States
CATEGORIES:TYC Launch Schedule
GEO:41.3308391;-72.0946565
X-APPLE-STRUCTURED-LOCATION;VALUE=URI;X-ADDRESS=Thames Yacht Club 396 Pequot Avenue New London CT 06320 United States;X-APPLE-RADIUS=500;X-TITLE=396 Pequot Avenue:geo:-72.0946565,41.3308391
END:VEVENT
BEGIN:VEVENT
DTSTART;VALUE=DATE:20170726
DTEND;VALUE=DATE:20170730
DTSTAMP:20260425T123107
CREATED:20170226T124541Z
LAST-MODIFIED:20170226T124541Z
UID:10033743-1501027200-1501372799@thamesyc.org
SUMMARY:Force 5 North American Championship at TYC
DESCRIPTION:
URL:https://thamesyc.org/event/force-5-north-american-championship-at-tyc/
CATEGORIES:Racing
END:VEVENT
BEGIN:VEVENT
DTSTART;TZID=America/New_York:20170726T090000
DTEND;TZID=America/New_York:20170726T210000
DTSTAMP:20260425T123107
CREATED:20170325T165125Z
LAST-MODIFIED:20170325T165125Z
UID:10034028-1501059600-1501102800@thamesyc.org
SUMMARY:TYC Launch Schedule
DESCRIPTION:The TYC Launch can be hailed on VHF Channel 71
URL:https://thamesyc.org/event/tyc-launch-schedule-69/2017-07-26/
LOCATION:Thames Yacht Club\, 396 Pequot Avenue\, New London\, CT\, 06320\, United States
CATEGORIES:TYC Launch Schedule
GEO:41.3308391;-72.0946565
X-APPLE-STRUCTURED-LOCATION;VALUE=URI;X-ADDRESS=Thames Yacht Club 396 Pequot Avenue New London CT 06320 United States;X-APPLE-RADIUS=500;X-TITLE=396 Pequot Avenue:geo:-72.0946565,41.3308391
END:VEVENT
BEGIN:VEVENT
DTSTART;TZID=America/New_York:20170726T173000
DTEND;TZID=America/New_York:20170726T210000
DTSTAMP:20260425T123107
CREATED:20170211T215651Z
LAST-MODIFIED:20170211T215651Z
UID:10033977-1501090200-1501102800@thamesyc.org
SUMMARY:Wednesday Night Summer Series
DESCRIPTION:
URL:https://thamesyc.org/event/wednesday-night-summer-series/2017-07-26/
CATEGORIES:Racing
END:VEVENT
BEGIN:VEVENT
DTSTART;VALUE=DATE:20170727
DTEND;VALUE=DATE:20170728
DTSTAMP:20260425T123107
CREATED:20170722T115204Z
LAST-MODIFIED:20170722T115204Z
UID:10034141-1501113600-1501199999@thamesyc.org
SUMMARY:Block Island Mooring Reserved S/V LOLA
DESCRIPTION:
URL:https://thamesyc.org/event/block-island-mooring-reserved-sv-lola-2/
CATEGORIES:Block Island Mooring Reservation.
END:VEVENT
BEGIN:VEVENT
DTSTART;TZID=America/New_York:20170727T090000
DTEND;TZID=America/New_York:20170727T210000
DTSTAMP:20260425T123107
CREATED:20170325T165125Z
LAST-MODIFIED:20170325T165125Z
UID:10034029-1501146000-1501189200@thamesyc.org
SUMMARY:TYC Launch Schedule
DESCRIPTION:The TYC Launch can be hailed on VHF Channel 71
URL:https://thamesyc.org/event/tyc-launch-schedule-69/2017-07-27/
LOCATION:Thames Yacht Club\, 396 Pequot Avenue\, New London\, CT\, 06320\, United States
CATEGORIES:TYC Launch Schedule
GEO:41.3308391;-72.0946565
X-APPLE-STRUCTURED-LOCATION;VALUE=URI;X-ADDRESS=Thames Yacht Club 396 Pequot Avenue New London CT 06320 United States;X-APPLE-RADIUS=500;X-TITLE=396 Pequot Avenue:geo:-72.0946565,41.3308391
END:VEVENT
BEGIN:VEVENT
DTSTART;TZID=America/New_York:20170727T173000
DTEND;TZID=America/New_York:20170727T210000
DTSTAMP:20260425T123107
CREATED:20170211T215954Z
LAST-MODIFIED:20170211T215954Z
UID:10033992-1501176600-1501189200@thamesyc.org
SUMMARY:Force Five Thursday Night Series
DESCRIPTION:
URL:https://thamesyc.org/event/force-five-thursday-night-series/2017-07-27/
CATEGORIES:Racing
END:VEVENT
BEGIN:VEVENT
DTSTART;VALUE=DATE:20170728
DTEND;VALUE=DATE:20170730
DTSTAMP:20260425T123107
CREATED:20170628T211826Z
LAST-MODIFIED:20170628T211826Z
UID:10034137-1501200000-1501372799@thamesyc.org
SUMMARY:Block Island Mooring Reserved for S/V VOYAGER
DESCRIPTION:
URL:https://thamesyc.org/event/block-island-mooring-reserved-for-sv-voyager-4/
CATEGORIES:Block Island Mooring Reservation.
END:VEVENT
BEGIN:VEVENT
DTSTART;TZID=America/New_York:20170728T090000
DTEND;TZID=America/New_York:20170728T210000
DTSTAMP:20260425T123107
CREATED:20170325T165125Z
LAST-MODIFIED:20170325T165125Z
UID:10034030-1501232400-1501275600@thamesyc.org
SUMMARY:TYC Launch Schedule
DESCRIPTION:The TYC Launch can be hailed on VHF Channel 71
URL:https://thamesyc.org/event/tyc-launch-schedule-69/2017-07-28/
LOCATION:Thames Yacht Club\, 396 Pequot Avenue\, New London\, CT\, 06320\, United States
CATEGORIES:TYC Launch Schedule
GEO:41.3308391;-72.0946565
X-APPLE-STRUCTURED-LOCATION;VALUE=URI;X-ADDRESS=Thames Yacht Club 396 Pequot Avenue New London CT 06320 United States;X-APPLE-RADIUS=500;X-TITLE=396 Pequot Avenue:geo:-72.0946565,41.3308391
END:VEVENT
BEGIN:VEVENT
DTSTART;TZID=America/New_York:20170729T090000
DTEND;TZID=America/New_York:20170729T210000
DTSTAMP:20260425T123107
CREATED:20170325T165125Z
LAST-MODIFIED:20170325T165125Z
UID:10034031-1501318800-1501362000@thamesyc.org
SUMMARY:TYC Launch Schedule
DESCRIPTION:The TYC Launch can be hailed on VHF Channel 71
URL:https://thamesyc.org/event/tyc-launch-schedule-69/2017-07-29/
LOCATION:Thames Yacht Club\, 396 Pequot Avenue\, New London\, CT\, 06320\, United States
CATEGORIES:TYC Launch Schedule
GEO:41.3308391;-72.0946565
X-APPLE-STRUCTURED-LOCATION;VALUE=URI;X-ADDRESS=Thames Yacht Club 396 Pequot Avenue New London CT 06320 United States;X-APPLE-RADIUS=500;X-TITLE=396 Pequot Avenue:geo:-72.0946565,41.3308391
END:VEVENT
BEGIN:VEVENT
DTSTART;TZID=America/New_York:20170730T090000
DTEND;TZID=America/New_York:20170730T210000
DTSTAMP:20260425T123107
CREATED:20170325T165125Z
LAST-MODIFIED:20170325T165125Z
UID:10034032-1501405200-1501448400@thamesyc.org
SUMMARY:TYC Launch Schedule
DESCRIPTION:The TYC Launch can be hailed on VHF Channel 71
URL:https://thamesyc.org/event/tyc-launch-schedule-69/2017-07-30/
LOCATION:Thames Yacht Club\, 396 Pequot Avenue\, New London\, CT\, 06320\, United States
CATEGORIES:TYC Launch Schedule
GEO:41.3308391;-72.0946565
X-APPLE-STRUCTURED-LOCATION;VALUE=URI;X-ADDRESS=Thames Yacht Club 396 Pequot Avenue New London CT 06320 United States;X-APPLE-RADIUS=500;X-TITLE=396 Pequot Avenue:geo:-72.0946565,41.3308391
END:VEVENT
BEGIN:VEVENT
DTSTART;TZID=America/New_York:20170731T090000
DTEND;TZID=America/New_York:20170731T210000
DTSTAMP:20260425T123107
CREATED:20170325T165125Z
LAST-MODIFIED:20170325T165125Z
UID:10034033-1501491600-1501534800@thamesyc.org
SUMMARY:TYC Launch Schedule
DESCRIPTION:The TYC Launch can be hailed on VHF Channel 71
URL:https://thamesyc.org/event/tyc-launch-schedule-69/2017-07-31/
LOCATION:Thames Yacht Club\, 396 Pequot Avenue\, New London\, CT\, 06320\, United States
CATEGORIES:TYC Launch Schedule
GEO:41.3308391;-72.0946565
X-APPLE-STRUCTURED-LOCATION;VALUE=URI;X-ADDRESS=Thames Yacht Club 396 Pequot Avenue New London CT 06320 United States;X-APPLE-RADIUS=500;X-TITLE=396 Pequot Avenue:geo:-72.0946565,41.3308391
END:VEVENT
BEGIN:VEVENT
DTSTART;TZID=America/New_York:20170801T090000
DTEND;TZID=America/New_York:20170801T210000
DTSTAMP:20260425T123107
CREATED:20170325T165125Z
LAST-MODIFIED:20170325T165125Z
UID:10034034-1501578000-1501621200@thamesyc.org
SUMMARY:TYC Launch Schedule
DESCRIPTION:The TYC Launch can be hailed on VHF Channel 71
URL:https://thamesyc.org/event/tyc-launch-schedule-69/2017-08-01/
LOCATION:Thames Yacht Club\, 396 Pequot Avenue\, New London\, CT\, 06320\, United States
CATEGORIES:TYC Launch Schedule
GEO:41.3308391;-72.0946565
X-APPLE-STRUCTURED-LOCATION;VALUE=URI;X-ADDRESS=Thames Yacht Club 396 Pequot Avenue New London CT 06320 United States;X-APPLE-RADIUS=500;X-TITLE=396 Pequot Avenue:geo:-72.0946565,41.3308391
END:VEVENT
BEGIN:VEVENT
DTSTART;TZID=America/New_York:20170802T090000
DTEND;TZID=America/New_York:20170802T210000
DTSTAMP:20260425T123107
CREATED:20170325T165125Z
LAST-MODIFIED:20170325T165125Z
UID:10034035-1501664400-1501707600@thamesyc.org
SUMMARY:TYC Launch Schedule
DESCRIPTION:The TYC Launch can be hailed on VHF Channel 71
URL:https://thamesyc.org/event/tyc-launch-schedule-69/2017-08-02/
LOCATION:Thames Yacht Club\, 396 Pequot Avenue\, New London\, CT\, 06320\, United States
CATEGORIES:TYC Launch Schedule
GEO:41.3308391;-72.0946565
X-APPLE-STRUCTURED-LOCATION;VALUE=URI;X-ADDRESS=Thames Yacht Club 396 Pequot Avenue New London CT 06320 United States;X-APPLE-RADIUS=500;X-TITLE=396 Pequot Avenue:geo:-72.0946565,41.3308391
END:VEVENT
BEGIN:VEVENT
DTSTART;TZID=America/New_York:20170802T173000
DTEND;TZID=America/New_York:20170802T210000
DTSTAMP:20260425T123107
CREATED:20170211T215651Z
LAST-MODIFIED:20170211T215651Z
UID:10033978-1501695000-1501707600@thamesyc.org
SUMMARY:Wednesday Night Summer Series
DESCRIPTION:
URL:https://thamesyc.org/event/wednesday-night-summer-series/2017-08-02/
CATEGORIES:Racing
END:VEVENT
BEGIN:VEVENT
DTSTART;TZID=America/New_York:20170803T090000
DTEND;TZID=America/New_York:20170803T210000
DTSTAMP:20260425T123107
CREATED:20170325T165125Z
LAST-MODIFIED:20170325T165125Z
UID:10034036-1501750800-1501794000@thamesyc.org
SUMMARY:TYC Launch Schedule
DESCRIPTION:The TYC Launch can be hailed on VHF Channel 71
URL:https://thamesyc.org/event/tyc-launch-schedule-69/2017-08-03/
LOCATION:Thames Yacht Club\, 396 Pequot Avenue\, New London\, CT\, 06320\, United States
CATEGORIES:TYC Launch Schedule
GEO:41.3308391;-72.0946565
X-APPLE-STRUCTURED-LOCATION;VALUE=URI;X-ADDRESS=Thames Yacht Club 396 Pequot Avenue New London CT 06320 United States;X-APPLE-RADIUS=500;X-TITLE=396 Pequot Avenue:geo:-72.0946565,41.3308391
END:VEVENT
BEGIN:VEVENT
DTSTART;TZID=America/New_York:20170803T173000
DTEND;TZID=America/New_York:20170803T210000
DTSTAMP:20260425T123107
CREATED:20170211T215954Z
LAST-MODIFIED:20170211T215954Z
UID:10033993-1501781400-1501794000@thamesyc.org
SUMMARY:Force Five Thursday Night Series
DESCRIPTION:
URL:https://thamesyc.org/event/force-five-thursday-night-series/2017-08-03/
CATEGORIES:Racing
END:VEVENT
BEGIN:VEVENT
DTSTART;TZID=America/New_York:20170804T080000
DTEND;TZID=America/New_York:20170805T170000
DTSTAMP:20260425T123107
CREATED:20170301T152804Z
LAST-MODIFIED:20170301T152804Z
UID:10033749-1501833600-1501952400@thamesyc.org
SUMMARY:Block Island Mooring reserved for S/V TWO HOURS
DESCRIPTION:
URL:https://thamesyc.org/event/block-island-mooring-reserved-for-sv-two-hours/
CATEGORIES:Block Island Mooring Reservation.
END:VEVENT
BEGIN:VEVENT
DTSTART;TZID=America/New_York:20170804T090000
DTEND;TZID=America/New_York:20170804T210000
DTSTAMP:20260425T123107
CREATED:20170325T165125Z
LAST-MODIFIED:20170325T165125Z
UID:10034037-1501837200-1501880400@thamesyc.org
SUMMARY:TYC Launch Schedule
DESCRIPTION:The TYC Launch can be hailed on VHF Channel 71
URL:https://thamesyc.org/event/tyc-launch-schedule-69/2017-08-04/
LOCATION:Thames Yacht Club\, 396 Pequot Avenue\, New London\, CT\, 06320\, United States
CATEGORIES:TYC Launch Schedule
GEO:41.3308391;-72.0946565
X-APPLE-STRUCTURED-LOCATION;VALUE=URI;X-ADDRESS=Thames Yacht Club 396 Pequot Avenue New London CT 06320 United States;X-APPLE-RADIUS=500;X-TITLE=396 Pequot Avenue:geo:-72.0946565,41.3308391
END:VEVENT
BEGIN:VEVENT
DTSTART;TZID=America/New_York:20170805T090000
DTEND;TZID=America/New_York:20170805T210000
DTSTAMP:20260425T123107
CREATED:20170325T165125Z
LAST-MODIFIED:20170325T165125Z
UID:10034038-1501923600-1501966800@thamesyc.org
SUMMARY:TYC Launch Schedule
DESCRIPTION:The TYC Launch can be hailed on VHF Channel 71
URL:https://thamesyc.org/event/tyc-launch-schedule-69/2017-08-05/
LOCATION:Thames Yacht Club\, 396 Pequot Avenue\, New London\, CT\, 06320\, United States
CATEGORIES:TYC Launch Schedule
GEO:41.3308391;-72.0946565
X-APPLE-STRUCTURED-LOCATION;VALUE=URI;X-ADDRESS=Thames Yacht Club 396 Pequot Avenue New London CT 06320 United States;X-APPLE-RADIUS=500;X-TITLE=396 Pequot Avenue:geo:-72.0946565,41.3308391
END:VEVENT
BEGIN:VEVENT
DTSTART;TZID=America/New_York:20170806T090000
DTEND;TZID=America/New_York:20170806T210000
DTSTAMP:20260425T123107
CREATED:20170325T165125Z
LAST-MODIFIED:20170325T165125Z
UID:10034039-1502010000-1502053200@thamesyc.org
SUMMARY:TYC Launch Schedule
DESCRIPTION:The TYC Launch can be hailed on VHF Channel 71
URL:https://thamesyc.org/event/tyc-launch-schedule-69/2017-08-06/
LOCATION:Thames Yacht Club\, 396 Pequot Avenue\, New London\, CT\, 06320\, United States
CATEGORIES:TYC Launch Schedule
GEO:41.3308391;-72.0946565
X-APPLE-STRUCTURED-LOCATION;VALUE=URI;X-ADDRESS=Thames Yacht Club 396 Pequot Avenue New London CT 06320 United States;X-APPLE-RADIUS=500;X-TITLE=396 Pequot Avenue:geo:-72.0946565,41.3308391
END:VEVENT
BEGIN:VEVENT
DTSTART;TZID=America/New_York:20170807T090000
DTEND;TZID=America/New_York:20170807T210000
DTSTAMP:20260425T123107
CREATED:20170325T165125Z
LAST-MODIFIED:20170325T165125Z
UID:10034040-1502096400-1502139600@thamesyc.org
SUMMARY:TYC Launch Schedule
DESCRIPTION:The TYC Launch can be hailed on VHF Channel 71
URL:https://thamesyc.org/event/tyc-launch-schedule-69/2017-08-07/
LOCATION:Thames Yacht Club\, 396 Pequot Avenue\, New London\, CT\, 06320\, United States
CATEGORIES:TYC Launch Schedule
GEO:41.3308391;-72.0946565
X-APPLE-STRUCTURED-LOCATION;VALUE=URI;X-ADDRESS=Thames Yacht Club 396 Pequot Avenue New London CT 06320 United States;X-APPLE-RADIUS=500;X-TITLE=396 Pequot Avenue:geo:-72.0946565,41.3308391
END:VEVENT
BEGIN:VEVENT
DTSTART;VALUE=DATE:20170808
DTEND;VALUE=DATE:20170811
DTSTAMP:20260425T123107
CREATED:20170810T184033Z
LAST-MODIFIED:20170810T184033Z
UID:10033796-1502150400-1502409599@thamesyc.org
SUMMARY:Block Island Mooring Reserved for S/V VAMANOS
DESCRIPTION:
URL:https://thamesyc.org/event/block-island-mooring-reserved-for-sv-vamanos/
CATEGORIES:Block Island Mooring Reservation.
END:VEVENT
BEGIN:VEVENT
DTSTART;TZID=America/New_York:20170808T090000
DTEND;TZID=America/New_York:20170808T210000
DTSTAMP:20260425T123107
CREATED:20170325T165125Z
LAST-MODIFIED:20170325T165125Z
UID:10034041-1502182800-1502226000@thamesyc.org
SUMMARY:TYC Launch Schedule
DESCRIPTION:The TYC Launch can be hailed on VHF Channel 71
URL:https://thamesyc.org/event/tyc-launch-schedule-69/2017-08-08/
LOCATION:Thames Yacht Club\, 396 Pequot Avenue\, New London\, CT\, 06320\, United States
CATEGORIES:TYC Launch Schedule
GEO:41.3308391;-72.0946565
X-APPLE-STRUCTURED-LOCATION;VALUE=URI;X-ADDRESS=Thames Yacht Club 396 Pequot Avenue New London CT 06320 United States;X-APPLE-RADIUS=500;X-TITLE=396 Pequot Avenue:geo:-72.0946565,41.3308391
END:VEVENT
BEGIN:VEVENT
DTSTART;TZID=America/New_York:20170809T090000
DTEND;TZID=America/New_York:20170809T210000
DTSTAMP:20260425T123107
CREATED:20170325T165125Z
LAST-MODIFIED:20170325T165125Z
UID:10034042-1502269200-1502312400@thamesyc.org
SUMMARY:TYC Launch Schedule
DESCRIPTION:The TYC Launch can be hailed on VHF Channel 71
URL:https://thamesyc.org/event/tyc-launch-schedule-69/2017-08-09/
LOCATION:Thames Yacht Club\, 396 Pequot Avenue\, New London\, CT\, 06320\, United States
CATEGORIES:TYC Launch Schedule
GEO:41.3308391;-72.0946565
X-APPLE-STRUCTURED-LOCATION;VALUE=URI;X-ADDRESS=Thames Yacht Club 396 Pequot Avenue New London CT 06320 United States;X-APPLE-RADIUS=500;X-TITLE=396 Pequot Avenue:geo:-72.0946565,41.3308391
END:VEVENT
BEGIN:VEVENT
DTSTART;TZID=America/New_York:20170809T173000
DTEND;TZID=America/New_York:20170809T210000
DTSTAMP:20260425T123107
CREATED:20170211T215651Z
LAST-MODIFIED:20170211T215651Z
UID:10033979-1502299800-1502312400@thamesyc.org
SUMMARY:Wednesday Night Summer Series
DESCRIPTION:
URL:https://thamesyc.org/event/wednesday-night-summer-series/2017-08-09/
CATEGORIES:Racing
END:VEVENT
BEGIN:VEVENT
DTSTART;TZID=America/New_York:20170810T090000
DTEND;TZID=America/New_York:20170810T210000
DTSTAMP:20260425T123107
CREATED:20170325T165125Z
LAST-MODIFIED:20170325T165125Z
UID:10034043-1502355600-1502398800@thamesyc.org
SUMMARY:TYC Launch Schedule
DESCRIPTION:The TYC Launch can be hailed on VHF Channel 71
URL:https://thamesyc.org/event/tyc-launch-schedule-69/2017-08-10/
LOCATION:Thames Yacht Club\, 396 Pequot Avenue\, New London\, CT\, 06320\, United States
CATEGORIES:TYC Launch Schedule
GEO:41.3308391;-72.0946565
X-APPLE-STRUCTURED-LOCATION;VALUE=URI;X-ADDRESS=Thames Yacht Club 396 Pequot Avenue New London CT 06320 United States;X-APPLE-RADIUS=500;X-TITLE=396 Pequot Avenue:geo:-72.0946565,41.3308391
END:VEVENT
BEGIN:VEVENT
DTSTART;TZID=America/New_York:20170810T173000
DTEND;TZID=America/New_York:20170810T210000
DTSTAMP:20260425T123107
CREATED:20170211T215954Z
LAST-MODIFIED:20170211T215954Z
UID:10033994-1502386200-1502398800@thamesyc.org
SUMMARY:Force Five Thursday Night Series
DESCRIPTION:
URL:https://thamesyc.org/event/force-five-thursday-night-series/2017-08-10/
CATEGORIES:Racing
END:VEVENT
END:VCALENDAR