BEGIN:VCALENDAR
VERSION:2.0
PRODID:-//Thames Yacht Club - ECPv6.15.17//NONSGML v1.0//EN
CALSCALE:GREGORIAN
METHOD:PUBLISH
X-ORIGINAL-URL:https://thamesyc.org
X-WR-CALDESC:Events for Thames Yacht Club
REFRESH-INTERVAL;VALUE=DURATION:PT1H
X-Robots-Tag:noindex
X-PUBLISHED-TTL:PT1H
BEGIN:VTIMEZONE
TZID:America/New_York
BEGIN:DAYLIGHT
TZOFFSETFROM:-0500
TZOFFSETTO:-0400
TZNAME:EDT
DTSTART:20160313T070000
END:DAYLIGHT
BEGIN:STANDARD
TZOFFSETFROM:-0400
TZOFFSETTO:-0500
TZNAME:EST
DTSTART:20161106T060000
END:STANDARD
BEGIN:DAYLIGHT
TZOFFSETFROM:-0500
TZOFFSETTO:-0400
TZNAME:EDT
DTSTART:20170312T070000
END:DAYLIGHT
BEGIN:STANDARD
TZOFFSETFROM:-0400
TZOFFSETTO:-0500
TZNAME:EST
DTSTART:20171105T060000
END:STANDARD
BEGIN:DAYLIGHT
TZOFFSETFROM:-0500
TZOFFSETTO:-0400
TZNAME:EDT
DTSTART:20180311T070000
END:DAYLIGHT
BEGIN:STANDARD
TZOFFSETFROM:-0400
TZOFFSETTO:-0500
TZNAME:EST
DTSTART:20181104T060000
END:STANDARD
END:VTIMEZONE
BEGIN:VEVENT
DTSTART;TZID=America/New_York:20170321T183000
DTEND;TZID=America/New_York:20170321T213000
DTSTAMP:20260425T075001
CREATED:20161227T234848Z
LAST-MODIFIED:20161227T234848Z
UID:10033936-1490121000-1490131800@thamesyc.org
SUMMARY:Executive Committee Meeting
DESCRIPTION:
URL:https://thamesyc.org/event/executive-committee-meeting-4/
END:VEVENT
BEGIN:VEVENT
DTSTART;TZID=America/New_York:20170325T070000
DTEND;TZID=America/New_York:20170325T090000
DTSTAMP:20260425T075001
CREATED:20170325T170324Z
LAST-MODIFIED:20170325T170324Z
UID:10034070-1490425200-1490432400@thamesyc.org
SUMMARY:TYC Launch Schedule
DESCRIPTION:The TYC Launch can be hailed on VHF Channel 71
URL:https://thamesyc.org/event/tyc-launch-schedule-74/
LOCATION:Thames Yacht Club\, 396 Pequot Avenue\, New London\, CT\, 06320\, United States
CATEGORIES:TYC Launch Schedule
GEO:41.3308391;-72.0946565
X-APPLE-STRUCTURED-LOCATION;VALUE=URI;X-ADDRESS=Thames Yacht Club 396 Pequot Avenue New London CT 06320 United States;X-APPLE-RADIUS=500;X-TITLE=396 Pequot Avenue:geo:-72.0946565,41.3308391
END:VEVENT
BEGIN:VEVENT
DTSTART;TZID=America/New_York:20170415T170000
DTEND;TZID=America/New_York:20170415T220000
DTSTAMP:20260425T075001
CREATED:20170409T191035Z
LAST-MODIFIED:20170409T191035Z
UID:10034102-1492275600-1492293600@thamesyc.org
SUMMARY:Membership Meeting and Welcome to Spring!
DESCRIPTION:
URL:https://thamesyc.org/event/membership-meeting-and-welcome-to-spring/
LOCATION:Thames Yacht Club\, 396 Pequot Avenue\, New London\, CT\, 06320\, United States
CATEGORIES:Club Wide Event
GEO:41.3308391;-72.0946565
X-APPLE-STRUCTURED-LOCATION;VALUE=URI;X-ADDRESS=Thames Yacht Club 396 Pequot Avenue New London CT 06320 United States;X-APPLE-RADIUS=500;X-TITLE=396 Pequot Avenue:geo:-72.0946565,41.3308391
END:VEVENT
BEGIN:VEVENT
DTSTART;TZID=America/New_York:20170418T183000
DTEND;TZID=America/New_York:20170418T213000
DTSTAMP:20260425T075001
CREATED:20161227T235004Z
LAST-MODIFIED:20161227T235004Z
UID:10033937-1492540200-1492551000@thamesyc.org
SUMMARY:Executive Committee Meeting
DESCRIPTION:
URL:https://thamesyc.org/event/executive-committee-meeting-5/
END:VEVENT
BEGIN:VEVENT
DTSTART;VALUE=DATE:20170420
DTEND;VALUE=DATE:20170501
DTSTAMP:20260425T075001
CREATED:20161218T013423Z
LAST-MODIFIED:20161218T014215Z
UID:10033928-1492646400-1493596799@thamesyc.org
SUMMARY:TYC Cruise in the British Virgin Islands
DESCRIPTION:
URL:https://thamesyc.org/event/tyc-cruise-in-the-british-virgin-islands/
CATEGORIES:Cruise Event
END:VEVENT
BEGIN:VEVENT
DTSTART;TZID=America/New_York:20170506T090000
DTEND;TZID=America/New_York:20170506T140000
DTSTAMP:20260425T075001
CREATED:20161227T235643Z
LAST-MODIFIED:20161227T235643Z
UID:10033938-1494061200-1494079200@thamesyc.org
SUMMARY:Spring Cleanup Day
DESCRIPTION:
URL:https://thamesyc.org/event/spring-cleanup-day/
CATEGORIES:Work Party Event
END:VEVENT
BEGIN:VEVENT
DTSTART;TZID=America/New_York:20170512T120000
DTEND;TZID=America/New_York:20170512T170000
DTSTAMP:20260425T075001
CREATED:20170325T163943Z
LAST-MODIFIED:20170325T163943Z
UID:10033753-1494590400-1494608400@thamesyc.org
SUMMARY:TYC Launch Schedule
DESCRIPTION:The TYC Launch can be hailed on VHF Channel 71.
URL:https://thamesyc.org/event/tyc-launch-schedule-65/2017-05-12/
LOCATION:Thames Yacht Club\, 396 Pequot Avenue\, New London\, CT\, 06320\, United States
CATEGORIES:TYC Launch Schedule
GEO:41.3308391;-72.0946565
X-APPLE-STRUCTURED-LOCATION;VALUE=URI;X-ADDRESS=Thames Yacht Club 396 Pequot Avenue New London CT 06320 United States;X-APPLE-RADIUS=500;X-TITLE=396 Pequot Avenue:geo:-72.0946565,41.3308391
END:VEVENT
BEGIN:VEVENT
DTSTART;TZID=America/New_York:20170513T100000
DTEND;TZID=America/New_York:20170513T160000
DTSTAMP:20260425T075001
CREATED:20161227T235916Z
LAST-MODIFIED:20161227T235916Z
UID:10033939-1494669600-1494691200@thamesyc.org
SUMMARY:Marine Tag/Craft Sale and Open House
DESCRIPTION:
URL:https://thamesyc.org/event/marine-tagcraft-sale-and-open-house/
CATEGORIES:Club Wide Event
END:VEVENT
BEGIN:VEVENT
DTSTART;TZID=America/New_York:20170513T120000
DTEND;TZID=America/New_York:20170513T170000
DTSTAMP:20260425T075001
CREATED:20170325T163943Z
LAST-MODIFIED:20170325T163943Z
UID:10033754-1494676800-1494694800@thamesyc.org
SUMMARY:TYC Launch Schedule
DESCRIPTION:The TYC Launch can be hailed on VHF Channel 71.
URL:https://thamesyc.org/event/tyc-launch-schedule-65/2017-05-13/
LOCATION:Thames Yacht Club\, 396 Pequot Avenue\, New London\, CT\, 06320\, United States
CATEGORIES:TYC Launch Schedule
GEO:41.3308391;-72.0946565
X-APPLE-STRUCTURED-LOCATION;VALUE=URI;X-ADDRESS=Thames Yacht Club 396 Pequot Avenue New London CT 06320 United States;X-APPLE-RADIUS=500;X-TITLE=396 Pequot Avenue:geo:-72.0946565,41.3308391
END:VEVENT
BEGIN:VEVENT
DTSTART;TZID=America/New_York:20170514T120000
DTEND;TZID=America/New_York:20170514T170000
DTSTAMP:20260425T075001
CREATED:20170325T163943Z
LAST-MODIFIED:20170325T163943Z
UID:10033755-1494763200-1494781200@thamesyc.org
SUMMARY:TYC Launch Schedule
DESCRIPTION:The TYC Launch can be hailed on VHF Channel 71.
URL:https://thamesyc.org/event/tyc-launch-schedule-65/2017-05-14/
LOCATION:Thames Yacht Club\, 396 Pequot Avenue\, New London\, CT\, 06320\, United States
CATEGORIES:TYC Launch Schedule
GEO:41.3308391;-72.0946565
X-APPLE-STRUCTURED-LOCATION;VALUE=URI;X-ADDRESS=Thames Yacht Club 396 Pequot Avenue New London CT 06320 United States;X-APPLE-RADIUS=500;X-TITLE=396 Pequot Avenue:geo:-72.0946565,41.3308391
END:VEVENT
BEGIN:VEVENT
DTSTART;TZID=America/New_York:20170516T183000
DTEND;TZID=America/New_York:20170516T213000
DTSTAMP:20260425T075001
CREATED:20161228T000041Z
LAST-MODIFIED:20161228T000041Z
UID:10033940-1494959400-1494970200@thamesyc.org
SUMMARY:Executive Committee Meeting
DESCRIPTION:
URL:https://thamesyc.org/event/executive-committee-meeting-6/
END:VEVENT
BEGIN:VEVENT
DTSTART;TZID=America/New_York:20170519T120000
DTEND;TZID=America/New_York:20170519T170000
DTSTAMP:20260425T075001
CREATED:20170325T164303Z
LAST-MODIFIED:20170325T164303Z
UID:10033757-1495195200-1495213200@thamesyc.org
SUMMARY:TYC Launch
DESCRIPTION:The TYC Launch can be hailed on VHF Channel 71
URL:https://thamesyc.org/event/tyc-launch/2017-05-19/
LOCATION:Thames Yacht Club\, 396 Pequot Avenue\, New London\, CT\, 06320\, United States
CATEGORIES:TYC Launch Schedule
GEO:41.3308391;-72.0946565
X-APPLE-STRUCTURED-LOCATION;VALUE=URI;X-ADDRESS=Thames Yacht Club 396 Pequot Avenue New London CT 06320 United States;X-APPLE-RADIUS=500;X-TITLE=396 Pequot Avenue:geo:-72.0946565,41.3308391
END:VEVENT
BEGIN:VEVENT
DTSTART;TZID=America/New_York:20170520T120000
DTEND;TZID=America/New_York:20170520T170000
DTSTAMP:20260425T075001
CREATED:20170325T164303Z
LAST-MODIFIED:20170325T164303Z
UID:10033758-1495281600-1495299600@thamesyc.org
SUMMARY:TYC Launch
DESCRIPTION:The TYC Launch can be hailed on VHF Channel 71
URL:https://thamesyc.org/event/tyc-launch/2017-05-20/
LOCATION:Thames Yacht Club\, 396 Pequot Avenue\, New London\, CT\, 06320\, United States
CATEGORIES:TYC Launch Schedule
GEO:41.3308391;-72.0946565
X-APPLE-STRUCTURED-LOCATION;VALUE=URI;X-ADDRESS=Thames Yacht Club 396 Pequot Avenue New London CT 06320 United States;X-APPLE-RADIUS=500;X-TITLE=396 Pequot Avenue:geo:-72.0946565,41.3308391
END:VEVENT
BEGIN:VEVENT
DTSTART;TZID=America/New_York:20170520T173000
DTEND;TZID=America/New_York:20170520T220000
DTSTAMP:20260425T075001
CREATED:20161228T000349Z
LAST-MODIFIED:20170513T233015Z
UID:10033941-1495301400-1495317600@thamesyc.org
SUMMARY:Commissioning Day
DESCRIPTION:
URL:https://thamesyc.org/event/commissioning-day-3/
CATEGORIES:Club Wide Event,Party
END:VEVENT
BEGIN:VEVENT
DTSTART;TZID=America/New_York:20170521T120000
DTEND;TZID=America/New_York:20170521T150000
DTSTAMP:20260425T075001
CREATED:20170211T214627Z
LAST-MODIFIED:20170211T214627Z
UID:10033962-1495368000-1495378800@thamesyc.org
SUMMARY:Chili Series
DESCRIPTION:
URL:https://thamesyc.org/event/chili-series-3/2017-05-21/
CATEGORIES:Racing
END:VEVENT
BEGIN:VEVENT
DTSTART;TZID=America/New_York:20170521T120000
DTEND;TZID=America/New_York:20170521T170000
DTSTAMP:20260425T075001
CREATED:20170325T164303Z
LAST-MODIFIED:20170325T164303Z
UID:10033759-1495368000-1495386000@thamesyc.org
SUMMARY:TYC Launch
DESCRIPTION:The TYC Launch can be hailed on VHF Channel 71
URL:https://thamesyc.org/event/tyc-launch/2017-05-21/
LOCATION:Thames Yacht Club\, 396 Pequot Avenue\, New London\, CT\, 06320\, United States
CATEGORIES:TYC Launch Schedule
GEO:41.3308391;-72.0946565
X-APPLE-STRUCTURED-LOCATION;VALUE=URI;X-ADDRESS=Thames Yacht Club 396 Pequot Avenue New London CT 06320 United States;X-APPLE-RADIUS=500;X-TITLE=396 Pequot Avenue:geo:-72.0946565,41.3308391
END:VEVENT
BEGIN:VEVENT
DTSTART;TZID=America/New_York:20170525T110000
DTEND;TZID=America/New_York:20170525T140000
DTSTAMP:20260425T075001
CREATED:20170524T234222Z
LAST-MODIFIED:20170524T234222Z
UID:10034115-1495710000-1495720800@thamesyc.org
SUMMARY:Waterford Women's Club - M.E. Michalowski
DESCRIPTION:Second Floor Rental
URL:https://thamesyc.org/event/waterford-womens-club-m-e-michalowski/
CATEGORIES:Facility Rental
END:VEVENT
BEGIN:VEVENT
DTSTART;TZID=America/New_York:20170526T120000
DTEND;TZID=America/New_York:20170526T170000
DTSTAMP:20260425T075001
CREATED:20170325T164542Z
LAST-MODIFIED:20170325T164542Z
UID:10033761-1495800000-1495818000@thamesyc.org
SUMMARY:TYC Launch Schedule
DESCRIPTION:The TYC Launch can be hailed on VHF Channel 71
URL:https://thamesyc.org/event/tyc-launch-schedule-66/
CATEGORIES:TYC Launch Schedule
END:VEVENT
BEGIN:VEVENT
DTSTART;TZID=America/New_York:20170527T100000
DTEND;TZID=America/New_York:20170527T190000
DTSTAMP:20260425T075001
CREATED:20170325T164657Z
LAST-MODIFIED:20170325T164657Z
UID:10033762-1495879200-1495911600@thamesyc.org
SUMMARY:TYC Launch Schedule
DESCRIPTION:The TYC Launch can be hailed on VHF Channel 71
URL:https://thamesyc.org/event/tyc-launch-schedule-67/
LOCATION:Thames Yacht Club\, 396 Pequot Avenue\, New London\, CT\, 06320\, United States
CATEGORIES:TYC Launch Schedule
GEO:41.3308391;-72.0946565
X-APPLE-STRUCTURED-LOCATION;VALUE=URI;X-ADDRESS=Thames Yacht Club 396 Pequot Avenue New London CT 06320 United States;X-APPLE-RADIUS=500;X-TITLE=396 Pequot Avenue:geo:-72.0946565,41.3308391
END:VEVENT
BEGIN:VEVENT
DTSTART;TZID=America/New_York:20170528T100000
DTEND;TZID=America/New_York:20170528T200000
DTSTAMP:20260425T075001
CREATED:20170325T164853Z
LAST-MODIFIED:20170325T164853Z
UID:10034001-1495965600-1496001600@thamesyc.org
SUMMARY:TYC Launch Schedule
DESCRIPTION:The TYC Launch can be hailed on VHF Channel 71
URL:https://thamesyc.org/event/tyc-launch-schedule-68/2017-05-28/
LOCATION:Thames Yacht Club\, 396 Pequot Avenue\, New London\, CT\, 06320\, United States
CATEGORIES:TYC Launch Schedule
GEO:41.3308391;-72.0946565
X-APPLE-STRUCTURED-LOCATION;VALUE=URI;X-ADDRESS=Thames Yacht Club 396 Pequot Avenue New London CT 06320 United States;X-APPLE-RADIUS=500;X-TITLE=396 Pequot Avenue:geo:-72.0946565,41.3308391
END:VEVENT
BEGIN:VEVENT
DTSTART;TZID=America/New_York:20170528T120000
DTEND;TZID=America/New_York:20170528T150000
DTSTAMP:20260425T075001
CREATED:20170211T214627Z
LAST-MODIFIED:20170211T214627Z
UID:10033963-1495972800-1495983600@thamesyc.org
SUMMARY:Chili Series
DESCRIPTION:
URL:https://thamesyc.org/event/chili-series-3/2017-05-28/
CATEGORIES:Racing
END:VEVENT
BEGIN:VEVENT
DTSTART;TZID=America/New_York:20170529T100000
DTEND;TZID=America/New_York:20170529T200000
DTSTAMP:20260425T075001
CREATED:20170325T164853Z
LAST-MODIFIED:20170325T164853Z
UID:10034002-1496052000-1496088000@thamesyc.org
SUMMARY:TYC Launch Schedule
DESCRIPTION:The TYC Launch can be hailed on VHF Channel 71
URL:https://thamesyc.org/event/tyc-launch-schedule-68/2017-05-29/
LOCATION:Thames Yacht Club\, 396 Pequot Avenue\, New London\, CT\, 06320\, United States
CATEGORIES:TYC Launch Schedule
GEO:41.3308391;-72.0946565
X-APPLE-STRUCTURED-LOCATION;VALUE=URI;X-ADDRESS=Thames Yacht Club 396 Pequot Avenue New London CT 06320 United States;X-APPLE-RADIUS=500;X-TITLE=396 Pequot Avenue:geo:-72.0946565,41.3308391
END:VEVENT
BEGIN:VEVENT
DTSTART;TZID=America/New_York:20170529T110000
DTEND;TZID=America/New_York:20170529T160000
DTSTAMP:20260425T075001
CREATED:20170524T234422Z
LAST-MODIFIED:20170524T234422Z
UID:10034117-1496055600-1496073600@thamesyc.org
SUMMARY:Graduation Party - R. Varandas
DESCRIPTION:First Floor Rental
URL:https://thamesyc.org/event/graduation-party-r-varandas/
CATEGORIES:Facility Rental
END:VEVENT
BEGIN:VEVENT
DTSTART;TZID=America/New_York:20170531T173000
DTEND;TZID=America/New_York:20170531T210000
DTSTAMP:20260425T075001
CREATED:20170509T113947Z
LAST-MODIFIED:20170509T113947Z
UID:10034107-1496251800-1496264400@thamesyc.org
SUMMARY:Wednesday Night Spring Series
DESCRIPTION:
URL:https://thamesyc.org/event/wednesday-night-spring-series-2/
LOCATION:Thames Yacht Club\, 396 Pequot Avenue\, New London\, CT\, 06320\, United States
CATEGORIES:Racing
GEO:41.3308391;-72.0946565
X-APPLE-STRUCTURED-LOCATION;VALUE=URI;X-ADDRESS=Thames Yacht Club 396 Pequot Avenue New London CT 06320 United States;X-APPLE-RADIUS=500;X-TITLE=396 Pequot Avenue:geo:-72.0946565,41.3308391
END:VEVENT
BEGIN:VEVENT
DTSTART;TZID=America/New_York:20170602T120000
DTEND;TZID=America/New_York:20170602T170000
DTSTAMP:20260425T075001
CREATED:20170325T165532Z
LAST-MODIFIED:20170325T165532Z
UID:10034065-1496404800-1496422800@thamesyc.org
SUMMARY:TYC Launch Schedule
DESCRIPTION:The TYC Launch can be hailed on VHF Channel 71
URL:https://thamesyc.org/event/tyc-launch-schedule-70/
LOCATION:Thames Yacht Club\, 396 Pequot Avenue\, New London\, CT\, 06320\, United States
CATEGORIES:TYC Launch Schedule
GEO:41.3308391;-72.0946565
X-APPLE-STRUCTURED-LOCATION;VALUE=URI;X-ADDRESS=Thames Yacht Club 396 Pequot Avenue New London CT 06320 United States;X-APPLE-RADIUS=500;X-TITLE=396 Pequot Avenue:geo:-72.0946565,41.3308391
END:VEVENT
BEGIN:VEVENT
DTSTART;TZID=America/New_York:20170603T090000
DTEND;TZID=America/New_York:20170603T170000
DTSTAMP:20260425T075001
CREATED:20170325T165716Z
LAST-MODIFIED:20170325T165716Z
UID:10034066-1496480400-1496509200@thamesyc.org
SUMMARY:TYC Launch Schedule
DESCRIPTION:The TYC Launch can be hailed on VHF Channel 71
URL:https://thamesyc.org/event/tyc-launch-schedule-71/2017-06-03/
LOCATION:Thames Yacht Club\, 396 Pequot Avenue\, New London\, CT\, 06320\, United States
CATEGORIES:TYC Launch Schedule
GEO:41.3308391;-72.0946565
X-APPLE-STRUCTURED-LOCATION;VALUE=URI;X-ADDRESS=Thames Yacht Club 396 Pequot Avenue New London CT 06320 United States;X-APPLE-RADIUS=500;X-TITLE=396 Pequot Avenue:geo:-72.0946565,41.3308391
END:VEVENT
BEGIN:VEVENT
DTSTART;TZID=America/New_York:20170604T090000
DTEND;TZID=America/New_York:20170604T170000
DTSTAMP:20260425T075001
CREATED:20170325T165716Z
LAST-MODIFIED:20170325T165716Z
UID:10034067-1496566800-1496595600@thamesyc.org
SUMMARY:TYC Launch Schedule
DESCRIPTION:The TYC Launch can be hailed on VHF Channel 71
URL:https://thamesyc.org/event/tyc-launch-schedule-71/2017-06-04/
LOCATION:Thames Yacht Club\, 396 Pequot Avenue\, New London\, CT\, 06320\, United States
CATEGORIES:TYC Launch Schedule
GEO:41.3308391;-72.0946565
X-APPLE-STRUCTURED-LOCATION;VALUE=URI;X-ADDRESS=Thames Yacht Club 396 Pequot Avenue New London CT 06320 United States;X-APPLE-RADIUS=500;X-TITLE=396 Pequot Avenue:geo:-72.0946565,41.3308391
END:VEVENT
BEGIN:VEVENT
DTSTART;TZID=America/New_York:20170604T120000
DTEND;TZID=America/New_York:20170604T150000
DTSTAMP:20260425T075001
CREATED:20170211T214627Z
LAST-MODIFIED:20170211T214627Z
UID:10033964-1496577600-1496588400@thamesyc.org
SUMMARY:Chili Series
DESCRIPTION:
URL:https://thamesyc.org/event/chili-series-3/2017-06-04/
CATEGORIES:Racing
END:VEVENT
BEGIN:VEVENT
DTSTART;TZID=America/New_York:20170607T100000
DTEND;TZID=America/New_York:20170607T210000
DTSTAMP:20260425T075001
CREATED:20170325T165857Z
LAST-MODIFIED:20170325T165857Z
UID:10034068-1496829600-1496869200@thamesyc.org
SUMMARY:TYC Launch Schedule
DESCRIPTION:The TYC Launch can be hailed on VHF Channel 71
URL:https://thamesyc.org/event/tyc-launch-schedule-72/
LOCATION:Thames Yacht Club\, 396 Pequot Avenue\, New London\, CT\, 06320\, United States
CATEGORIES:TYC Launch Schedule
GEO:41.3308391;-72.0946565
X-APPLE-STRUCTURED-LOCATION;VALUE=URI;X-ADDRESS=Thames Yacht Club 396 Pequot Avenue New London CT 06320 United States;X-APPLE-RADIUS=500;X-TITLE=396 Pequot Avenue:geo:-72.0946565,41.3308391
END:VEVENT
BEGIN:VEVENT
DTSTART;TZID=America/New_York:20170607T173000
DTEND;TZID=America/New_York:20170607T210000
DTSTAMP:20260425T075001
CREATED:20170211T215229Z
LAST-MODIFIED:20170508T130424Z
UID:10033969-1496856600-1496869200@thamesyc.org
SUMMARY:Wednesday Night Spring Series
DESCRIPTION:
URL:https://thamesyc.org/event/wednesday-night-spring-series/2017-06-07/
CATEGORIES:Racing
END:VEVENT
END:VCALENDAR