BEGIN:VCALENDAR
VERSION:2.0
PRODID:-//Thames Yacht Club - ECPv6.15.20//NONSGML v1.0//EN
CALSCALE:GREGORIAN
METHOD:PUBLISH
X-WR-CALNAME:Thames Yacht Club
X-ORIGINAL-URL:https://thamesyc.org
X-WR-CALDESC:Events for Thames Yacht Club
REFRESH-INTERVAL;VALUE=DURATION:PT1H
X-Robots-Tag:noindex
X-PUBLISHED-TTL:PT1H
BEGIN:VTIMEZONE
TZID:America/New_York
BEGIN:DAYLIGHT
TZOFFSETFROM:-0500
TZOFFSETTO:-0400
TZNAME:EDT
DTSTART:20150308T070000
END:DAYLIGHT
BEGIN:STANDARD
TZOFFSETFROM:-0400
TZOFFSETTO:-0500
TZNAME:EST
DTSTART:20151101T060000
END:STANDARD
BEGIN:DAYLIGHT
TZOFFSETFROM:-0500
TZOFFSETTO:-0400
TZNAME:EDT
DTSTART:20160313T070000
END:DAYLIGHT
BEGIN:STANDARD
TZOFFSETFROM:-0400
TZOFFSETTO:-0500
TZNAME:EST
DTSTART:20161106T060000
END:STANDARD
BEGIN:DAYLIGHT
TZOFFSETFROM:-0500
TZOFFSETTO:-0400
TZNAME:EDT
DTSTART:20170312T070000
END:DAYLIGHT
BEGIN:STANDARD
TZOFFSETFROM:-0400
TZOFFSETTO:-0500
TZNAME:EST
DTSTART:20171105T060000
END:STANDARD
END:VTIMEZONE
BEGIN:VEVENT
DTSTART;TZID=America/New_York:20160126T190000
DTEND;TZID=America/New_York:20160126T210000
DTSTAMP:20260425T092235
CREATED:20150616T220832Z
LAST-MODIFIED:20160121T134857Z
UID:10033659-1453834800-1453842000@thamesyc.org
SUMMARY:Executive Committee Meeting
DESCRIPTION:
URL:https://thamesyc.org/event/executive-committee-meeting-2016-01-19/
LOCATION:Thames Yacht Club\, 396 Pequot Avenue\, New London\, CT\, 06320\, United States
CATEGORIES:Club Wide Event
GEO:41.3308391;-72.0946565
X-APPLE-STRUCTURED-LOCATION;VALUE=URI;X-ADDRESS=Thames Yacht Club 396 Pequot Avenue New London CT 06320 United States;X-APPLE-RADIUS=500;X-TITLE=396 Pequot Avenue:geo:-72.0946565,41.3308391
END:VEVENT
BEGIN:VEVENT
DTSTART;TZID=America/New_York:20160229T183000
DTEND;TZID=America/New_York:20160229T210000
DTSTAMP:20260425T092235
CREATED:20160225T003010Z
LAST-MODIFIED:20160225T003010Z
UID:10033699-1456770600-1456779600@thamesyc.org
SUMMARY:Membership Interview/Meeting
DESCRIPTION:
URL:https://thamesyc.org/event/membership-interviewmeeting/
END:VEVENT
BEGIN:VEVENT
DTSTART;TZID=America/New_York:20160301T080000
DTEND;TZID=America/New_York:20160301T170000
DTSTAMP:20260425T092235
CREATED:20160222T115325Z
LAST-MODIFIED:20160222T115325Z
UID:10033698-1456819200-1456851600@thamesyc.org
SUMMARY:Block Island Reservations Available
DESCRIPTION:
URL:https://thamesyc.org/event/block-island-reservations-available/
CATEGORIES:Block Island Mooring Reservation.
END:VEVENT
BEGIN:VEVENT
DTSTART;TZID=America/New_York:20160416T080000
DTEND;TZID=America/New_York:20160416T140000
DTSTAMP:20260425T092235
CREATED:20160318T000703Z
LAST-MODIFIED:20160318T000703Z
UID:10033746-1460793600-1460815200@thamesyc.org
SUMMARY:Spring Cleanup
DESCRIPTION:
URL:https://thamesyc.org/event/spring-cleanup/
CATEGORIES:Club Wide Event
END:VEVENT
BEGIN:VEVENT
DTSTART;TZID=America/New_York:20160416T170000
DTEND;TZID=America/New_York:20160416T220000
DTSTAMP:20260425T092235
CREATED:20160318T000903Z
LAST-MODIFIED:20160318T000903Z
UID:10033756-1460826000-1460844000@thamesyc.org
SUMMARY:Spring General Membership Meeting and Potluck
DESCRIPTION:
URL:https://thamesyc.org/event/spring-general-membership-meeting-potluck/
CATEGORIES:Club Wide Event
END:VEVENT
BEGIN:VEVENT
DTSTART;TZID=America/New_York:20160423T100000
DTEND;TZID=America/New_York:20160423T150000
DTSTAMP:20260425T092235
CREATED:20160318T001046Z
LAST-MODIFIED:20160329T001646Z
UID:10033760-1461405600-1461423600@thamesyc.org
SUMMARY:Marine Tag Sale\, Arts and Craft Fair and Open House
DESCRIPTION:
URL:https://thamesyc.org/event/marine-tag-sale-craft-fair/
CATEGORIES:Club Wide Event
END:VEVENT
BEGIN:VEVENT
DTSTART;TZID=America/New_York:20160423T183000
DTEND;TZID=America/New_York:20160423T230000
DTSTAMP:20260425T092235
CREATED:20160318T001412Z
LAST-MODIFIED:20160329T001908Z
UID:10033763-1461436200-1461452400@thamesyc.org
SUMMARY:Welcome to Spring Party
DESCRIPTION:
URL:https://thamesyc.org/event/welcome-spring-party/
CATEGORIES:Club Wide Event
END:VEVENT
BEGIN:VEVENT
DTSTART;TZID=America/New_York:20160430T090000
DTEND;TZID=America/New_York:20160430T170000
DTSTAMP:20260425T092235
CREATED:20160417T123525Z
LAST-MODIFIED:20160417T123525Z
UID:10033768-1462006800-1462035600@thamesyc.org
SUMMARY:First Aid/CPR Class
DESCRIPTION:First Aid/CPR Class for those wishing to obtain a USCG license or needing it for Sailing Instructor or just general purposes. Cost $55.00 cash or cheque at time of class.\nContact Alex McDonald by clicking here to register. \nLimited class size.
URL:https://thamesyc.org/event/first-aidcpr-class/
LOCATION:Thames Yacht Club\, 396 Pequot Avenue\, New London\, CT\, 06320\, United States
CATEGORIES:Club Wide Event
GEO:41.3308391;-72.0946565
X-APPLE-STRUCTURED-LOCATION;VALUE=URI;X-ADDRESS=Thames Yacht Club 396 Pequot Avenue New London CT 06320 United States;X-APPLE-RADIUS=500;X-TITLE=396 Pequot Avenue:geo:-72.0946565,41.3308391
END:VEVENT
BEGIN:VEVENT
DTSTART;TZID=America/New_York:20160507T150000
DTEND;TZID=America/New_York:20160507T170000
DTSTAMP:20260425T092236
CREATED:20160420T014920Z
LAST-MODIFIED:20160420T014920Z
UID:10033770-1462633200-1462640400@thamesyc.org
SUMMARY:2017 BVI Cruise Planning Meeting
DESCRIPTION:
URL:https://thamesyc.org/event/2017-bvi-cruise-planning-meeting/
CATEGORIES:Cruise Event
END:VEVENT
BEGIN:VEVENT
DTSTART;TZID=America/New_York:20160507T170000
DTEND;TZID=America/New_York:20160507T190000
DTSTAMP:20260425T092236
CREATED:20160420T014705Z
LAST-MODIFIED:20160420T014705Z
UID:10033769-1462640400-1462647600@thamesyc.org
SUMMARY:Intro to Racing Seminar
DESCRIPTION:
URL:https://thamesyc.org/event/intro-racing-seminar/
CATEGORIES:Racing
END:VEVENT
BEGIN:VEVENT
DTSTART;TZID=America/New_York:20160513T150000
DTEND;TZID=America/New_York:20160513T190000
DTSTAMP:20260425T092236
CREATED:20160425T131001Z
LAST-MODIFIED:20160425T131001Z
UID:10033620-1463151600-1463166000@thamesyc.org
SUMMARY:TYC Launch Schedule
DESCRIPTION:The TYC Launch is available on Channel 71.
URL:https://thamesyc.org/event/tyc-launch-schedule-4/
LOCATION:Thames Yacht Club\, 396 Pequot Avenue\, New London\, CT\, 06320\, United States
CATEGORIES:TYC Launch Schedule
GEO:41.3308391;-72.0946565
X-APPLE-STRUCTURED-LOCATION;VALUE=URI;X-ADDRESS=Thames Yacht Club 396 Pequot Avenue New London CT 06320 United States;X-APPLE-RADIUS=500;X-TITLE=396 Pequot Avenue:geo:-72.0946565,41.3308391
END:VEVENT
BEGIN:VEVENT
DTSTART;TZID=America/New_York:20160514T120000
DTEND;TZID=America/New_York:20160514T190000
DTSTAMP:20260425T092236
CREATED:20160425T131905Z
LAST-MODIFIED:20160425T131905Z
UID:10033622-1463227200-1463252400@thamesyc.org
SUMMARY:TYC Launch Schedule
DESCRIPTION:The TYC Launch is available on Channel 71.
URL:https://thamesyc.org/event/tyc-launch-schedule-21/
LOCATION:Thames Yacht Club\, 396 Pequot Avenue\, New London\, CT\, 06320\, United States
CATEGORIES:TYC Launch Schedule
GEO:41.3308391;-72.0946565
X-APPLE-STRUCTURED-LOCATION;VALUE=URI;X-ADDRESS=Thames Yacht Club 396 Pequot Avenue New London CT 06320 United States;X-APPLE-RADIUS=500;X-TITLE=396 Pequot Avenue:geo:-72.0946565,41.3308391
END:VEVENT
BEGIN:VEVENT
DTSTART;TZID=America/New_York:20160515T120000
DTEND;TZID=America/New_York:20160515T190000
DTSTAMP:20260425T092236
CREATED:20160425T132401Z
LAST-MODIFIED:20160425T132401Z
UID:10033624-1463313600-1463338800@thamesyc.org
SUMMARY:TYC Launch Schedule
DESCRIPTION:The TYC Launch is available on Channel 71.
URL:https://thamesyc.org/event/tyc-launch-schedule-23/
LOCATION:Thames Yacht Club\, 396 Pequot Avenue\, New London\, CT\, 06320\, United States
CATEGORIES:TYC Launch Schedule
GEO:41.3308391;-72.0946565
X-APPLE-STRUCTURED-LOCATION;VALUE=URI;X-ADDRESS=Thames Yacht Club 396 Pequot Avenue New London CT 06320 United States;X-APPLE-RADIUS=500;X-TITLE=396 Pequot Avenue:geo:-72.0946565,41.3308391
END:VEVENT
BEGIN:VEVENT
DTSTART;TZID=America/New_York:20160520T150000
DTEND;TZID=America/New_York:20160520T190000
DTSTAMP:20260425T092236
CREATED:20160425T131139Z
LAST-MODIFIED:20160425T131300Z
UID:10033621-1463756400-1463770800@thamesyc.org
SUMMARY:TYC Launch Schedule
DESCRIPTION:The TYC Launch is available on Channel 71.
URL:https://thamesyc.org/event/tyc-launch-schedule-5/
LOCATION:Thames Yacht Club\, 396 Pequot Avenue\, New London\, CT\, 06320\, United States
CATEGORIES:TYC Launch Schedule
GEO:41.3308391;-72.0946565
X-APPLE-STRUCTURED-LOCATION;VALUE=URI;X-ADDRESS=Thames Yacht Club 396 Pequot Avenue New London CT 06320 United States;X-APPLE-RADIUS=500;X-TITLE=396 Pequot Avenue:geo:-72.0946565,41.3308391
END:VEVENT
BEGIN:VEVENT
DTSTART;TZID=America/New_York:20160521T120000
DTEND;TZID=America/New_York:20160521T190000
DTSTAMP:20260425T092236
CREATED:20160425T132019Z
LAST-MODIFIED:20160425T132019Z
UID:10033623-1463832000-1463857200@thamesyc.org
SUMMARY:TYC Launch Schedule
DESCRIPTION:The TYC Launch is available on Channel 71.
URL:https://thamesyc.org/event/tyc-launch-schedule-22/
LOCATION:Thames Yacht Club\, 396 Pequot Avenue\, New London\, CT\, 06320\, United States
CATEGORIES:TYC Launch Schedule
GEO:41.3308391;-72.0946565
X-APPLE-STRUCTURED-LOCATION;VALUE=URI;X-ADDRESS=Thames Yacht Club 396 Pequot Avenue New London CT 06320 United States;X-APPLE-RADIUS=500;X-TITLE=396 Pequot Avenue:geo:-72.0946565,41.3308391
END:VEVENT
BEGIN:VEVENT
DTSTART;TZID=America/New_York:20160521T180000
DTEND;TZID=America/New_York:20160521T230000
DTSTAMP:20260425T092236
CREATED:20160420T015058Z
LAST-MODIFIED:20160420T015146Z
UID:10033771-1463853600-1463871600@thamesyc.org
SUMMARY:Commissioning Party
DESCRIPTION:Official opening for the sailing season!
URL:https://thamesyc.org/event/commissioning-party/
CATEGORIES:Club Wide Event
END:VEVENT
BEGIN:VEVENT
DTSTART;TZID=America/New_York:20160522T120000
DTEND;TZID=America/New_York:20160522T170000
DTSTAMP:20260425T092236
CREATED:20160311T005932Z
LAST-MODIFIED:20160316T220809Z
UID:10033701-1463918400-1463936400@thamesyc.org
SUMMARY:Chili Series
DESCRIPTION:
URL:https://thamesyc.org/event/chili-series-2/2016-05-22/
CATEGORIES:Racing
END:VEVENT
BEGIN:VEVENT
DTSTART;TZID=America/New_York:20160522T120000
DTEND;TZID=America/New_York:20160522T190000
DTSTAMP:20260425T092236
CREATED:20160425T132619Z
LAST-MODIFIED:20160425T132619Z
UID:10033625-1463918400-1463943600@thamesyc.org
SUMMARY:TYC Launch Schedule
DESCRIPTION:The TYC Launch is available on Channel 71.
URL:https://thamesyc.org/event/tyc-launch-schedule-24/
LOCATION:Thames Yacht Club\, 396 Pequot Avenue\, New London\, CT\, 06320\, United States
CATEGORIES:TYC Launch Schedule
GEO:41.3308391;-72.0946565
X-APPLE-STRUCTURED-LOCATION;VALUE=URI;X-ADDRESS=Thames Yacht Club 396 Pequot Avenue New London CT 06320 United States;X-APPLE-RADIUS=500;X-TITLE=396 Pequot Avenue:geo:-72.0946565,41.3308391
END:VEVENT
BEGIN:VEVENT
DTSTART;TZID=America/New_York:20160523T170000
DTEND;TZID=America/New_York:20160523T220000
DTSTAMP:20260425T092236
CREATED:20160523T200347Z
LAST-MODIFIED:20160523T200347Z
UID:10033750-1464022800-1464040800@thamesyc.org
SUMMARY:Private Party
DESCRIPTION:2nd Floor of the Club.
URL:https://thamesyc.org/event/private-party/
LOCATION:Thames Yacht Club\, 396 Pequot Avenue\, New London\, CT\, 06320\, United States
CATEGORIES:Facility Rental
GEO:41.3308391;-72.0946565
X-APPLE-STRUCTURED-LOCATION;VALUE=URI;X-ADDRESS=Thames Yacht Club 396 Pequot Avenue New London CT 06320 United States;X-APPLE-RADIUS=500;X-TITLE=396 Pequot Avenue:geo:-72.0946565,41.3308391
END:VEVENT
BEGIN:VEVENT
DTSTART;TZID=America/New_York:20160527T150000
DTEND;TZID=America/New_York:20160527T190000
DTSTAMP:20260425T092236
CREATED:20160425T133201Z
LAST-MODIFIED:20160425T133201Z
UID:10033627-1464361200-1464375600@thamesyc.org
SUMMARY:TYC Launch Event
DESCRIPTION:The TYC Launch is available on Channel 71.
URL:https://thamesyc.org/event/tyc-launch-event-2/
LOCATION:Thames Yacht Club\, 396 Pequot Avenue\, New London\, CT\, 06320\, United States
CATEGORIES:TYC Launch Schedule
GEO:41.3308391;-72.0946565
X-APPLE-STRUCTURED-LOCATION;VALUE=URI;X-ADDRESS=Thames Yacht Club 396 Pequot Avenue New London CT 06320 United States;X-APPLE-RADIUS=500;X-TITLE=396 Pequot Avenue:geo:-72.0946565,41.3308391
END:VEVENT
BEGIN:VEVENT
DTSTART;TZID=America/New_York:20160528T080000
DTEND;TZID=America/New_York:20160530T170000
DTSTAMP:20260425T092236
CREATED:20160416T165244Z
LAST-MODIFIED:20160416T165244Z
UID:10033767-1464422400-1464627600@thamesyc.org
SUMMARY:Block Island Mooring Reserved for S/V BREAKING WIND
DESCRIPTION:
URL:https://thamesyc.org/event/block-island-mooring-reserved-sv-breaking-wind-2/
CATEGORIES:Block Island Mooring Reservation.
END:VEVENT
BEGIN:VEVENT
DTSTART;TZID=America/New_York:20160528T090000
DTEND;TZID=America/New_York:20160530T200000
DTSTAMP:20260425T092236
CREATED:20160425T133029Z
LAST-MODIFIED:20160425T133029Z
UID:10033626-1464426000-1464638400@thamesyc.org
SUMMARY:TYC Launch Schedule
DESCRIPTION:The TYC Launch is available on Channel 71.
URL:https://thamesyc.org/event/tyc-launch-schedule-25/
LOCATION:Thames Yacht Club\, 396 Pequot Avenue\, New London\, CT\, 06320\, United States
CATEGORIES:TYC Launch Schedule
GEO:41.3308391;-72.0946565
X-APPLE-STRUCTURED-LOCATION;VALUE=URI;X-ADDRESS=Thames Yacht Club 396 Pequot Avenue New London CT 06320 United States;X-APPLE-RADIUS=500;X-TITLE=396 Pequot Avenue:geo:-72.0946565,41.3308391
END:VEVENT
BEGIN:VEVENT
DTSTART;TZID=America/New_York:20160529T120000
DTEND;TZID=America/New_York:20160529T170000
DTSTAMP:20260425T092236
CREATED:20160311T005932Z
LAST-MODIFIED:20160316T220809Z
UID:10033702-1464523200-1464541200@thamesyc.org
SUMMARY:Chili Series
DESCRIPTION:
URL:https://thamesyc.org/event/chili-series-2/2016-05-29/
CATEGORIES:Racing
END:VEVENT
BEGIN:VEVENT
DTSTART;TZID=America/New_York:20160601T150000
DTEND;TZID=America/New_York:20160601T190000
DTSTAMP:20260425T092236
CREATED:20160425T143753Z
LAST-MODIFIED:20160425T143753Z
UID:10033783-1464793200-1464807600@thamesyc.org
SUMMARY:TYC Launch Schedule
DESCRIPTION:The TYC Launch is available on Channel 71.
URL:https://thamesyc.org/event/tyc-launch-schedule-45/
LOCATION:Thames Yacht Club\, 396 Pequot Avenue\, New London\, CT\, 06320\, United States
CATEGORIES:TYC Launch Schedule
GEO:41.3308391;-72.0946565
X-APPLE-STRUCTURED-LOCATION;VALUE=URI;X-ADDRESS=Thames Yacht Club 396 Pequot Avenue New London CT 06320 United States;X-APPLE-RADIUS=500;X-TITLE=396 Pequot Avenue:geo:-72.0946565,41.3308391
END:VEVENT
BEGIN:VEVENT
DTSTART;TZID=America/New_York:20160601T160000
DTEND;TZID=America/New_York:20160605T180000
DTSTAMP:20260425T092236
CREATED:20160530T224340Z
LAST-MODIFIED:20160530T224340Z
UID:10033786-1464796800-1465149600@thamesyc.org
SUMMARY:What’s Cookin in the Galley???
DESCRIPTION:June 1st thru June 5th Hours: \nWednesday – 4:00 PM to . . .  \nFriday – 3:00 PM to 7:00 PM \nSaturday – 11:00 AM to 6:00 PM \nSunday – 10:30 AM to 6:00 PM \nSPECIALS for WEDNESDAY NIGHT RACES! \nHam Dinner with Mashed Potatoes\, Green Beans – $10.00 \nand Mac-n-Cheese with Dessert \nSPECIALS for SUNDAY CHILI RACE! \nHouse Chili: $4.50 White Chili: $4.50 \nDaily Menu: \nWRAPS & SANDWICHES \nGrilled Chicken Wraps (Plain\, Caesar\, Bacon Ranch): $6.50 Turkey Wrap: $5.00 Turkey Club Wrap: $6.50 Turkey Sandwich: $5.00 \nBURGERS & DOGS \nClub size Cheeseburger: $5.50 Burger: $5.00 \nVegetarian Garden Burger – $5.00 \nNew Black Bean Burger – 5.00 Hot Dog: $3.00 \nQUESADILLAS  \nCheese Quesadillas – $6.00 \nSteak Quesadillas – $8.50 \nChicken Quesadillas – $8.50 \nSALADS \nChicken Caesar Salad: $8.00 Grilled Chicken over Salad Greens: $8.00 \nSNACKS \nChips: $1.00 Candy: $1.25 \nDRINKS \nSoda (Coke\, Diet Coke\, Diet Pepsi\, Lemonade\, Ginger Ale): $1.25 Arizona Green Tea: $1.50 Gatorade: $2.00 Water: $1.00 \n 
URL:https://thamesyc.org/event/whats-cookin/
END:VEVENT
BEGIN:VEVENT
DTSTART;TZID=America/New_York:20160602T150000
DTEND;TZID=America/New_York:20160602T190000
DTSTAMP:20260425T092236
CREATED:20160425T143340Z
LAST-MODIFIED:20160425T143340Z
UID:10033781-1464879600-1464894000@thamesyc.org
SUMMARY:TYC Launch Schedule
DESCRIPTION:The TYC Launch is available on Channel 71.
URL:https://thamesyc.org/event/tyc-launch-schedule-43/
LOCATION:Thames Yacht Club\, 396 Pequot Avenue\, New London\, CT\, 06320\, United States
CATEGORIES:TYC Launch Schedule
GEO:41.3308391;-72.0946565
X-APPLE-STRUCTURED-LOCATION;VALUE=URI;X-ADDRESS=Thames Yacht Club 396 Pequot Avenue New London CT 06320 United States;X-APPLE-RADIUS=500;X-TITLE=396 Pequot Avenue:geo:-72.0946565,41.3308391
END:VEVENT
BEGIN:VEVENT
DTSTART;TZID=America/New_York:20160602T180000
DTEND;TZID=America/New_York:20160602T200000
DTSTAMP:20260425T092236
CREATED:20160311T011724Z
LAST-MODIFIED:20160316T221001Z
UID:10033711-1464890400-1464897600@thamesyc.org
SUMMARY:Force 5 Spring Series Racing
DESCRIPTION:
URL:https://thamesyc.org/event/force-5-spring-series-racing/2016-06-02/
CATEGORIES:Racing
END:VEVENT
BEGIN:VEVENT
DTSTART;TZID=America/New_York:20160603T150000
DTEND;TZID=America/New_York:20160603T210000
DTSTAMP:20260425T092236
CREATED:20160425T134659Z
LAST-MODIFIED:20160425T134659Z
UID:10033726-1464966000-1464987600@thamesyc.org
SUMMARY:TYC Launch Schedule
DESCRIPTION:The TYC Launch is available on Channel 71.
URL:https://thamesyc.org/event/tyc-launch-schedule-31/
LOCATION:Thames Yacht Club\, 396 Pequot Avenue\, New London\, CT\, 06320\, United States
CATEGORIES:TYC Launch Schedule
GEO:41.3308391;-72.0946565
X-APPLE-STRUCTURED-LOCATION;VALUE=URI;X-ADDRESS=Thames Yacht Club 396 Pequot Avenue New London CT 06320 United States;X-APPLE-RADIUS=500;X-TITLE=396 Pequot Avenue:geo:-72.0946565,41.3308391
END:VEVENT
BEGIN:VEVENT
DTSTART;TZID=America/New_York:20160604T090000
DTEND;TZID=America/New_York:20160604T210000
DTSTAMP:20260425T092236
CREATED:20160425T134352Z
LAST-MODIFIED:20160425T134352Z
UID:10033777-1465030800-1465074000@thamesyc.org
SUMMARY:TYC Launch Schedule
DESCRIPTION:The TYC Launch is available on Channel 71.
URL:https://thamesyc.org/event/tyc-launch-schedule-29/
LOCATION:Thames Yacht Club\, 396 Pequot Avenue\, New London\, CT\, 06320\, United States
CATEGORIES:TYC Launch Schedule
GEO:41.3308391;-72.0946565
X-APPLE-STRUCTURED-LOCATION;VALUE=URI;X-ADDRESS=Thames Yacht Club 396 Pequot Avenue New London CT 06320 United States;X-APPLE-RADIUS=500;X-TITLE=396 Pequot Avenue:geo:-72.0946565,41.3308391
END:VEVENT
BEGIN:VEVENT
DTSTART;TZID=America/New_York:20160604T170000
DTEND;TZID=America/New_York:20160604T220000
DTSTAMP:20260425T092236
CREATED:20160523T200905Z
LAST-MODIFIED:20160523T200905Z
UID:10033752-1465059600-1465077600@thamesyc.org
SUMMARY:Private Party
DESCRIPTION:2nd Floor of Club for Private Party.
URL:https://thamesyc.org/event/private-party-2/
LOCATION:Thames Yacht Club\, 396 Pequot Avenue\, New London\, CT\, 06320\, United States
CATEGORIES:Facility Rental
GEO:41.3308391;-72.0946565
X-APPLE-STRUCTURED-LOCATION;VALUE=URI;X-ADDRESS=Thames Yacht Club 396 Pequot Avenue New London CT 06320 United States;X-APPLE-RADIUS=500;X-TITLE=396 Pequot Avenue:geo:-72.0946565,41.3308391
END:VEVENT
END:VCALENDAR