BEGIN:VCALENDAR
VERSION:2.0
PRODID:-//Thames Yacht Club - ECPv6.15.17//NONSGML v1.0//EN
CALSCALE:GREGORIAN
METHOD:PUBLISH
X-WR-CALNAME:Thames Yacht Club
X-ORIGINAL-URL:https://thamesyc.org
X-WR-CALDESC:Events for Thames Yacht Club
REFRESH-INTERVAL;VALUE=DURATION:PT1H
X-Robots-Tag:noindex
X-PUBLISHED-TTL:PT1H
BEGIN:VTIMEZONE
TZID:America/New_York
BEGIN:DAYLIGHT
TZOFFSETFROM:-0500
TZOFFSETTO:-0400
TZNAME:EDT
DTSTART:20130310T070000
END:DAYLIGHT
BEGIN:STANDARD
TZOFFSETFROM:-0400
TZOFFSETTO:-0500
TZNAME:EST
DTSTART:20131103T060000
END:STANDARD
BEGIN:DAYLIGHT
TZOFFSETFROM:-0500
TZOFFSETTO:-0400
TZNAME:EDT
DTSTART:20140309T070000
END:DAYLIGHT
BEGIN:STANDARD
TZOFFSETFROM:-0400
TZOFFSETTO:-0500
TZNAME:EST
DTSTART:20141102T060000
END:STANDARD
BEGIN:DAYLIGHT
TZOFFSETFROM:-0500
TZOFFSETTO:-0400
TZNAME:EDT
DTSTART:20150308T070000
END:DAYLIGHT
BEGIN:STANDARD
TZOFFSETFROM:-0400
TZOFFSETTO:-0500
TZNAME:EST
DTSTART:20151101T060000
END:STANDARD
BEGIN:DAYLIGHT
TZOFFSETFROM:-0500
TZOFFSETTO:-0400
TZNAME:EDT
DTSTART:20160313T070000
END:DAYLIGHT
BEGIN:STANDARD
TZOFFSETFROM:-0400
TZOFFSETTO:-0500
TZNAME:EST
DTSTART:20161106T060000
END:STANDARD
BEGIN:DAYLIGHT
TZOFFSETFROM:-0500
TZOFFSETTO:-0400
TZNAME:EDT
DTSTART:20170312T070000
END:DAYLIGHT
BEGIN:STANDARD
TZOFFSETFROM:-0400
TZOFFSETTO:-0500
TZNAME:EST
DTSTART:20171105T060000
END:STANDARD
BEGIN:DAYLIGHT
TZOFFSETFROM:-0500
TZOFFSETTO:-0400
TZNAME:EDT
DTSTART:20180311T070000
END:DAYLIGHT
BEGIN:STANDARD
TZOFFSETFROM:-0400
TZOFFSETTO:-0500
TZNAME:EST
DTSTART:20181104T060000
END:STANDARD
BEGIN:DAYLIGHT
TZOFFSETFROM:-0500
TZOFFSETTO:-0400
TZNAME:EDT
DTSTART:20190310T070000
END:DAYLIGHT
BEGIN:STANDARD
TZOFFSETFROM:-0400
TZOFFSETTO:-0500
TZNAME:EST
DTSTART:20191103T060000
END:STANDARD
BEGIN:DAYLIGHT
TZOFFSETFROM:-0500
TZOFFSETTO:-0400
TZNAME:EDT
DTSTART:20200308T070000
END:DAYLIGHT
BEGIN:STANDARD
TZOFFSETFROM:-0400
TZOFFSETTO:-0500
TZNAME:EST
DTSTART:20201101T060000
END:STANDARD
BEGIN:DAYLIGHT
TZOFFSETFROM:-0500
TZOFFSETTO:-0400
TZNAME:EDT
DTSTART:20210314T070000
END:DAYLIGHT
BEGIN:STANDARD
TZOFFSETFROM:-0400
TZOFFSETTO:-0500
TZNAME:EST
DTSTART:20211107T060000
END:STANDARD
BEGIN:DAYLIGHT
TZOFFSETFROM:-0500
TZOFFSETTO:-0400
TZNAME:EDT
DTSTART:20220313T070000
END:DAYLIGHT
BEGIN:STANDARD
TZOFFSETFROM:-0400
TZOFFSETTO:-0500
TZNAME:EST
DTSTART:20221106T060000
END:STANDARD
END:VTIMEZONE
BEGIN:VEVENT
DTSTART;TZID=America/New_York:20211030T090000
DTEND;TZID=America/New_York:20211030T170000
DTSTAMP:20260423T173706
CREATED:20210411T204528Z
LAST-MODIFIED:20210411T204528Z
UID:10034238-1635584400-1635613200@thamesyc.org
SUMMARY:Fall Clean Up (Tentative)
DESCRIPTION:
URL:https://thamesyc.org/event/fall-clean-up-tentative/
CATEGORIES:Club Wide Event,Work Party Event
END:VEVENT
BEGIN:VEVENT
DTSTART;TZID=America/New_York:20210424T090000
DTEND;TZID=America/New_York:20210424T170000
DTSTAMP:20260423T173706
CREATED:20210411T200915Z
LAST-MODIFIED:20210411T200915Z
UID:10034520-1619254800-1619283600@thamesyc.org
SUMMARY:TYC Spring Cleanup
DESCRIPTION:
URL:https://thamesyc.org/event/tyc-spring-cleanup/
CATEGORIES:Club Wide Event,Work Party Event
END:VEVENT
BEGIN:VEVENT
DTSTART;VALUE=DATE:20210424
DTEND;VALUE=DATE:20210425
DTSTAMP:20260423T173706
CREATED:20210416T224149Z
LAST-MODIFIED:20210416T224149Z
UID:10034539-1619222400-1619308799@thamesyc.org
SUMMARY:Spring Cleanup
DESCRIPTION:
URL:https://thamesyc.org/event/spring-cleanup-3/
CATEGORIES:Club Wide Event,Work Party Event
END:VEVENT
BEGIN:VEVENT
DTSTART;TZID=America/New_York:20201107T080000
DTEND;TZID=America/New_York:20201107T170000
DTSTAMP:20260423T173706
CREATED:20200308T152018Z
LAST-MODIFIED:20200308T152239Z
UID:10034108-1604736000-1604768400@thamesyc.org
SUMMARY:Fall Cleanup Day
DESCRIPTION:
URL:https://thamesyc.org/event/fall-cleanup-day/
CATEGORIES:Work Party Event
END:VEVENT
BEGIN:VEVENT
DTSTART;TZID=America/New_York:20200425T080000
DTEND;TZID=America/New_York:20200425T170000
DTSTAMP:20260423T173706
CREATED:20200308T142544Z
LAST-MODIFIED:20200308T152413Z
UID:10034388-1587801600-1587834000@thamesyc.org
SUMMARY:Spring Cleanup Day
DESCRIPTION:
URL:https://thamesyc.org/event/spring-cleanup-day-2/
CATEGORIES:Work Party Event
END:VEVENT
BEGIN:VEVENT
DTSTART;TZID=America/New_York:20180428T100000
DTEND;TZID=America/New_York:20180428T200000
DTSTAMP:20260423T173706
CREATED:20180415T173712Z
LAST-MODIFIED:20180422T122452Z
UID:10034194-1524909600-1524945600@thamesyc.org
SUMMARY:Cleanup starts at 10am\, Happy Hour starts at 3pm\, General membership Meeting starts at 4pm
DESCRIPTION:
URL:https://thamesyc.org/event/cleanup-starts-at-10am-happy-hour-starts-at-3pm-general-membership-meeting-starts-at-4pm/
CATEGORIES:Club Wide Event,Party,Work Party Event
END:VEVENT
BEGIN:VEVENT
DTSTART;TZID=America/New_York:20171118T170000
DTEND;TZID=America/New_York:20171118T220000
DTSTAMP:20260423T173706
CREATED:20161228T004511Z
LAST-MODIFIED:20161228T004641Z
UID:10033956-1511024400-1511042400@thamesyc.org
SUMMARY:Annual General Membership Meeting/Potluck
DESCRIPTION:
URL:https://thamesyc.org/event/fall-cleanup/
CATEGORIES:Club Wide Event,Work Party Event
END:VEVENT
BEGIN:VEVENT
DTSTART;TZID=America/New_York:20170506T090000
DTEND;TZID=America/New_York:20170506T140000
DTSTAMP:20260423T173706
CREATED:20161227T235643Z
LAST-MODIFIED:20161227T235643Z
UID:10033938-1494061200-1494079200@thamesyc.org
SUMMARY:Spring Cleanup Day
DESCRIPTION:
URL:https://thamesyc.org/event/spring-cleanup-day/
CATEGORIES:Work Party Event
END:VEVENT
BEGIN:VEVENT
DTSTART;TZID=America/New_York:20151114T170000
DTEND;TZID=America/New_York:20151114T200000
DTSTAMP:20260423T173706
CREATED:20151005T113933Z
LAST-MODIFIED:20151005T113933Z
UID:10033596-1447520400-1447531200@thamesyc.org
SUMMARY:Clean-up Day and General Membership Meeting
DESCRIPTION:Clean-up Day and General Membership Meeting – cocktail hour starts at 5:00 and the meeting at 6:00.
URL:https://thamesyc.org/event/clean-up-day-and-general-membership-meeting/
LOCATION:Thames Yacht Club\, 396 Pequot Avenue\, New London\, CT\, 06320\, United States
CATEGORIES:Club Wide Event,Work Party Event
GEO:41.3308391;-72.0946565
X-APPLE-STRUCTURED-LOCATION;VALUE=URI;X-ADDRESS=Thames Yacht Club 396 Pequot Avenue New London CT 06320 United States;X-APPLE-RADIUS=500;X-TITLE=396 Pequot Avenue:geo:-72.0946565,41.3308391
END:VEVENT
BEGIN:VEVENT
DTSTART;TZID=America/New_York:20140503T080000
DTEND;TZID=America/New_York:20140503T150000
DTSTAMP:20260423T173706
CREATED:20140415T002006Z
LAST-MODIFIED:20140415T002006Z
UID:10033487-1399104000-1399129200@thamesyc.org
SUMMARY:Club Clean Up Day
DESCRIPTION:
URL:https://thamesyc.org/event/club-clean-up-day/
LOCATION:Thames Yacht Club\, 396 Pequot Avenue\, New London\, CT\, 06320\, United States
CATEGORIES:Work Party Event
GEO:41.3308391;-72.0946565
X-APPLE-STRUCTURED-LOCATION;VALUE=URI;X-ADDRESS=Thames Yacht Club 396 Pequot Avenue New London CT 06320 United States;X-APPLE-RADIUS=500;X-TITLE=396 Pequot Avenue:geo:-72.0946565,41.3308391
END:VEVENT
BEGIN:VEVENT
DTSTART;TZID=America/New_York:20140418T090000
DTEND;TZID=America/New_York:20140418T150000
DTSTAMP:20260423T173706
CREATED:20140415T001233Z
LAST-MODIFIED:20140415T001233Z
UID:10033486-1397811600-1397833200@thamesyc.org
SUMMARY:Spring Work Party
DESCRIPTION:We need your help! \n  \nThere is going to be a work party on Friday the 18th and Saturday the 19th at 9am to get the launch and the skiffs ready for the season.\n\nPlease bring your sanders and scrapers\, I will have the paint\, gloves\, masks\, tape\, cleaners\, rages\, rollers and paint trays.  Pizza and drinks for lunch.
URL:https://thamesyc.org/event/spring-work-party/
LOCATION:Thames Yacht Club\, 396 Pequot Avenue\, New London\, CT\, 06320\, United States
CATEGORIES:Work Party Event
GEO:41.3308391;-72.0946565
X-APPLE-STRUCTURED-LOCATION;VALUE=URI;X-ADDRESS=Thames Yacht Club 396 Pequot Avenue New London CT 06320 United States;X-APPLE-RADIUS=500;X-TITLE=396 Pequot Avenue:geo:-72.0946565,41.3308391
END:VEVENT
END:VCALENDAR