BEGIN:VCALENDAR
VERSION:2.0
PRODID:-//Thames Yacht Club - ECPv6.15.17//NONSGML v1.0//EN
CALSCALE:GREGORIAN
METHOD:PUBLISH
X-WR-CALNAME:Thames Yacht Club
X-ORIGINAL-URL:https://thamesyc.org
X-WR-CALDESC:Events for Thames Yacht Club
REFRESH-INTERVAL;VALUE=DURATION:PT1H
X-Robots-Tag:noindex
X-PUBLISHED-TTL:PT1H
BEGIN:VTIMEZONE
TZID:America/New_York
BEGIN:DAYLIGHT
TZOFFSETFROM:-0500
TZOFFSETTO:-0400
TZNAME:EDT
DTSTART:20250309T070000
END:DAYLIGHT
BEGIN:STANDARD
TZOFFSETFROM:-0400
TZOFFSETTO:-0500
TZNAME:EST
DTSTART:20251102T060000
END:STANDARD
BEGIN:DAYLIGHT
TZOFFSETFROM:-0500
TZOFFSETTO:-0400
TZNAME:EDT
DTSTART:20260308T070000
END:DAYLIGHT
BEGIN:STANDARD
TZOFFSETFROM:-0400
TZOFFSETTO:-0500
TZNAME:EST
DTSTART:20261101T060000
END:STANDARD
BEGIN:DAYLIGHT
TZOFFSETFROM:-0500
TZOFFSETTO:-0400
TZNAME:EDT
DTSTART:20270314T070000
END:DAYLIGHT
BEGIN:STANDARD
TZOFFSETFROM:-0400
TZOFFSETTO:-0500
TZNAME:EST
DTSTART:20271107T060000
END:STANDARD
END:VTIMEZONE
BEGIN:VEVENT
DTSTART;TZID=America/New_York:20260913T100000
DTEND;TZID=America/New_York:20260913T200000
DTSTAMP:20260424T111326
CREATED:20260421T005921Z
LAST-MODIFIED:20260421T005921Z
UID:10039731-1789293600-1789329600@thamesyc.org
SUMMARY:Launch Hours
DESCRIPTION:
URL:https://thamesyc.org/event/launch-hours-169/
CATEGORIES:TYC Launch Schedule
END:VEVENT
BEGIN:VEVENT
DTSTART;TZID=America/New_York:20260916T110000
DTEND;TZID=America/New_York:20260916T190000
DTSTAMP:20260424T111326
CREATED:20260421T005954Z
LAST-MODIFIED:20260421T005954Z
UID:10039732-1789556400-1789585200@thamesyc.org
SUMMARY:Launch Hours
DESCRIPTION:
URL:https://thamesyc.org/event/launch-hours-170/
CATEGORIES:TYC Launch Schedule
END:VEVENT
BEGIN:VEVENT
DTSTART;TZID=America/New_York:20260917T110000
DTEND;TZID=America/New_York:20260917T190000
DTSTAMP:20260424T111326
CREATED:20260421T010040Z
LAST-MODIFIED:20260421T010040Z
UID:10039733-1789642800-1789671600@thamesyc.org
SUMMARY:Launch Hours
DESCRIPTION:
URL:https://thamesyc.org/event/launch-hours-171/
CATEGORIES:TYC Launch Schedule
END:VEVENT
BEGIN:VEVENT
DTSTART;TZID=America/New_York:20260918T110000
DTEND;TZID=America/New_York:20260918T190000
DTSTAMP:20260424T111326
CREATED:20260421T010118Z
LAST-MODIFIED:20260421T010118Z
UID:10039734-1789729200-1789758000@thamesyc.org
SUMMARY:Launch Hours
DESCRIPTION:
URL:https://thamesyc.org/event/launch-hours-172/
CATEGORIES:TYC Launch Schedule
END:VEVENT
BEGIN:VEVENT
DTSTART;TZID=America/New_York:20260919T100000
DTEND;TZID=America/New_York:20260919T200000
DTSTAMP:20260424T111326
CREATED:20260421T010157Z
LAST-MODIFIED:20260421T010157Z
UID:10039735-1789812000-1789848000@thamesyc.org
SUMMARY:Launch Hours
DESCRIPTION:
URL:https://thamesyc.org/event/launch-hours-173/
CATEGORIES:TYC Launch Schedule
END:VEVENT
END:VCALENDAR